Workbook

Sheet Nädal_45
A1: #VALUE! | C1: #VALUE!
A6: Koolilõuna menüü
A7: 45. nädal | B7: 02.11-06.11.2026 | D7: 4-9.klass | J7: 10-12.klass
A8: Esmaspäev | B8: Lõunasöök | C8: Koostisosad | D8: Kogus, g | E8: Energia, kcal | F8: Süsivesikud, g | G8: Rasvad, g | H8: Valgud, g | J8: Kogus, g | K8: Energia, kcal | L8: Süsivesikud, g | M8: Rasvad, g | N8: Valgud, g
B9: Kana-karrikaste (L) | C9: Kanailiha, mugulsibul, maisitärklis, värske petersell, toidukoor, karripulber (koriander, kurkum, põld-lambalääts, Cayenne`i pipar, apteegitill, vürtsköömen, must pipar), must pipar, söögisool, vesi, toiduõli | D9: 120 | E9: 130 | F9: 3.17 | G9: 8.75 | H9: 9.52 | J9: 140 | K9: =J9*E9/D9 -> 151.66667 | L9: =K9*F9/E9 -> 3.6983333 | M9: =L9*G9/F9 -> 10.208333 | N9: =M9*H9/G9 -> 11.106667
A10: Taimetoit | B10: Kikerhernekarri (L) | C10: Kikerherned, mugulsibul, küüslauk, tšillipipar, tomat, jahvatatud paprika, vürtsköömned, koriandriseemned, must pipar, söögisool, kurkum, kookosjook, vesi, toiduõli | D10: 120 | E10: 95.4 | F10: 7.68 | G10: 4.56 | H10: 3.18 | J10: 140 | K10: =J10*E10/D10 -> 111.3 | L10: =K10*F10/E10 -> 8.96 | M10: =L10*G10/F10 -> 5.32 | N10: =M10*H10/G10 -> 3.71
B11: Täisterapasta/pasta (G) (mahe) | C11: Täisterapasta/pasta (durumnisu jahu, vesi), vesi, söögisool | D11: 60 | E11: 102.939 | F11: 21.3942 | G11: 0.807 | H11: 3.4062 | J11: 100 | K11: =J11*E11/D11 -> 171.565 | L11: =K11*F11/E11 -> 35.657 | M11: =L11*G11/F11 -> 1.345 | N11: =M11*H11/G11 -> 5.677
B12: Tatar, aurutatud | C12: Tatar, vesi, söögisool | D12: 60 | E12: 92.52 | F12: 16.2 | G12: 2.8452 | H12: 1.3662 | J12: 100 | K12: =J12*E12/D12 -> 154.2 | L12: =K12*F12/E12 -> 27 | M12: =L12*G12/F12 -> 4.742 | N12: =M12*H12/G12 -> 2.277
B13: Porgand, aurutatud | D13: 50 | E13: 17.2365 | F13: 4.522 | G13: 0.1065 | H13: 0.319 | J13: 100 | K13: =J13*E13/D13 -> 34.473 | L13: =K13*F13/E13 -> 9.044 | M13: =L13*G13/F13 -> 0.213 | N13: =M13*H13/G13 -> 0.638
B14: Külm jogurtikaste (L) | C14: Maitsestamata jogurt, söögisool, suhkur, till | D14: 10 | E14: 4.1117 | F14: 0.5458 | G14: 0.0491 | H14: 0.38 | J14: 50 | K14: =J14*E14/D14 -> 20.5585 | L14: =K14*F14/E14 -> 2.729 | M14: =L14*G14/F14 -> 0.2455 | N14: =M14*H14/G14 -> 1.9
B15: Peedi-küüslaugusalat | C15: Peet, küüslauk | D15: 50 | E15: 20.9 | F15: 4.7975 | G15: 0.0985 | H15: 0.8555 | J15: 100 | K15: =J15*E15/D15 -> 41.8 | L15: =K15*F15/E15 -> 9.595 | M15: =L15*G15/F15 -> 0.197 | N15: =M15*H15/G15 -> 1.711
B16: Hiina kapsas, tomat, redis (mahe) | D16: 100 | E16: 16.9 | F16: 2.3 | G16: 0.167 | H16: 0.867 | J16: 100 | K16: =J16*E16/D16 -> 16.9 | L16: =K16*F16/E16 -> 2.3 | M16: =L16*G16/F16 -> 0.167 | N16: =M16*H16/G16 -> 0.867
B17: Seemnesegu (mahe) | C17: Kõrvitsaseemned, päevalilleseemned, seesamiseemned | D17: 15 | E17: 91.31505 | F17: 1.92 | G17: 7.73505 | H17: 4.23495 | J17: 10 | K17: =J17*E17/D17 -> 60.8767 | L17: =K17*F17/E17 -> 1.28 | M17: =L17*G17/F17 -> 5.1567 | N17: =M17*H17/G17 -> 2.8233
A18: PRIA | B18: Piimatooted (piim, keefir R 2,5% ) (L) | D18: 50 | E18: 28.195 | F18: 2.4375 | G18: 1.285 | H18: 1.72 | J18: 50 | K18: =J18*E18/D18 -> 28.195 | L18: =K18*F18/E18 -> 2.4375 | M18: =L18*G18/F18 -> 1.285 | N18: =M18*H18/G18 -> 1.72
B19: Joogijogurt, maitsestatud (L) | C19: Maitsestamata jogurt, naturaalne marjapüree (maasikas, vaarikas, mustad sõstrad, punased sõstrad, mustikas), suhkur | D19: 50 | E19: 37.373 | F19: 6.0615 | G19: 0.75 | H19: 1.6 | J19: 50 | K19: =J19*E19/D19 -> 37.373 | L19: =K19*F19/E19 -> 6.0615 | M19: =L19*G19/F19 -> 0.75 | N19: =M19*H19/G19 -> 1.6
B20: Tee, suhkruta | C20: Teepuru, vesi | D20: 50 | E20: 0.2 | F20: 0 | G20: 0 | H20: 0.05 | J20: 50 | K20: =J20*E20/D20 -> 0.2 | L20: =K20*F20/E20 -> 0 | M20: 0 | N20: 0.05
B21: Rukkileiva (3 sorti) - ja sepikutoodete valik (G) | D21: 50 | E21: 123.1 | F21: 26.15 | G21: 1 | H21: 3.575 | J21: 30 | K21: =J21*E21/D21 -> 73.86 | L21: =K21*F21/E21 -> 15.69 | M21: =L21*G21/F21 -> 0.6 | N21: =M21*H21/G21 -> 2.145
B22: Nuikapsas | D22: 50 | E22: 12.1 | F22: 2.1 | G22: 0.1 | H22: 0.25 | J22: 50 | K22: =J22*E22/D22 -> 12.1 | L22: =K22*F22/E22 -> 2.1 | M22: =L22*G22/F22 -> 0.1 | N22: =M22*H22/G22 -> 0.25
B23: Pirn | D23: 50 | E23: 19.988 | F23: 5.97 | G23: 0 | H23: 0.15 | J23: 50 | K23: =J23*E23/D23 -> 19.988 | L23: =K23*F23/E23 -> 5.97 | M23: =L23*G23/F23 -> 0 | N23: 0.15
C24: Kokku: | E24: =SUM(E9,E11:E23) -> 696.87825 | F24: =SUM(F9,F11:F23) -> 97.5685 | G24: =SUM(G9,G11:G23) -> 23.69335 | H24: =SUM(H9,H11:H23) -> 28.29385 | K24: =SUM(K9,K11:K23) -> 823.75587 | L24: =SUM(L9,L11:L23) -> 123.56233 | M24: =SUM(M9,M11:M23) -> 25.009533 | N24: =SUM(N9,N11:N23) -> 32.914967
A25: Teisipäev | B25: Lõunasöök | C25: Koostisosad | D25: Kogus, g | E25: Energia, kcal | F25: Süsivesikud, g | G25: Rasvad, g | H25: Valgud, g | J25: Kogus, g | K25: Energia, kcal | L25: Süsivesikud, g | M25: Rasvad, g | N25: Valgud, g
B26: Värskekapsaborš sealihaga | C26: Peet, kartul, porgand, peakapsas, pastinaak, mugulsibul, tomatipasta, puljong liha kontidest, toiduõli,sealiha, loorber, söögisool, must pipar, sidrunimahl, petersell | D26: 200 | E26: 140 | F26: 9.2 | G26: 8.4 | H26: 5.48 | J26: 300 | K26: =J26*E26/D26 -> 210 | L26: =K26*F26/E26 -> 13.8 | M26: =L26*G26/F26 -> 12.6 | N26: =M26*H26/G26 -> 8.22
A27: Taimetoit | B27: Värskekapsaborš punaste ubadega | C27: Peet, kartul, porgand, peakapsas, pastinaak, punased oad, mugulsibul, tomatipasta, vesi, toiduõli, loorber, söögisool, must pipar, sidrunimahl, petersell | D27: 200 | E27: 103.2 | F27: 16.96 | G27: 0.432 | H27: 5.2 | J27: 300 | K27: =J27*E27/D27 -> 154.8 | L27: =K27*F27/E27 -> 25.44 | M27: =L27*G27/F27 -> 0.648 | N27: =M27*H27/G27 -> 7.8
B28: Hapukoor R 20% (L) | D28: 30 | E28: 66.5 | F28: 1.14 | G28: 6.44 | H28: 0.99 | J28: 30 | K28: =J28*E28/D28 -> 66.5 | L28: =K28*F28/E28 -> 1.14 | M28: =L28*G28/F28 -> 6.44 | N28: =M28*H28/G28 -> 0.99
B29: Marja-mannavaht mustsõstra kastmega (G) | C29: Mustikas, nisumanna, suhkur, vesi, vanillisuhkur, söögisool, mustad sõstrad | D29: 100 | E29: 79.4 | F29: 17.7 | G29: 0.238 | H29: 0.829 | J29: 100 | K29: =J29*E29/D29 -> 79.4 | L29: =K29*F29/E29 -> 17.7 | M29: =L29*G29/F29 -> 0.238 | N29: =M29*H29/G29 -> 0.829
B30: Maasika-kohupiimakreem (L) | C30: Maitsestamata kohupiim, maitsestamata jogurt, vahukoor, suhkur, maasikas | D30: 100 | E30: 144 | F30: 12.2 | G30: 8.34 | H30: 4.9 | J30: 100 | K30: =J30*E30/D30 -> 144 | L30: =K30*F30/E30 -> 12.2 | M30: =L30*G30/F30 -> 8.34 | N30: =M30*H30/G30 -> 4.9
A31: PRIA | B31: Piimatooted (piim, keefir R 2,5% ) (L) | D31: 50 | E31: 28.195 | F31: 2.4375 | G31: 1.285 | H31: 1.72 | J31: 50 | K31: =J31*E31/D31 -> 28.195 | L31: =K31*F31/E31 -> 2.4375 | M31: =L31*G31/F31 -> 1.285 | N31: =M31*H31/G31 -> 1.72
B32: Mahl (erinevad maitsed) | C32: Rõngu suhkruvaba mahlakonsentraat 100% naturaalne, vesi | D32: 50 | E32: 24.2644 | F32: 5.891 | G32: 0.025 | H32: 0.1815 | J32: 50 | K32: =J32*E32/D32 -> 24.2644 | L32: =K32*F32/E32 -> 5.891 | M32: =L32*G32/F32 -> 0.025 | N32: =M32*H32/G32 -> 0.1815
B33: Joogijogurt, maitsestatud (L) | C33: Maitsestamata jogurt, naturaalne marjapüree (maasikas, vaarikas, mustad sõstrad, punased sõstrad, mustikas), suhkur | D33: 50 | E33: 37.373 | F33: 6.0615 | G33: 0.75 | H33: 1.6 | J33: 50 | K33: =J33*E33/D33 -> 37.373 | L33: =K33*F33/E33 -> 6.0615 | M33: =L33*G33/F33 -> 0.75 | N33: =M33*H33/G33 -> 1.6
B34: Tee, suhkruta | C34: Teepuru, vesi | D34: 50 | E34: 0.2 | F34: 0 | G34: 0 | H34: 0.05 | J34: 50 | K34: =J34*E34/D34 -> 0.2 | L34: =K34*F34/E34 -> 0 | M34: 0 | N34: 0.05
B35: Rukkileiva (3 sorti) - ja sepikutoodete valik (G) | D35: 50 | E35: 123.1 | F35: 26.15 | G35: 1 | H35: 3.575 | J35: 30 | K35: =J35*E35/D35 -> 73.86 | L35: =K35*F35/E35 -> 15.69 | M35: =L35*G35/F35 -> 0.6 | N35: =M35*H35/G35 -> 2.145
B36: Porgand | D36: 50 | E36: 16.2 | F36: 2.8 | G36: 0.1 | H36: 0.3 | J36: 50 | K36: =J36*E36/D36 -> 16.2 | L36: =K36*F36/E36 -> 2.8 | M36: =L36*G36/F36 -> 0.1 | N36: =M36*H36/G36 -> 0.3
B37: Õun (mahe) | D37: 50 | E37: 24.038 | F37: 6.74 | G37: 0 | H37: 0 | J37: 50 | K37: =J37*E37/D37 -> 24.038 | L37: =K37*F37/E37 -> 6.74 | M37: =L37*G37/F37 -> 0 | N37: 0
C38: Kokku: | E38: =SUM(E26,E28:E37) -> 683.2704 | F38: =SUM(F26,F28:F37) -> 90.32 | G38: =SUM(G26,G28:G37) -> 26.578 | H38: =SUM(H26,H28:H37) -> 19.6255 | K38: =SUM(K26,K28:K37) -> 704.0304 | L38: =SUM(L26,L28:L37) -> 84.46 | M38: =SUM(M26,M28:M37) -> 30.378 | N38: =SUM(N26,N28:N37) -> 20.9355
A39: Kolmapäev | B39: Lõunasöök | C39: Koostisosad | D39: Kogus, g | E39: Energia, kcal | F39: Süsivesikud, g | G39: Rasvad, g | H39: Valgud, g | J39: Kogus, g | K39: Energia, kcal | L39: Süsivesikud, g | M39: Rasvad, g | N39: Valgud, g
B40: Lõhetükid koorekastmes (G, L) | C40: Lõhe, must pipar, söögisool, värske till, toiduõli, nisujahu, piim, toidukoor | D40: 120 | E40: 231 | F40: 6.43 | G40: 15.9 | H40: 15.6 | J40: 140 | K40: =J40*E40/D40 -> 269.5 | L40: =K40*F40/E40 -> 7.5016667 | M40: =L40*G40/F40 -> 18.55 | N40: =M40*H40/G40 -> 18.2
A41: Taimetoit | B41: Juurviljastrooganov (G, L) | C41: Kaalikas, juurseller, mugulsibul, pastinaak, porgand, nisujahu, tomatipüree, toiduõli, hapukoor , vesi, söögisool | D41: 120 | E41: 131.76 | F41: 9.096 | G41: 9.024 | H41: 2.256 | J41: 140 | K41: =J41*E41/D41 -> 153.72 | L41: =K41*F41/E41 -> 10.612 | M41: =L41*G41/F41 -> 10.528 | N41: =M41*H41/G41 -> 2.632
B42: Riis, aurutatud (mahe) | C42: Riis, vesi, söögisool | D42: 60 | E42: 94.6212 | F42: 16.1256 | G42: 2.8452 | H42: 1.3662 | J42: 100 | K42: =J42*E42/D42 -> 157.702 | L42: =K42*F42/E42 -> 26.876 | M42: =L42*G42/F42 -> 4.742 | N42: =M42*H42/G42 -> 2.277
B43: Kartul, aurutatud (mahe) | D43: 60 | E43: 43.5 | F43: 9.3 | G43: 0 | H43: 1.14 | J43: 100 | K43: =J43*E43/D43 -> 72.5 | L43: =K43*F43/E43 -> 15.5 | M43: =L43*G43/F43 -> 0 | N43: =H43*J43/D43 -> 1.9
B44: Ahjuköögiviljad | C44: Kaalikas, bataat, pastinaak, porgand, paprika, mugulsibul, kuivatatud roosmariin, toiduõli | D44: 50 | E44: 35.3 | F44: 5.53 | G44: 0.73 | H44: 0.72 | J44: 100 | K44: =J44*E44/D44 -> 70.6 | L44: =K44*F44/E44 -> 11.06 | M44: =L44*G44/F44 -> 1.46 | N44: =M44*H44/G44 -> 1.44
B45: Külm küüslaugu-jogurtikaste (L) | C45: Maitsestamata jogurt, sidrunimahl, suhkur, küüslauk, söögisool | D45: 10 | E45: 8.33 | F45: 0.58 | G45: 0.48 | H45: 0.41 | J45: 100 | K45: =J45*E45/D45 -> 83.3 | L45: =K45*F45/E45 -> 5.8 | M45: =L45*G45/F45 -> 4.8 | N45: =M45*H45/G45 -> 4.1
B46: Mahla-õlikaste | C46: Õunamahl 100% naturaalne, õunaäädikas, sinepipulber, söögisool, petersell, värske, toiduõli | D46: 5 | E46: 32.1894 | F46: 0.09705 | G46: 3.53055 | H46: 0.01355 | J46: 5 | K46: =J46*E46/D46 -> 32.1894 | L46: =K46*F46/E46 -> 0.09705 | M46: =L46*G46/F46 -> 3.53055 | N46: =M46*H46/G46 -> 0.01355
B47: Porgandi-melonisalat | C47: Porgand, melon, toiduõli | D47: 50 | E47: 24.078 | F47: 3.843 | G47: 1.084 | H47: 0.294 | J47: 100 | K47: =J47*E47/D47 -> 48.156 | L47: =K47*F47/E47 -> 7.686 | M47: =L47*G47/F47 -> 2.168 | N47: =M47*H47/G47 -> 0.588
B48: Kapsas (mahe), peet, roheline hernes | C48: Kapsas (mahe), peet, vesi, söögisool | D48: 100 | E48: 53.3 | F48: 7.55 | G48: 0.3 | H48: 3.06 | J48: 100 | K48: =J48*E48/D48 -> 53.3 | L48: =K48*F48/E48 -> 7.55 | M48: =L48*G48/F48 -> 0.3 | N48: =M48*H48/G48 -> 3.06
B49: Seemnesegu (mahe) | C49: Kõrvitsaseemned, päevalilleseemned, seesamiseemned | D49: 15 | E49: 91.31505 | F49: 1.92 | G49: 7.73505 | H49: 4.23495 | J49: 15 | K49: =J49*E49/D49 -> 91.31505 | L49: =K49*F49/E49 -> 1.92 | M49: =L49*G49/F49 -> 7.73505 | N49: =M49*H49/G49 -> 4.23495
A50: PRIA | B50: Piimatooted (piim, keefir R 2,5% ) (L) | D50: 50 | E50: 28.195 | F50: 2.4375 | G50: 1.285 | H50: 1.72 | J50: 50 | K50: =J50*E50/D50 -> 28.195 | L50: =K50*F50/E50 -> 2.4375 | M50: =L50*G50/F50 -> 1.285 | N50: =M50*H50/G50 -> 1.72
B51: Joogijogurt, maitsestatud (L) | C51: Maitsestamata jogurt, naturaalne marjapüree (maasikas, vaarikas, mustad sõstrad, punased sõstrad, mustikas), suhkur | D51: 25 | E51: 18.6865 | F51: 3.03075 | G51: 0.375 | H51: 0.8 | J51: 50 | K51: =J51*E51/D51 -> 37.373 | L51: =K51*F51/E51 -> 6.0615 | M51: =L51*G51/F51 -> 0.75 | N51: =M51*H51/G51 -> 1.6
B52: Tee, suhkruta | C52: Teepuru, vesi | D52: 50 | E52: 0.2 | F52: 0 | G52: 0 | H52: 0.05 | J52: 50 | K52: =J52*E52/D52 -> 0.2 | L52: =K52*F52/E52 -> 0 | M52: 0 | N52: 0.05
B53: Rukkileiva (3 sorti) - ja sepikutoodete valik (G) | C53: Rukkileiva, vesi, söögisool | D53: 50 | E53: 123.1 | F53: 26.15 | G53: 1 | H53: 3.575 | J53: 30 | K53: =J53*E53/D53 -> 73.86 | L53: =K53*F53/E53 -> 15.69 | M53: =L53*G53/F53 -> 0.6 | N53: =M53*H53/G53 -> 2.145
B54: Valge redis | D54: 50 | E54: 9.45 | F54: 1.45 | G54: 0.05 | H54: 0.4 | J54: 50 | K54: =J54*E54/D54 -> 9.45 | L54: =K54*F54/E54 -> 1.45 | M54: =L54*G54/F54 -> 0.05 | N54: =M54*H54/G54 -> 0.4
B55: Pirn | D55: 50 | E55: 19.988 | F55: 5.97 | G55: 0 | H55: 0.15 | J55: 50 | K55: =J55*E55/D55 -> 19.988 | L55: =K55*F55/E55 -> 5.97 | M55: =L55*G55/F55 -> 0 | N55: 0.15
C56: Kokku: | E56: =SUM(E40,E42:E55) -> 813.25315 | F56: =SUM(F40,F42:F55) -> 90.4139 | G56: =SUM(G40,G42:G55) -> 35.3148 | H56: =SUM(H40,H42:H55) -> 33.5337 | K56: =SUM(K40,K42:K55) -> 1047.6285 | L56: =SUM(L40,L42:L55) -> 115.59972 | M56: =SUM(M40,M42:M55) -> 45.9706 | N56: =SUM(N40,N42:N55) -> 41.8785
A57: Neljapäev | B57: Lõunasöök | C57: Koostisosad | D57: Kogus, g | E57: Energia, kcal | F57: Süsivesikud, g | G57: Rasvad, g | H57: Valgud, g | J57: Kogus, g | K57: Energia, kcal | L57: Süsivesikud, g | M57: Rasvad, g | N57: Valgud, g
B58: Kodune seljanka (G) | C58: Veiseliha, sealiha, keedusink, hapukurk (söögisool, vesi, till), kartul, porgand, mugulsibul, tomatipüree, toiduõli, söögisool, vesi, värske petersell | D58: 200 | E58: 155 | F58: 9.33 | G58: 8.61 | H58: 9.31 | J58: 300 | K58: =J58*E58/D58 -> 232.5 | L58: =K58*F58/E58 -> 13.995 | M58: =L58*G58/F58 -> 12.915 | N58: =M58*H58/G58 -> 13.965
A59: Taimetoit | B59: Seeneseljanka | C59: Kartul, šampinjonid, mugulsibul, hapukurk, tomatipüree, toiduõli, söögisool, must pipar, vesi | D59: 200 | E59: 87.2 | F59: 13.76 | G59: 2.088 | H59: 2.284 | J59: 300 | K59: =J59*E59/D59 -> 130.8 | L59: =K59*F59/E59 -> 20.64 | M59: =L59*G59/F59 -> 3.132 | N59: =M59*H59/G59 -> 3.426
B60: Hapukoor R 20% (L) | D60: 30 | E60: 66.5 | F60: 1.14 | G60: 6.44 | H60: 0.99 | J60: 30 | K60: =J60*E60/D60 -> 66.5 | L60: =K60*F60/E60 -> 1.14 | M60: =L60*G60/F60 -> 6.44 | N60: =M60*H60/G60 -> 0.99
B61: Marjasmuuti (L) | C61: Marjad, banaan, keefir | D61: 100 | E61: 57.4 | F61: 6.35 | G61: 2.1 | H61: 3.03 | J61: 100 | K61: =J61*E61/D61 -> 57.4 | L61: =K61*F61/E61 -> 6.35 | M61: =L61*G61/F61 -> 2.1 | N61: =M61*H61/G61 -> 3.03
B62: Pannkook moosiga (G, L, M) | C62: Nisujahu, kanamuna, toiduõli, suhkur, söögisool, vanillisuhkur, piim, marjad | D62: 100 | E62: 241 | F62: 32.5 | G62: 9.31 | H62: 6.13 | J62: 100 | K62: =J62*E62/D62 -> 241 | L62: =K62*F62/E62 -> 32.5 | M62: =L62*G62/F62 -> 9.31 | N62: =M62*H62/G62 -> 6.13
A63: PRIA | B63: Piimatooted (piim, keefir R 2,5% ) (L) | D63: 50 | E63: 28.195 | F63: 2.4375 | G63: 1.285 | H63: 1.72 | J63: 50 | K63: =J63*E63/D63 -> 28.195 | L63: =K63*F63/E63 -> 2.4375 | M63: =L63*G63/F63 -> 1.285 | N63: =M63*H63/G63 -> 1.72
B64: Joogijogurt, maitsestatud (L) | C64: Maitsestamata jogurt, naturaalne marjapüree (maasikas, vaarikas, mustad sõstrad, punased sõstrad, mustikas), suhkur | D64: 50 | E64: 37.373 | F64: 6.0615 | G64: 0.75 | H64: 1.6 | J64: 50 | K64: =J64*E64/D64 -> 37.373 | L64: =K64*F64/E64 -> 6.0615 | M64: =L64*G64/F64 -> 0.75 | N64: =M64*H64/G64 -> 1.6
B65: Tee, suhkruta | C65: Teepuru, vesi | D65: 50 | E65: 0.2 | F65: 0 | G65: 0 | H65: 0.05 | J65: 50 | K65: =J65*E65/D65 -> 0.2 | L65: =K65*F65/E65 -> 0 | M65: 0 | N65: 0.05
B66: Rukkileiva (3 sorti) - ja sepikutoodete valik (G) | D66: 50 | E66: 123.1 | F66: 26.15 | G66: 1 | H66: 3.575 | J66: 30 | K66: =J66*E66/D66 -> 73.86 | L66: =K66*F66/E66 -> 15.69 | M66: =L66*G66/F66 -> 0.6 | N66: =M66*H66/G66 -> 2.145
B67: Porgand | D67: 50 | E67: 16.2 | F67: 2.8 | G67: 0.1 | H67: 0.3 | J67: 50 | K67: =J67*E67/D67 -> 16.2 | L67: =K67*F67/E67 -> 2.8 | M67: =L67*G67/F67 -> 0.1 | N67: =M67*H67/G67 -> 0.3
B68: Õun (mahe) | D68: 50 | E68: 24.038 | F68: 6.74 | G68: 0 | H68: 0 | J68: 50 | K68: =J68*E68/D68 -> 24.038 | L68: =K68*F68/E68 -> 6.74 | M68: =L68*G68/F68 -> 0 | N68: 0
C69: Kokku: | E69: =SUM(E58,E60:E68) -> 749.006 | F69: =SUM(F58,F60:F68) -> 93.509 | G69: =SUM(G58,G60:G68) -> 29.595 | H69: =SUM(H58,H60:H68) -> 26.705 | K69: =SUM(K58,K60:K68) -> 777.266 | L69: =SUM(L58,L60:L68) -> 87.714 | M69: =SUM(M58,M60:M68) -> 33.5 | N69: =SUM(N58,N60:N68) -> 29.93
A70: Reede | B70: Lõunasöök | C70: Koostisosad | D70: Kogus, g | E70: Energia, kcal | F70: Süsivesikud, g | G70: Rasvad, g | H70: Valgud, g | J70: Kogus, g | K70: Energia, kcal | L70: Süsivesikud, g | M70: Rasvad, g | N70: Valgud, g
B71: Tex-mex veisehakklihakaste | C71: Veisehakkliha, punased oad, mais, mugulsibul, porgand, tomatipasta, toiduõli, vesi, tex-mex maitseaimesegu (küüslauk, söögisool, must pipar, petersell | D71: 120 | E71: 109.32 | F71: 5.62 | G71: 7.16 | H71: 4.6 | J71: 140 | K71: =J71*E71/D71 -> 127.54 | L71: =K71*F71/E71 -> 6.5566667 | M71: =L71*G71/F71 -> 8.3533333 | N71: =M71*H71/G71 -> 5.3666667
A72: Taimetoit | B72: Tex-mex kaste hakksojaga | C72: Purustatud tomat, hakksoja (sojajahu) punased oad, mais, mugulsibul, küüslauk, porgand, tomatipasta, vesi, toiduõli, Tex-mex maitseainetesegu (jahvatatud parika, tšillipipar, vürtsköömen, küüslaugupulber, sibulapulber, kuivatatud pune, must pipar, suhkur), söögisool, petersell | D72: 120 | E72: 87.96 | F72: 6.64 | G72: 4.12 | H72: 4.64 | J72: 140 | K72: =J72*E72/D72 -> 102.62 | L72: =K72*F72/E72 -> 7.7466667 | M72: =L72*G72/F72 -> 4.8066667 | N72: =M72*H72/G72 -> 5.4133333
B73: Täisterapasta/pasta (G) (mahe) | C73: Täisterapasta/pasta ( durumnisujahu, vesi), vesi, söögisool | D73: 60 | E73: 102.939 | F73: 21.3942 | G73: 0.807 | H73: 3.4062 | J73: 100 | K73: =J73*E73/D73 -> 171.565 | L73: =K73*F73/E73 -> 35.657 | M73: =L73*G73/F73 -> 1.345 | N73: =M73*H73/G73 -> 5.677
B74: Riis, aurutatud | C74: Riis, vesi, söögisool | D74: 60 | E74: 94.6212 | F74: 16.1256 | G74: 2.8452 | H74: 1.3662 | J74: 100 | K74: =J74*E74/D74 -> 157.702 | L74: =K74*F74/E74 -> 26.876 | M74: =L74*G74/F74 -> 4.742 | N74: =M74*H74/G74 -> 2.277
B75: Peet, röstitud | C75: Peet, toiduõli, tüümian, värske | D75: 50 | E75: 30.42 | F75: 6.2535 | G75: 0.5615 | H75: 0.8415 | J75: 100 | K75: =J75*E75/D75 -> 60.84 | L75: =K75*F75/E75 -> 12.507 | M75: =L75*G75/F75 -> 1.123 | N75: =M75*H75/G75 -> 1.683
B76: Mahla-õlikaste | C76: Õunamahl 100% naturaalne, õunaäädikas, sinepipulber, söögisool, petersell, värske, toiduõli | D76: 5 | E76: 32.1894 | F76: 0.09705 | G76: 3.53055 | H76: 0.01355 | J76: 10 | K76: =J76*E76/D76 -> 64.3788 | L76: =K76*F76/E76 -> 0.1941 | M76: =L76*G76/F76 -> 7.0611 | N76: =M76*H76/G76 -> 0.0271
B77: Kapsa-virsikusalat | C77: Valge/punane peakapsas, virsik | D77: 50 | E77: 16.1 | F77: 2.56 | G77: 0.09 | H77: 0.72 | J77: 50 | K77: =J77*E77/D77 -> 16.1 | L77: =K77*F77/E77 -> 2.56 | M77: =L77*G77/F77 -> 0.09 | N77: =M77*H77/G77 -> 0.72
B78: Porgand, paprika, porrulauk (mahe kapsas) | D78: 100 | E78: 27.7 | F78: 4.03 | G78: 0.2 | H78: 1.13 | J78: 100 | K78: =J78*E78/D78 -> 27.7 | L78: =K78*F78/E78 -> 4.03 | M78: =L78*G78/F78 -> 0.2 | N78: =M78*H78/G78 -> 1.13
B79: Seemnesegu (mahe) | C79: Kõrvitsaseemned, päevalilleseemned, seesamiseemned | D79: 15 | E79: 91.31505 | F79: 1.92 | G79: 7.73505 | H79: 4.23495 | J79: 10 | K79: =J79*E79/D79 -> 60.8767 | L79: =K79*F79/E79 -> 1.28 | M79: =L79*G79/F79 -> 5.1567 | N79: =M79*H79/G79 -> 2.8233
A80: PRIA | B80: Piimatooted (piim, keefir R 2,5% ) (L) | D80: 50 | E80: 28.195 | F80: 2.4375 | G80: 1.285 | H80: 1.72 | J80: 50 | K80: =J80*E80/D80 -> 28.195 | L80: =K80*F80/E80 -> 2.4375 | M80: =L80*G80/F80 -> 1.285 | N80: =M80*H80/G80 -> 1.72
B81: Joogijogurt, maitsestatud (L) | C81: Maitsestamata jogurt, naturaalne marjapüree (maasikas, vaarikas, mustad sõstrad, punased sõstrad, mustikas), suhkur | D81: 50 | E81: 37.373 | F81: 6.0615 | G81: 0.75 | H81: 1.6 | J81: 50 | K81: =J81*E81/D81 -> 37.373 | L81: =K81*F81/E81 -> 6.0615 | M81: =L81*G81/F81 -> 0.75 | N81: =M81*H81/G81 -> 1.6
B82: Tee, suhkruta | C82: Teepuru, vesi | D82: 50 | E82: 0.2 | F82: 0 | G82: 0 | H82: 0.05 | J82: 50 | K82: =J82*E82/D82 -> 0.2 | L82: =K82*F82/E82 -> 0 | M82: 0 | N82: 0.05
B83: Rukkileiva (3 sorti) - ja sepikutoodete valik (G) | D83: 50 | E83: 123.1 | F83: 26.15 | G83: 1 | H83: 3.575 | J83: 30 | K83: =J83*E83/D83 -> 73.86 | L83: =K83*F83/E83 -> 15.69 | M83: =L83*G83/F83 -> 0.6 | N83: =M83*H83/G83 -> 2.145
B84: Valge redis | D84: 50 | E84: 9.45 | F84: 1.45 | G84: 0.05 | H84: 0.4 | J84: 50 | K84: =J84*E84/D84 -> 9.45 | L84: =K84*F84/E84 -> 1.45 | M84: =L84*G84/F84 -> 0.05 | N84: =M84*H84/G84 -> 0.4
B85: Õun (mahe) | D85: 50 | E85: 24.038 | F85: 6.74 | G85: 0 | H85: 0 | J85: 50 | K85: =J85*E85/D85 -> 24.038 | L85: =K85*F85/E85 -> 6.74 | M85: =L85*G85/F85 -> 0 | N85: 0
C86: Kokku: | E86: =SUM(E71:E85) -> 814.92065 | F86: =SUM(F71:F85) -> 107.47935 | G86: =SUM(G71:G85) -> 30.1343 | H86: =SUM(H71:H85) -> 28.2974 | K86: =SUM(K71:K85) -> 962.4385 | L86: =SUM(L71:L85) -> 129.78643 | M86: =SUM(M71:M85) -> 35.5628 | N86: =SUM(N71:N85) -> 31.0324
A87: NÄDALA KESKMINE KOKKU: | E87: =AVERAGE(E24,E38,E56,E69,E86) -> 751.46569 | F87: =AVERAGE(F24,F38,F56,F69,F86) -> 95.85815 | G87: =AVERAGE(G24,G38,G56,G69,G86) -> 29.06309 | H87: =AVERAGE(H24,H38,H56,H69,H86) -> 27.29109 | K87: =AVERAGE(K24,K38,K56,K69,K86) -> 863.02384 | L87: =AVERAGE(L24,L38,L56,L69,L86) -> 108.2245 | M87: =AVERAGE(M24,M38,M56,M69,M86) -> 34.084187 | N87: =AVERAGE(N24,N38,N56,N69,N86) -> 31.338273
C88: Põhitoitainetest saadava energia osakaal koguenergiast (%E) | F88: =(F87*4)/E87*100 -> 51.024632 | G88: =(G87*9)/E87*100 -> 34.807685 | H88: =(H87*4)/E87*100 -> 14.526859 | L88: =(L87*4)/K87*100 -> 50.160606 | M88: =(M87*9)/K87*100 -> 35.54452 | N88: =(N87*4)/K87*100 -> 14.52487
C89: Nõutud vahemik kahe nädala keskmisena | E89: 700-800 kcal | F89: 45-60%E | G89: 25-40%E | H89: 10-20%E | K89: 800-900 kcal | L89: 45-60%E | M89: 25-40%E | N89: 10-20%E
A90: Üldinfo menüü kohta
A91: Taimetoit võib sisaldada muna- ja piimatooteid
A92: Allergiat või toidutalumatust põhjustavate koostisosade kohta küsi lisainfot köögipersonalilt
A93: Joogivesi on igapäevaselt tasuta saadaval kogu päeva jooksul
A94: Menüü muudatused kooskõlastatakse kooliga vastavalt hankelepingule. Erandolukorras, kus muudatus on vältimatu (nt ootamatu tooraine puudus), teavitatakse kooli esimesel võimalusel ning tagatakse toidu toiteväärtuslikkus ja mitmekesisus
A95: Tähised menüüs
A96: G – sisaldab gluteeni | B96: L – sisaldab piimatooteid (sh laktoosi)
A97: M – sisaldab muna | B97: P – sisaldab pähkleid
A98: PT – portsjontoode | B98: VS-vähendatud suhkruga
A99: PRIA toetusprogrammid
A100: Koolipuuvilja ja - köögivilja ning koolipiima toetab osaliselt PRIA
A101: PRIA koolikava osalise toetusega pakutakse 1.–6. klassi õpilastele puu- ja köögivilju ning piima ja piimatooteid. 1.–9. klassi õpilastele piima ja piimatooteid.

Sheet Nädal_46
A1: #VALUE! | C1: #VALUE!
A6: Koolilõuna menüü
A7: 46. nädal | B7: 09.11-13.11.2026 | D7: 4-9.klass | J7: 10-12.klass
A8: Esmaspäev | B8: Lõunasöök | C8: Koostisosad | D8: Kogus, g | E8: Energia, kcal | F8: Süsivesikud, g | G8: Rasvad, g | H8: Valgud, g | J8: Kogus, g | K8: Energia, kcal | L8: Süsivesikud, g | M8: Rasvad, g | N8: Valgud, g
B9: Koorene kanakaste peterselliga (G, L) | C9: Kanaliha, piim, toidukoor, nisujahu, toiduõli, söögisool, must pipar, petersell | D9: 120 | E9: 155.4 | F9: 7.488 | G9: 9.132 | H9: 10.704 | J9: 140 | K9: =J9*E9/D9 -> 181.3 | L9: =K9*F9/E9 -> 8.736 | M9: =L9*G9/F9 -> 10.654 | N9: =M9*H9/G9 -> 12.488
A10: Taimetoit | B10: Stoovitud porgandid (G, L) | C10: Porgand, toidukoor, nisujahu, või, sidrunimahl, söögisool, suhkur, vesi | D10: 120 | E10: 82.8 | F10: 6.12 | G10: 5.58 | H10: 1.176 | J10: 140 | K10: =J10*E10/D10 -> 96.6 | L10: =K10*F10/E10 -> 7.14 | M10: =L10*G10/F10 -> 6.51 | N10: =M10*H10/G10 -> 1.372
B11: Tatar, aurutatud | C11: Tatar, vesi, söögisool | D11: 60 | E11: 92.52 | F11: 16.2 | G11: 1.5 | H11: 2.9 | J11: 100 | K11: =J11*E11/D11 -> 154.2 | L11: =K11*F11/E11 -> 27 | M11: =L11*G11/F11 -> 2.5 | N11: =M11*H11/G11 -> 4.8333333
B12: Kuskuss, aurutatud (G) | C12: Kuskuss, vesi, söögisool | D12: 60 | E12: 80.4 | F12: 16.32 | G12: 0 | H12: 2.48 | J12: 100 | K12: =J12*E12/D12 -> 134 | L12: =K12*F12/E12 -> 27.2 | M12: =L12*G12/F12 -> 0 | N12: =J12*H12/D12 -> 4.1333333
B13: Brokoli, aurutatud | D13: 50 | E13: 19.73 | F13: 3.05 | G13: 0.25 | H13: 2.05 | J13: 100 | K13: =J13*E13/D13 -> 39.46 | L13: =K13*F13/E13 -> 6.1 | M13: =L13*G13/F13 -> 0.5 | N13: =M13*H13/G13 -> 4.1
B14: Mahla-õlikaste | C14: Õunamahl 100% naturaalne, õunaäädikas, sinepipulber, söögisool, petersell, toiduõli | D14: 5 | E14: 32.1894 | F14: 0.09705 | G14: 3.53055 | H14: 0.01355 | J14: 10 | K14: =J14*E14/D14 -> 64.3788 | L14: =K14*F14/E14 -> 0.1941 | M14: =L14*G14/F14 -> 7.0611 | N14: =M14*H14/G14 -> 0.0271
B15: Peedi-rohelisesibulasalat (L) (mahe peet) | C15: Peet, rohelinesibul | D15: 50 | E15: 29.8 | F15: 4.14 | G15: 0.84 | H15: 0.92 | J15: 100 | K15: =J15*E15/D15 -> 59.6 | L15: =K15*F15/E15 -> 8.28 | M15: =L15*G15/F15 -> 1.68 | N15: =M15*H15/G15 -> 1.84
B16: Hiina kapsas, tomat, mais | D16: 100 | E16: 40.2 | F16: 5.68 | G16: 0.633 | H16: 1.7 | J16: 100 | K16: =J16*E16/D16 -> 40.2 | L16: =K16*F16/E16 -> 5.68 | M16: =L16*G16/F16 -> 0.633 | N16: =M16*H16/G16 -> 1.7
B17: Seemnesegu (mahe) | C17: Kõrvitsaseemned, päevalilleseemned, seesamiseemned | D17: 15 | E17: 91.31505 | F17: 1.92 | G17: 7.73505 | H17: 4.23495 | J17: 10 | K17: =J17*E17/D17 -> 60.8767 | L17: =K17*F17/E17 -> 1.28 | M17: =L17*G17/F17 -> 5.1567 | N17: =M17*H17/G17 -> 2.8233
A18: PRIA | B18: Piimatooted (piim, keefir R 2,5% ) (L) | D18: 50 | E18: 28.195 | F18: 2.4375 | G18: 1.285 | H18: 1.72 | J18: 50 | K18: =J18*E18/D18 -> 28.195 | L18: =K18*F18/E18 -> 2.4375 | M18: =L18*G18/F18 -> 1.285 | N18: =M18*H18/G18 -> 1.72
B19: Joogijogurt, maitsestatud (L) | C19: Maitsestamata jogurt, naturaalne marjapüree (maasikas, vaarikas, mustad sõstrad, punased sõstrad, mustikas), suhkur | D19: 25 | E19: 18.6865 | F19: 3.03075 | G19: 0.375 | H19: 0.8 | J19: 50 | K19: =J19*E19/D19 -> 37.373 | L19: =K19*F19/E19 -> 6.0615 | M19: =L19*G19/F19 -> 0.75 | N19: =M19*H19/G19 -> 1.6
B20: Tee, suhkruta | C20: Teepuru, vesi | D20: 50 | E20: 0.2 | F20: 0 | G20: 0 | H20: 0.05 | J20: 50 | K20: =J20*E20/D20 -> 0.2 | L20: =K20*F20/E20 -> 0 | M20: 0 | N20: 0.05
B21: Rukkileiva (3 sorti) - ja sepikutoodete valik (G) | D21: 50 | E21: 123.1 | F21: 26.15 | G21: 1 | H21: 3.575 | J21: 30 | K21: =J21*E21/D21 -> 73.86 | L21: =K21*F21/E21 -> 15.69 | M21: =L21*G21/F21 -> 0.6 | N21: =M21*H21/G21 -> 2.145
B22: Porgand | D22: 50 | E22: 16.2 | F22: 2.8 | G22: 0.1 | H22: 0.3 | J22: 50 | K22: =J22*E22/D22 -> 16.2 | L22: =K22*F22/E22 -> 2.8 | M22: =L22*G22/F22 -> 0.1 | N22: =M22*H22/G22 -> 0.3
B23: Pirn | D23: 50 | E23: 19.988 | F23: 5.97 | G23: 0 | H23: 0.15 | J23: 50 | K23: =J23*E23/D23 -> 19.988 | L23: =K23*F23/E23 -> 5.97 | M23: =L23*G23/F23 -> 0 | N23: 0.15
C24: Kokku: | E24: =SUM(E9,E11:E23) -> 747.92395 | F24: =SUM(F9,F11:F23) -> 95.2833 | G24: =SUM(G9,G11:G23) -> 26.3806 | H24: =SUM(H9,H11:H23) -> 31.5975 | K24: =SUM(K9,K11:K23) -> 909.8315 | L24: =SUM(L9,L11:L23) -> 117.4291 | M24: =SUM(M9,M11:M23) -> 30.9198 | N24: =SUM(N9,N11:N23) -> 37.910067
A25: Teisipäev | B25: Lõunasöök | C25: Koostisosad | D25: Kogus, g | E25: Energia, kcal | F25: Süsivesikud, g | G25: Rasvad, g | H25: Valgud, g | J25: Kogus, g | K25: Energia, kcal | L25: Süsivesikud, g | M25: Rasvad, g | N25: Valgud, g
B26: Hakkliha-suvikõrvitsapikkpoiss (M, PT) | C26: Segahakkliha (siga/veis), riivsai, kanamuna, mugulsibul, porgand, suvikõrvits, söögisool, must pipar | D26: 60 | E26: 88.68 | F26: 5.694 | G26: 4.38 | H26: 6.12 | J26: 70 | K26: =J26*E26/D26 -> 103.46 | L26: =K26*F26/E26 -> 6.643 | M26: =L26*G26/F26 -> 5.11 | N26: =M26*H26/G26 -> 7.14
A27: Taimetoit | B27: Tofukaste tomati ja paprikaga (L) | C27: Tofu, porgand, mugulsibul, paprika, tomatipasta, vesi, kohvikoor, toiduõli, söögisool, must pipar, basiilik, vesi, masitärklis, petersell | D27: 120 | E27: 72.6 | F27: 6.12 | G27: 3.63 | H27: 3.186 | J27: 140 | K27: =J27*E27/D27 -> 84.7 | L27: =K27*F27/E27 -> 7.14 | M27: =L27*G27/F27 -> 4.235 | N27: =M27*H27/G27 -> 3.717
B28: Riis, aurutatud | C28: Riis, vesi, söögisool | D28: 60 | E28: 77.25 | F28: 17.18 | G28: 0.16 | H28: 1.5 | J28: 100 | K28: =J28*E28/D28 -> 128.75 | L28: =K28*F28/E28 -> 28.633333 | M28: =L28*G28/F28 -> 0.26666667 | N28: =M28*H28/G28 -> 2.5
B29: Kartul, aurutatud | D29: 60 | E29: 43.5 | F29: 9.3 | G29: 0 | H29: 1.14 | J29: 100 | K29: =J29*E29/D29 -> 72.5 | L29: =K29*F29/E29 -> 15.5 | M29: =L29*G29/F29 -> 0 | N29: =J29*H29/D29 -> 1.9
B30: Rooskapsas, röstitud | C30: Rooskapsas, söögisool, toiduõli | D30: 100 | E30: 59 | F30: 3.36 | G30: 1.6 | H30: 5.4 | J30: 100 | K30: =J30*E30/D30 -> 59 | L30: =K30*F30/E30 -> 3.36 | M30: =L30*G30/F30 -> 1.6 | N30: =M30*H30/G30 -> 5.4
B31: Külm jogurtikaste maitserohelisega (L) | C31: Till, roheline sibul, maitsestamata jogurt | D31: 50 | E31: 28.4 | F31: 2.39 | G31: 1.33 | H31: 1.7 | J31: 50 | K31: =J31*E31/D31 -> 28.4 | L31: =K31*F31/E31 -> 2.39 | M31: =L31*G31/F31 -> 1.33 | N31: =M31*H31/G31 -> 1.7
B32: Mahla-õlikaste | C32: Õunamahl 100% naturaalne, õunaäädikas, sinepipulber, söögisool, petersell, värske, toiduõli | D32: 5 | E32: 32.1894 | F32: 0.09705 | G32: 3.53055 | H32: 0.01355 | J32: 10 | K32: =J32*E32/D32 -> 64.3788 | L32: =K32*F32/E32 -> 0.1941 | M32: =L32*G32/F32 -> 7.0611 | N32: =M32*H32/G32 -> 0.0271
B33: Brokoli ja porgand seesamiseemnetega | C33: Brokoli, porgand, salatikaste (sinep, mesi, toiduõli, õunaäädikas, söögisool, must pipar, suhkur), seesamiseemned | D33: 50 | E33: 52.8 | F33: 2.89 | G33: 3.43 | H33: 1.8 | J33: 50 | K33: =J33*E33/D33 -> 52.8 | L33: =K33*F33/E33 -> 2.89 | M33: =L33*G33/F33 -> 3.43 | N33: =M33*H33/G33 -> 1.8
B34: Salatisegu, roheline hernes, hapukurk | C34: Rooma salat, jääsalat, rukola, spinat, roheline hernes, hapukurk (kurk, söögisool, vesi) | D34: 100 | E34: 39.9 | F34: 4.23 | G34: 0.423 | H34: 3.04 | J34: 100 | K34: =J34*E34/D34 -> 39.9 | L34: =K34*F34/E34 -> 4.23 | M34: =L34*G34/F34 -> 0.423 | N34: =M34*H34/G34 -> 3.04
B35: Seemnesegu (mahe) | C35: Kõrvitsaseemned, päevalilleseemned, seesamiseemned | D35: 15 | E35: 91.31505 | F35: 1.92 | G35: 7.73505 | H35: 4.23495 | J35: 5 | K35: =J35*E35/D35 -> 30.43835 | L35: =K35*F35/E35 -> 0.64 | M35: =L35*G35/F35 -> 2.57835 | N35: =M35*H35/G35 -> 1.41165
B36: Piimatooted (piim, keefir R 2,5% ) (L) | D36: 50 | E36: 28.195 | F36: 2.4375 | G36: 1.285 | H36: 1.72 | J36: 50 | K36: =J36*E36/D36 -> 28.195 | L36: =K36*F36/E36 -> 2.4375 | M36: =L36*G36/F36 -> 1.285 | N36: =M36*H36/G36 -> 1.72
B37: Joogijogurt, maitsestatud (L) | C37: Maitsestamata jogurt, naturaalne marjapüree (maasikas, vaarikas, mustad sõstrad, punased sõstrad, mustikas), suhkur | D37: 25 | E37: 18.6865 | F37: 3.03075 | G37: 0.375 | H37: 0.8 | J37: 50 | K37: =J37*E37/D37 -> 37.373 | L37: =K37*F37/E37 -> 6.0615 | M37: =L37*G37/F37 -> 0.75 | N37: =M37*H37/G37 -> 1.6
B38: Tee, suhkruta | C38: Teepuru, vesi | D38: 50 | E38: 0.2 | F38: 0 | G38: 0 | H38: 0.05 | J38: 100 | K38: =J38*E38/D38 -> 0.4 | L38: =K38*F38/E38 -> 0 | M38: 0 | N38: 0.05
B39: Rukkileiva (3 sorti) - ja sepikutoodete valik (G) | D39: 50 | E39: 123.1 | F39: 26.15 | G39: 1 | H39: 3.575 | J39: 30 | K39: =J39*E39/D39 -> 73.86 | L39: =K39*F39/E39 -> 15.69 | M39: =L39*G39/F39 -> 0.6 | N39: =M39*H39/G39 -> 2.145
B40: Nuikapsas | D40: 50 | E40: 12.1 | F40: 2.1 | G40: 0.1 | H40: 0.25 | J40: 50 | K40: =J40*E40/D40 -> 12.1 | L40: =K40*F40/E40 -> 2.1 | M40: =L40*G40/F40 -> 0.1 | N40: =M40*H40/G40 -> 0.25
B41: Õun (mahe) | D41: 50 | E41: 24.038 | F41: 6.74 | G41: 0 | H41: 0 | J41: 50 | K41: =J41*E41/D41 -> 24.038 | L41: =K41*F41/E41 -> 6.74 | M41: =L41*G41/F41 -> 0 | N41: 0
C42: Kokku: | E42: =SUM(E26,E28:E41) -> 719.35395 | F42: =SUM(F26,F28:F41) -> 87.5193 | G42: =SUM(G26,G28:G41) -> 25.3486 | H42: =SUM(H26,H28:H41) -> 31.3435 | K42: =SUM(K26,K28:K41) -> 755.59315 | L42: =SUM(L26,L28:L41) -> 97.509433 | M42: =SUM(M26,M28:M41) -> 24.534117 | N42: =SUM(N26,N28:N41) -> 30.68375
A43: Kolmapäev | B43: Lõunasöök | C43: Koostisosad | D43: Kogus, g | E43: Energia, kcal | F43: Süsivesikud, g | G43: Rasvad, g | H43: Valgud, g | J43: Kogus, g | K43: Energia, kcal | L43: Süsivesikud, g | M43: Rasvad, g | N43: Valgud, g
B44: Selge kalasupp riisiga | C44: Tilaapia, kartul, porgand, mugulsibul, vesi, riis, toiduõli, söögisool, must pipar, loorber, till | D44: 200 | E44: 153 | F44: 13.3 | G44: 6.76 | H44: 8.76 | J44: 300 | K44: =J44*E44/D44 -> 229.5 | L44: =K44*F44/E44 -> 19.95 | M44: =L44*G44/F44 -> 10.14 | N44: =M44*H44/G44 -> 13.14
A45: Taimetoit | B45: Selge köögiviljasupp riivitud keedumunaga (M) | C45: Kartul, porgand, kaalikas, herned, mugulsibul, kanamuna, vesi, loorber, söögisool, must pipar, toiduõli, till | D45: 200 | E45: 146 | F45: 11.08 | G45: 8.32 | H45: 5.04 | J45: 300 | K45: =J45*E45/D45 -> 219 | L45: =K45*F45/E45 -> 16.62 | M45: =L45*G45/F45 -> 12.48 | N45: =M45*H45/G45 -> 7.56
B46: Kohupiimakreem mustikakisselliga (L, VS) | C46: Maitsestamat kohupiim, vahukoor, maitsestamata jogur, suhkur, vanillisuhkur, mustikas, vesi, kartulitärklis | D46: 100 | E46: 115.6 | F46: 14.438 | G46: 4.531 | H46: 4.025 | J46: 100 | K46: =J46*E46/D46 -> 115.6 | L46: =K46*F46/E46 -> 14.438 | M46: =L46*G46/F46 -> 4.531 | N46: =M46*H46/G46 -> 4.025
B47: Kakaojogurt kirssidega (L) | C47: Maitsestamata jogurt, kakaopulber, kirss, suhkur | D47: 100 | E47: 95.2 | F47: 15.9 | G47: 2.21 | H47: 2.75 | J47: 100 | K47: =J47*E47/D47 -> 95.2 | L47: =K47*F47/E47 -> 15.9 | M47: =L47*G47/F47 -> 2.21 | N47: =M47*H47/G47 -> 2.75
B48: Piimatooted (piim, keefir R 2,5% ) (L) (PRIA) | D48: 50 | E48: 28.195 | F48: 2.4375 | G48: 1.285 | H48: 1.72 | J48: 50 | K48: =J48*E48/D48 -> 28.195 | L48: =K48*F48/E48 -> 2.4375 | M48: =L48*G48/F48 -> 1.285 | N48: =M48*H48/G48 -> 1.72
B49: Joogijogurt, maitsestatud (L) | C49: Maitsestamata jogurt, naturaalne marjapüree (maasikas, vaarikas, mustad sõstrad, punased sõstrad, mustikas), suhkur | D49: 50 | E49: 37.373 | F49: 6.0615 | G49: 0.75 | H49: 1.6 | J49: 50 | K49: =J49*E49/D49 -> 37.373 | L49: =K49*F49/E49 -> 6.0615 | M49: =L49*G49/F49 -> 0.75 | N49: =M49*H49/G49 -> 1.6
B50: Mahl (erinevad maitsed) | C50: Rõngu suhkruvaba mahlakonsentraat 100% naturaalne, vesi | D50: 50 | E50: 24.2644 | F50: 5.891 | G50: 0.025 | H50: 0.1815 | J50: 50 | K50: =J50*E50/D50 -> 24.2644 | L50: =K50*F50/E50 -> 5.891 | M50: =L50*G50/F50 -> 0.025 | N50: =M50*H50/G50 -> 0.1815
B51: Tee, suhkruta | C51: Teepuru, vesi | D51: 50 | E51: 0.2 | F51: 0 | G51: 0 | H51: 0.05 | J51: 50 | K51: =J51*E51/D51 -> 0.2 | L51: =K51*F51/E51 -> 0 | M51: 0 | N51: 0.05
B52: Rukkileiva (3 sorti) - ja sepikutoodete valik (G) | D52: 50 | E52: 123.1 | F52: 26.15 | G52: 1 | H52: 3.575 | J52: 50 | K52: =J52*E52/D52 -> 123.1 | L52: =K52*F52/E52 -> 26.15 | M52: =L52*G52/F52 -> 1 | N52: =M52*H52/G52 -> 3.575
B53: Valge redis | D53: 50 | E53: 9.45 | F53: 1.45 | G53: 0.05 | H53: 0.4 | J53: 50 | K53: =J53*E53/D53 -> 9.45 | L53: =K53*F53/E53 -> 1.45 | M53: =L53*G53/F53 -> 0.05 | N53: =M53*H53/G53 -> 0.4
B54: Pirn | D54: 50 | E54: 19.988 | F54: 5.97 | G54: 0 | H54: 0.15 | J54: 50 | K54: =J54*E54/D54 -> 19.988 | L54: =K54*F54/E54 -> 5.97 | M54: =L54*G54/F54 -> 0 | N54: 0.15
C55: Kokku: | E55: =SUM(E44,E46:E54) -> 606.3704 | F55: =SUM(F44,F46:F54) -> 91.598 | G55: =SUM(G44,G46:G54) -> 16.611 | H55: =SUM(H44,H46:H54) -> 23.2115 | K55: =SUM(K44,K46:K54) -> 682.8704 | L55: =SUM(L44,L46:L54) -> 98.248 | M55: =SUM(M44,M46:M54) -> 19.991 | N55: =SUM(N44,N46:N54) -> 27.5915
A56: Neljapäev | B56: Lõunasöök | C56: Koostisosad | D56: Kogus, g | E56: Energia, kcal | F56: Süsivesikud, g | G56: Rasvad, g | H56: Valgud, g | J56: Kogus, g | K56: Energia, kcal | L56: Süsivesikud, g | M56: Rasvad, g | N56: Valgud, g
B57: Raguu köögiviljade ja sealihaga | C57: Sealiha, mugulsibul, vesi, nisujahu, toiduõli, hapukoor, petersell, must pipar, söögisool | D57: 120 | E57: 113 | F57: 4.74 | G57: 7.69 | H57: 6.05 | J57: 140 | K57: =J57*E57/D57 -> 131.83333 | L57: =K57*F57/E57 -> 5.53 | M57: =L57*G57/F57 -> 8.9716667 | N57: =M57*H57/G57 -> 7.0583333
A58: Taimetoit | B58: Koorene metsaseenekaste (G, L) | C58: Pruun sametpuravik, puravikud, liivatatik, nisujahu, toiduõli, piim , söögisool, must pipar, petersell | D58: 120 | E58: 117.12 | F58: 9.3 | G58: 6.948 | H58: 4.284 | J58: 140 | K58: =J58*E58/D58 -> 136.64 | L58: =K58*F58/E58 -> 10.85 | M58: =L58*G58/F58 -> 8.106 | N58: =M58*H58/G58 -> 4.998
B59: Kartulipüree (L) | C59: Kartul, piim, või , söögisool | D59: 60 | E59: 52.56 | F59: 7.98 | G59: 1.54 | H59: 1.47 | J59: 100 | K59: =J59*E59/D59 -> 87.6 | L59: =K59*F59/E59 -> 13.3 | M59: =L59*G59/F59 -> 2.5666667 | N59: =M59*H59/G59 -> 2.45
B60: Tatar, aurutatud | C60: Tatar, vesi, söögisool | D60: 60 | E60: 92.52 | F60: 16.2 | G60: 1.5 | H60: 2.9 | J60: 100 | K60: =J60*E60/D60 -> 154.2 | L60: =K60*F60/E60 -> 27 | M60: =L60*G60/F60 -> 2.5 | N60: =M60*H60/G60 -> 4.8333333
B61: Kapsas, röstitud | D61: 100 | E61: 24.18 | F61: 5.56 | G61: 0.2 | H61: 1.1 | J61: 100 | K61: =J61*E61/D61 -> 24.18 | L61: =K61*F61/E61 -> 5.56 | M61: =L61*G61/F61 -> 0.2 | N61: =M61*H61/G61 -> 1.1
B62: Mahla-õlikaste | C62: Õunamahl 100% naturaalne, õunaäädikas, sinepipulber, söögisool, petersell, toiduõli | D62: 5 | E62: 32.1894 | F62: 0.09705 | G62: 3.53055 | H62: 0.01355 | J62: 5 | K62: =J62*E62/D62 -> 32.1894 | L62: =K62*F62/E62 -> 0.09705 | M62: =L62*G62/F62 -> 3.53055 | N62: =M62*H62/G62 -> 0.01355
B63: Hiina kapsa salat spinatiga | D63: 50 | E63: 7.1 | F63: 1.21 | G63: 0.08 | H63: 0.67 | J63: 100 | K63: =J63*E63/D63 -> 14.2 | L63: =K63*F63/E63 -> 2.42 | M63: =L63*G63/F63 -> 0.16 | N63: =M63*H63/G63 -> 1.34
B64: Porgand (mahe), mais, kurk | D64: 100 | E64: 42.3 | F64: 6.35 | G64: 0.57 | H64: 1.53 | J64: 100 | K64: =J64*E64/D64 -> 42.3 | L64: =K64*F64/E64 -> 6.35 | M64: =L64*G64/F64 -> 0.57 | N64: =M64*H64/G64 -> 1.53
B65: Seemnesegu (mahe) | C65: Kõrvitsaseemned, päevalilleseemned, seesamiseemned | D65: 15 | E65: 91.31505 | F65: 1.92 | G65: 7.73505 | H65: 4.23495 | J65: 10 | K65: =J65*E65/D65 -> 60.8767 | L65: =K65*F65/E65 -> 1.28 | M65: =L65*G65/F65 -> 5.1567 | N65: =M65*H65/G65 -> 2.8233
A66: PRIA | B66: Piimatooted (piim, keefir R 2,5% ) (L) | D66: 50 | E66: 28.195 | F66: 2.4375 | G66: 1.285 | H66: 1.72 | J66: 50 | K66: =J66*E66/D66 -> 28.195 | L66: =K66*F66/E66 -> 2.4375 | M66: =L66*G66/F66 -> 1.285 | N66: =M66*H66/G66 -> 1.72
B67: Joogijogurt, maitsestatud (L) | C67: Maitsestamata jogurt, naturaalne marjapüree (maasikas, vaarikas, mustad sõstrad, punased sõstrad, mustikas), suhkur | D67: 25 | E67: 18.6865 | F67: 3.03075 | G67: 0.375 | H67: 0.8 | J67: 50 | K67: =J67*E67/D67 -> 37.373 | L67: =K67*F67/E67 -> 6.0615 | M67: =L67*G67/F67 -> 0.75 | N67: =M67*H67/G67 -> 1.6
B68: Tee, suhkruta | C68: Teepuru, vesi | D68: 50 | E68: 0.2 | F68: 0 | G68: 0 | H68: 0.05 | J68: 50 | K68: =J68*E68/D68 -> 0.2 | L68: =K68*F68/E68 -> 0 | M68: 0 | N68: 0.05
B69: Rukkileiva (3 sorti) - ja sepikutoodete valik (G) | D69: 50 | E69: 123.1 | F69: 26.15 | G69: 1 | H69: 3.575 | J69: 50 | K69: =J69*E69/D69 -> 123.1 | L69: =K69*F69/E69 -> 26.15 | M69: =L69*G69/F69 -> 1 | N69: =M69*H69/G69 -> 3.575
B70: Valge/punane peakapsas | D70: 50 | E70: 14.9 | F70: 2.29 | G70: 0.075 | H70: 0.675 | J70: 50 | K70: =J70*E70/D70 -> 14.9 | L70: =K70*F70/E70 -> 2.29 | M70: =L70*G70/F70 -> 0.075 | N70: =M70*H70/G70 -> 0.675
B71: Õun (mahe) | D71: 50 | E71: 24.038 | F71: 6.74 | G71: 0 | H71: 0 | J71: 50 | K71: =J71*E71/D71 -> 24.038 | L71: =K71*F71/E71 -> 6.74 | M71: =L71*G71/F71 -> 0 | N71: 0
C72: Kokku: | E72: =SUM(E57,E59:E71) -> 664.28395 | F72: =SUM(F57,F59:F71) -> 84.7053 | G72: =SUM(G57,G59:G71) -> 25.5806 | H72: =SUM(H57,H59:H71) -> 24.7885 | K72: =SUM(K57,K59:K71) -> 775.18543 | L72: =SUM(L57,L59:L71) -> 105.21605 | M72: =SUM(M57,M59:M71) -> 26.765583 | N72: =SUM(N57,N59:N71) -> 28.768517
A73: Reede | B73: Lõunasöök | C73: Koostisosad | D73: Kogus, g | E73: Energia, kcal | F73: Süsivesikud, g | G73: Rasvad, g | H73: Valgud, g | J73: Kogus, g | K73: Energia, kcal | L73: Süsivesikud, g | M73: Rasvad, g | N73: Valgud, g
B74: Kanapada kõrvitsa ja roheliste ubadega (L) | C74: Kanaliha, porgand, kaalikas, kõrvits, mugulsibul, paprika, aedoad, toidukoor, maisitärklis, söögisool, värske petersell, toiduõli, vesi | D74: 120 | E74: 97.5 | F74: 4.93 | G74: 5.65 | H74: 5.84 | J74: 140 | K74: =J74*E74/D74 -> 113.75 | L74: =K74*F74/E74 -> 5.7516667 | M74: =L74*G74/F74 -> 6.5916667 | N74: =M74*H74/G74 -> 6.8133333
A75: Taimetoit | B75: Koorene herne- ja aedviljahautis (L) | C75: Herned, suvikõrvits, porgand, toidukoor, värske petersell, toiduõli, söögisool, vesi | D75: 120 | E75: 91.8 | F75: 8.46 | G75: 3.6 | H75: 4.14 | J75: 140 | K75: =J75*E75/D75 -> 107.1 | L75: =K75*F75/E75 -> 9.87 | M75: =L75*G75/F75 -> 4.2 | N75: =M75*H75/G75 -> 4.83
B76: Täisterapasta/pasta (G) (mahe) | C76: Täisterapasta/pasta ( durumnisujahu, vesi), vesi, söögisool | D76: 60 | E76: 102.939 | F76: 21.3942 | G76: 0.807 | H76: 3.4062 | J76: 100 | K76: =J76*E76/D76 -> 171.565 | L76: =K76*F76/E76 -> 35.657 | M76: =L76*G76/F76 -> 1.345 | N76: =M76*H76/G76 -> 5.677
B77: Kinoa, keedetud | C77: Kinoa, vesi, söögisool, toiduõli | D77: 60 | E77: 68.64 | F77: 10.2 | G77: 1.74 | H77: 2.33 | J77: 100 | K77: =J77*E77/D77 -> 114.4 | L77: =K77*F77/E77 -> 17 | M77: =L77*G77/F77 -> 2.9 | N77: =M77*H77/G77 -> 3.8833333
B78: Kõrvits, röstitud | C78: Kõrvits, küüslauk, tüümian, must pipar, muskaatpähkel, toiduõli, söögisool | D78: 50 | E78: 22 | F78: 1.26 | G78: 1.56 | H78: 0.388 | J78: 100 | K78: =J78*E78/D78 -> 44 | L78: =K78*F78/E78 -> 2.52 | M78: =L78*G78/F78 -> 3.12 | N78: =M78*H78/G78 -> 0.776
B79: Külm jogurti-küüslaugukaste (L) | C79: Maitsestamata jogurt, sidrunimahl, suhkur, küüslauk | D79: 50 | E79: 41.6575 | F79: 2.9705 | G79: 2.401 | H79: 2.071 | J79: 50 | K79: =J79*E79/D79 -> 41.6575 | L79: =K79*F79/E79 -> 2.9705 | M79: =L79*G79/F79 -> 2.401 | N79: =M79*H79/G79 -> 2.071
B80: Mahla-õlikaste | C80: Õunamahl 100% naturaalne, õunaäädikas, sinepipulber, söögisool, petersell, värske, toiduõli | D80: 5 | E80: 32.1894 | F80: 0.09705 | G80: 3.53055 | H80: 0.01355 | J80: 10 | K80: =J80*E80/D80 -> 64.3788 | L80: =K80*F80/E80 -> 0.1941 | M80: =L80*G80/F80 -> 7.0611 | N80: =M80*H80/G80 -> 0.0271
B81: Hiina kapsa salat pirni ja Kreeka pähklitega (P) | C81: Hiina kapsas, pirn, Kreeka pähkel, toiduõli | D81: 50 | E81: 44.9055 | F81: 3.121 | G81: 3.503 | H81: 0.8365 | J81: 100 | K81: =J81*E81/D81 -> 89.811 | L81: =K81*F81/E81 -> 6.242 | M81: =L81*G81/F81 -> 7.006 | N81: =M81*H81/G81 -> 1.673
B82: Peet, porgand (mahe), valge redis | D82: 100 | E82: 31.5 | F82: 5.47 | G82: 0.133 | H82: 0.933 | J82: 100 | K82: =J82*E82/D82 -> 31.5 | L82: =K82*F82/E82 -> 5.47 | M82: =L82*G82/F82 -> 0.133 | N82: =M82*H82/G82 -> 0.933
B83: Seemnesegu (mahe) | C83: Kõrvitsaseemned, päevalilleseemned, seesamiseemned | D83: 15 | E83: 91.31505 | F83: 1.92 | G83: 7.73505 | H83: 4.23495 | J83: 10 | K83: =J83*E83/D83 -> 60.8767 | L83: =K83*F83/E83 -> 1.28 | M83: =L83*G83/F83 -> 5.1567 | N83: =M83*H83/G83 -> 2.8233
A84: PRIA | B84: Piimatooted (piim, keefir R 2,5% ) (L) | D84: 50 | E84: 28.195 | F84: 2.4375 | G84: 1.285 | H84: 1.72 | J84: 50 | K84: =J84*E84/D84 -> 28.195 | L84: =K84*F84/E84 -> 2.4375 | M84: =L84*G84/F84 -> 1.285 | N84: =M84*H84/G84 -> 1.72
B85: Joogijogurt, maitsestatud (L) | C85: Maitsestamata jogurt, naturaalne marjapüree (maasikas, vaarikas, mustad sõstrad, punased sõstrad, mustikas), suhkur | D85: 50 | E85: 37.373 | F85: 6.0615 | G85: 0.75 | H85: 1.6 | J85: 50 | K85: =J85*E85/D85 -> 37.373 | L85: =K85*F85/E85 -> 6.0615 | M85: =L85*G85/F85 -> 0.75 | N85: =M85*H85/G85 -> 1.6
B86: Tee, suhkruta | C86: Teepuru, vesi | D86: 50 | E86: 0.2 | F86: 0 | G86: 0 | H86: 0.05 | J86: 50 | K86: =J86*E86/D86 -> 0.2 | L86: =K86*F86/E86 -> 0 | M86: 0 | N86: 0.05
B87: Rukkileiva (3 sorti) - ja sepikutoodete valik (G) | D87: 50 | E87: 123.1 | F87: 26.15 | G87: 1 | H87: 3.575 | J87: 30 | K87: =J87*E87/D87 -> 73.86 | L87: =K87*F87/E87 -> 15.69 | M87: =L87*G87/F87 -> 0.6 | N87: =M87*H87/G87 -> 2.145
B88: Valge redis | D88: 50 | E88: 9.45 | F88: 1.45 | G88: 0.05 | H88: 0.4 | J88: 50 | K88: =J88*E88/D88 -> 9.45 | L88: =K88*F88/E88 -> 1.45 | M88: =L88*G88/F88 -> 0.05 | N88: =M88*H88/G88 -> 0.4
B89: Pirn | D89: 50 | E89: 19.988 | F89: 5.97 | G89: 0 | H89: 0.15 | J89: 50 | K89: =J89*E89/D89 -> 19.988 | L89: =K89*F89/E89 -> 5.97 | M89: =L89*G89/F89 -> 0 | N89: 0.15
C90: Kokku: | E90: =SUM(E74,E76:E89) -> 750.95245 | F90: =SUM(F74,F76:F89) -> 93.43175 | G90: =SUM(G74,G76:G89) -> 30.1446 | H90: =SUM(H74,H76:H89) -> 27.5482 | K90: =SUM(K74,K76:K89) -> 901.005 | L90: =SUM(L74,L76:L89) -> 108.69427 | M90: =SUM(M74,M76:M89) -> 38.399467 | N90: =SUM(N74,N76:N89) -> 30.742067
A91: NÄDALA KESKMINE KOKKU: | E91: =AVERAGE(E24,E42,E55,E72,E90) -> 697.77694 | F91: =AVERAGE(F24,F42,F55,F72,F90) -> 90.50753 | G91: =AVERAGE(G24,G42,G55,G72,G90) -> 24.81308 | H91: =AVERAGE(H24,H42,H55,H72,H90) -> 27.69784 | K91: =AVERAGE(K24,K42,K55,K72,K90) -> 804.8971 | L91: =AVERAGE(L24,L42,L55,L72,L90) -> 105.41937 | M91: =AVERAGE(M24,M42,M55,M72,M90) -> 28.121993 | N91: =AVERAGE(N24,N42,N55,N72,N90) -> 31.13918
C92: Põhitoitainetest saadava energia osakaal koguenergiast (%E) | F92: =(F91*4)/E91*100 -> 51.88336 | G92: =(G91*9)/E91*100 -> 32.00417 | H92: =(H91*4)/E91*100 -> 15.877762 | L92: =(L91*4)/K91*100 -> 52.388993 | M92: =(M91*9)/K91*100 -> 31.444757 | N92: =(N91*4)/K91*100 -> 15.474863
C93: Nõutud vahemik kahe nädala keskmisena | E93: 700-800 kcal | F93: 45-60%E | G93: 25-40%E | H93: 10-20%E | K93: 800-900 kcal | L93: 45-60%E | M93: 25-40%E | N93: 10-20%E
A94: Üldinfo menüü kohta
A95: Taimetoit võib sisaldada muna- ja piimatooteid
A96: Allergiat või toidutalumatust põhjustavate koostisosade kohta küsi lisainfot köögipersonalilt
A97: Joogivesi on igapäevaselt tasuta saadaval kogu päeva jooksul
A98: Menüü muudatused kooskõlastatakse kooliga vastavalt hankelepingule. Erandolukorras, kus muudatus on vältimatu (nt ootamatu tooraine puudus), teavitatakse kooli esimesel võimalusel ning tagatakse toidu toiteväärtuslikkus ja mitmekesisus
A99: Tähised menüüs
A100: G – sisaldab gluteeni | B100: L – sisaldab piimatooteid (sh laktoosi)
A101: M – sisaldab muna | B101: P – sisaldab pähkleid
A102: PT – portsjontoode | B102: VS-vähendatud suhkruga
A103: PRIA toetusprogrammid
A104: Koolipuuvilja ja - köögivilja ning koolipiima toetab osaliselt PRIA
...

Sheet Nädal_47
A1: #VALUE! | C1: #VALUE!
A6: Koolilõuna menüü
A7: 47. nädal | B7: 16.11-20.11.2026 | D7: 4-9.klass | J7: 10-12.klass
A8: Esmaspäev | B8: Lõunasöök | C8: Koostisosad | D8: Kogus, g | E8: Energia, kcal | F8: Süsivesikud, g | G8: Rasvad, g | H8: Valgud, g | J8: Kogus, g | K8: Energia, kcal | L8: Süsivesikud, g | M8: Rasvad, g | N8: Valgud, g
B9: Kanakaste sulatatud juustuga (G, L) | C9: Kanaliha, piim, sulatatud juust, nisujahu, söögisool, must pipar, toiduõli, värske petersell | D9: 120 | E9: 160 | F9: 8.67 | G9: 9.79 | H9: 9.24 | J9: 140 | K9: =J9*E9/D9 -> 186.66667 | L9: =K9*F9/E9 -> 10.115 | M9: =L9*G9/F9 -> 11.421667 | N9: =M9*H9/G9 -> 10.78
A10: Taimetoit | B10: Kikerhernekaste sulatatud juustuga ja basiilikuga (G, L) | C10: Kikerherned, piim, toidukoor, sulatatud juust, nisujahu, söögisool, must pipar, toiduõli, värske petersell, värske basiilik | D10: 120 | E10: 175.2 | F10: 12.78 | G10: 9.36 | H10: 7.68 | J10: 140 | K10: =J10*E10/D10 -> 204.4 | L10: =K10*F10/E10 -> 14.91 | M10: =L10*G10/F10 -> 10.92 | N10: =M10*H10/G10 -> 8.96
B11: Kuskuss, aurutatud (G) | C11: Kuskuss, vesi, söögisool | D11: 60 | E11: 80.4 | F11: 16.32 | G11: 0 | H11: 2.48 | J11: 100 | K11: =J11*E11/D11 -> 134 | L11: =K11*F11/E11 -> 27.2 | M11: =L11*G11/F11 -> 0 | N11: =J11*H11/D11 -> 4.1333333
B12: Riis, aurutatud (mahe) | C12: Riis, vesi, söögisool | D12: 60 | E12: 94.6212 | F12: 16.1256 | G12: 2.8452 | H12: 1.3662 | J12: 100 | K12: =J12*E12/D12 -> 157.702 | L12: =K12*F12/E12 -> 26.876 | M12: =L12*G12/F12 -> 4.742 | N12: =M12*H12/G12 -> 2.277
B13: Lillkapsas, aurutatud | C13: Lillkapsas | D13: 50 | E13: 17.2 | F13: 3.07 | G13: 0.103 | H13: 1.03 | J13: 100 | K13: =J13*E13/D13 -> 34.4 | L13: =K13*F13/E13 -> 6.14 | M13: =L13*G13/F13 -> 0.206 | N13: =M13*H13/G13 -> 2.06
B14: Mahla-õlikaste | C14: Õunamahl 100% naturaalne, õunaäädikas, sinepipulber, söögisool, petersell, värske, toiduõli | D14: 5 | E14: 32.1894 | F14: 0.09705 | G14: 3.53055 | H14: 0.01355 | J14: 5 | K14: =J14*E14/D14 -> 32.1894 | L14: =K14*F14/E14 -> 0.09705 | M14: =L14*G14/F14 -> 3.53055 | N14: =M14*H14/G14 -> 0.01355
B15: Peedi-piprajuuresalat (L) | C15: Keedupeet, piprajuur, õun, hapukoor | D15: 50 | E15: 20.9 | F15: 3.5 | G15: 0.099 | H15: 0.856 | J15: 100 | K15: =J15*E15/D15 -> 41.8 | L15: =K15*F15/E15 -> 7 | M15: =L15*G15/F15 -> 0.198 | N15: =M15*H15/G15 -> 1.712
B16: Hiina kapsas, roheline hernes, nuikapsas | D16: 100 | E16: 41.6 | F16: 5.17 | G16: 0.33 | H16: 2.76 | J16: 100 | K16: =J16*E16/D16 -> 41.6 | L16: =K16*F16/E16 -> 5.17 | M16: =L16*G16/F16 -> 0.33 | N16: =M16*H16/G16 -> 2.76
B17: Seemnesegu (mahe) | C17: Kõrvitsaseemned, päevalilleseemned, seesamiseemned | D17: 15 | E17: 91.31505 | F17: 1.92 | G17: 7.73505 | H17: 4.23495 | J17: 150 | K17: =J17*E17/D17 -> 913.1505 | L17: =K17*F17/E17 -> 19.2 | M17: =L17*G17/F17 -> 77.3505 | N17: =M17*H17/G17 -> 42.3495
A18: PRIA | B18: Piimatooted (piim, keefir R 2,5% ) (L) | D18: 50 | E18: 28.195 | F18: 2.4375 | G18: 1.285 | H18: 1.72 | J18: 50 | K18: =J18*E18/D18 -> 28.195 | L18: =K18*F18/E18 -> 2.4375 | M18: =L18*G18/F18 -> 1.285 | N18: =M18*H18/G18 -> 1.72
B19: Joogijogurt, maitsestatud (L) | C19: Maitsestamata jogurt, naturaalne marjapüree (maasikas, vaarikas, mustad sõstrad, punased sõstrad, mustikas), suhkur | D19: 25 | E19: 18.6865 | F19: 3.03075 | G19: 0.375 | H19: 0.8 | J19: 25 | K19: =J19*E19/D19 -> 18.6865 | L19: =K19*F19/E19 -> 3.03075 | M19: =L19*G19/F19 -> 0.375 | N19: =M19*H19/G19 -> 0.8
B20: Tee, suhkruta | C20: Teepuru, vesi | D20: 50 | E20: 0.2 | F20: 0 | G20: 0 | H20: 0.05 | J20: 50 | K20: =J20*E20/D20 -> 0.2 | L20: =K20*F20/E20 -> 0 | M20: 0 | N20: 0.05
B21: Rukkileiva (3 sorti) - ja sepikutoodete valik (G) | D21: 30 | E21: 73.86 | F21: 15.69 | G21: 0.6 | H21: 2.145 | J21: 30 | K21: =J21*E21/D21 -> 73.86 | L21: =K21*F21/E21 -> 15.69 | M21: =L21*G21/F21 -> 0.6 | N21: =M21*H21/G21 -> 2.145
B22: Porgand | D22: 50 | E22: 16.2 | F22: 2.8 | G22: 0.1 | H22: 0.3 | J22: 50 | K22: =J22*E22/D22 -> 16.2 | L22: =K22*F22/E22 -> 2.8 | M22: =L22*G22/F22 -> 0.1 | N22: =M22*H22/G22 -> 0.3
B23: Pirn | D23: 50 | E23: 19.988 | F23: 5.97 | G23: 0 | H23: 0.15 | J23: 50 | K23: =J23*E23/D23 -> 19.988 | L23: =K23*F23/E23 -> 5.97 | M23: =L23*G23/F23 -> 0 | N23: 0.15
C24: Kokku: | E24: =SUM(E9,E11:E23) -> 695.35515 | F24: =SUM(F9,F11:F23) -> 84.8009 | G24: =SUM(G9,G11:G23) -> 26.7928 | H24: =SUM(H9,H11:H23) -> 27.1457 | K24: =SUM(K9,K11:K23) -> 1698.6381 | L24: =SUM(L9,L11:L23) -> 131.7263 | M24: =SUM(M9,M11:M23) -> 100.13872 | N24: =SUM(N9,N11:N23) -> 71.250383
A25: Teisipäev | B25: Lõunasöök | C25: Koostisosad | D25: Kogus, g | E25: Energia, kcal | F25: Süsivesikud, g | G25: Rasvad, g | H25: Valgud, g | J25: Kogus, g | K25: Energia, kcal | L25: Süsivesikud, g | M25: Rasvad, g | N25: Valgud, g
B26: Hartšoo erineva lihaga (G) | C26: Sealiha, kanaliha, veiseliha, riis, mugulsibul, tomatipasta, mugulsibul, küüslauk, loorber, kuivatatud ploom, nisujahu, söögisool, must pipar, toiduõli, vesi, värske petersell | D26: 200 | E26: 166 | F26: 21.6 | G26: 4.56 | H26: 8.74 | J26: 300 | K26: =J26*E26/D26 -> 249 | L26: =K26*F26/E26 -> 32.4 | M26: =L26*G26/F26 -> 6.84 | N26: =M26*H26/G26 -> 13.11
A27: Taimetoit | B27: Taimne hartšoo punaste ubadega | C27: Punased oad, riis, mugulsibul, tomatipasta, mugulsibul, küüslauk, loorber, kuivatatud ploom, nisujahu, söögisool, must pipar, toiduõli, vesi, värske petersell | D27: 50 | E27: 45.2 | F27: 5.92 | G27: 1.6 | H27: 1.35 | J27: 50 | K27: =J27*E27/D27 -> 45.2 | L27: =K27*F27/E27 -> 5.92 | M27: =L27*G27/F27 -> 1.6 | N27: =M27*H27/G27 -> 1.35
B28: Mustikajogurt (L) | C28: Maitsestamata jogurt, suhkur, mustikad | D28: 100 | E28: 88.5 | F28: 14.9 | G28: 1.99 | H28: 2.48 | J28: 100 | K28: =J28*E28/D28 -> 88.5 | L28: =K28*F28/E28 -> 14.9 | M28: =L28*G28/F28 -> 1.99 | N28: =M28*H28/G28 -> 2.48
B29: Õunakook mandlipuruga (G, L, M, P, VS, PT) | C29: Õun, nisujahu, kaerahelbed, suhkur, küpsetuspulber, kanamuna, hapukoor, mandlid, söögisool | D29: 50 | E29: 149 | F29: 20.5 | G29: 5.31 | H29: 3.68 | J29: 50 | K29: =J29*E29/D29 -> 149 | L29: =K29*F29/E29 -> 20.5 | M29: =L29*G29/F29 -> 5.31 | N29: =M29*H29/G29 -> 3.68
A30: PRIA | B30: Piimatooted (piim, keefir R 2,5% ) (L) | D30: 50 | E30: 28.195 | F30: 2.4375 | G30: 1.285 | H30: 1.72 | J30: 50 | K30: =J30*E30/D30 -> 28.195 | L30: =K30*F30/E30 -> 2.4375 | M30: =L30*G30/F30 -> 1.285 | N30: =M30*H30/G30 -> 1.72
B31: Mahl (erinevad maitsed) | C31: Rõngu suhkruvaba mahlakonsentraat 100% naturaalne, vesi | D31: 50 | E31: 24.2644 | F31: 5.891 | G31: 0.025 | H31: 0.1815 | J31: 50 | K31: =J31*E31/D31 -> 24.2644 | L31: =K31*F31/E31 -> 5.891 | M31: =L31*G31/F31 -> 0.025 | N31: =M31*H31/G31 -> 0.1815
B32: Joogijogurt, maitsestatud (L) | C32: Maitsestamata jogurt, naturaalne marjapüree (maasikas, vaarikas, mustad sõstrad, punased sõstrad, mustikas), suhkur | D32: 50 | E32: 37.373 | F32: 6.0615 | G32: 0.75 | H32: 1.6 | J32: 50 | K32: =J32*E32/D32 -> 37.373 | L32: =K32*F32/E32 -> 6.0615 | M32: =L32*G32/F32 -> 0.75 | N32: =M32*H32/G32 -> 1.6
B33: Tee, suhkruta | C33: Teepuru, vesi | D33: 50 | E33: 0.2 | F33: 0 | G33: 0 | H33: 0.05 | J33: 50 | K33: =J33*E33/D33 -> 0.2 | L33: =K33*F33/E33 -> 0 | M33: 0 | N33: 0.05
B34: Rukkileiva (3 sorti) - ja sepikutoodete valik (G) | D34: 30 | E34: 73.86 | F34: 15.69 | G34: 0.6 | H34: 2.145 | J34: 30 | K34: =J34*E34/D34 -> 73.86 | L34: =K34*F34/E34 -> 15.69 | M34: =L34*G34/F34 -> 0.6 | N34: =M34*H34/G34 -> 2.145
B35: Valge redis | D35: 50 | E35: 9.45 | F35: 1.45 | G35: 0.05 | H35: 0.4 | J35: 50 | K35: =J35*E35/D35 -> 9.45 | L35: =K35*F35/E35 -> 1.45 | M35: =L35*G35/F35 -> 0.05 | N35: =M35*H35/G35 -> 0.4
B36: Õun (mahe) | D36: 50 | E36: 24.038 | F36: 6.74 | G36: 0 | H36: 0 | J36: 50 | K36: =J36*E36/D36 -> 24.038 | L36: =K36*F36/E36 -> 6.74 | M36: =L36*G36/F36 -> 0 | N36: 0
C37: Kokku: | E37: =SUM(E26,E28:E36) -> 600.8804 | F37: =SUM(F26,F28:F36) -> 95.27 | G37: =SUM(G26,G28:G36) -> 14.57 | H37: =SUM(H26,H28:H36) -> 20.9965 | K37: =SUM(K26,K28:K36) -> 683.8804 | L37: =SUM(L26,L28:L36) -> 106.07 | M37: =SUM(M26,M28:M36) -> 16.85 | N37: =SUM(N26,N28:N36) -> 25.3665
A38: Kolmapäev | B38: Lõunasöök | C38: Koostisosad | D38: Kogus, g | E38: Energia, kcal | F38: Süsivesikud, g | G38: Rasvad, g | H38: Valgud, g | J38: Kogus, g | K38: Energia, kcal | L38: Süsivesikud, g | M38: Rasvad, g | N38: Valgud, g
B39: Kana-paprikahautis (G, L) | C39: Kanaliha, paprika, mugulsibul, küüslauk, toidukoor, nisujahu, jahvatatud paprika, söögisool, must pipar, jahvatatud tüümian, toiduõli, vesi | D39: 120 | E39: 126 | F39: 4.524 | G39: 7.932 | H39: 8.448 | J39: 140 | K39: =J39*E39/D39 -> 147 | L39: =K39*F39/E39 -> 5.278 | M39: =L39*G39/F39 -> 9.254 | N39: =M39*H39/G39 -> 9.856
A40: Taimetoit | B40: Kartuli-šampinjonivorm Vahemere ürtidega | C40: Kartul, mugulsibul, šampinjonid, toiduõli, pune, petersell, tüümian, söögisool, must pipar | D40: 120 | E40: 109.68 | F40: 15.96 | G40: 3.768 | H40: 2.436 | J40: 140 | K40: =J40*E40/D40 -> 127.96 | L40: =K40*F40/E40 -> 18.62 | M40: =L40*G40/F40 -> 4.396 | N40: =M40*H40/G40 -> 2.842
B41: Täisterapasta/pasta (G) (mahe) | C41: Täisterapasta / pasta ( durumnisujahu, vesi), vesi, söögisool, toiduõli | D41: 60 | E41: 90.8 | F41: 15.8 | G41: 1.55 | H41: 2.74 | J41: 100 | K41: =J41*E41/D41 -> 151.33333 | L41: =K41*F41/E41 -> 26.333333 | M41: =L41*G41/F41 -> 2.5833333 | N41: =M41*H41/G41 -> 4.5666667
B42: Riis, aurutatud (mahe) | C42: Riis, vesi, söögisool | D42: 60 | E42: 94.6212 | F42: 16.1256 | G42: 2.8452 | H42: 1.3662 | J42: 100 | K42: =J42*E42/D42 -> 157.702 | L42: =K42*F42/E42 -> 26.876 | M42: =L42*G42/F42 -> 4.742 | N42: =M42*H42/G42 -> 2.277
B43: Juurseller, röstitud | C43: Juurseller, toiduõli, söögisool | D43: 50 | E43: 17.4875 | F43: 4.875 | G43: 0.0625 | H43: 0.8125 | J43: 50 | K43: =J43*E43/D43 -> 17.4875 | L43: =K43*F43/E43 -> 4.875 | M43: =L43*G43/F43 -> 0.0625 | N43: =M43*H43/G43 -> 0.8125
B44: Tomatikaste ürtidega | C44: Tomatipüree, mugulsibul, küüslauk, fariinsuhkur, kuivatatud basiilik, kuivatatud petersell, pune, toiduõli | D44: 50 | E44: 46 | F44: 7.9 | G44: 1.07 | H44: 0.89 | J44: 50 | K44: =J44*E44/D44 -> 46 | L44: =K44*F44/E44 -> 7.9 | M44: =L44*G44/F44 -> 1.07 | N44: =M44*H44/G44 -> 0.89
B45: Külm jogurti-keefirikaste, maitserohelisega (L) | C45: Maitsestamata jogurt, keefir, sinep, till, petersell, basiilik, roheline sibul | D45: 50 | E45: 27.9585 | F45: 2.4015 | G45: 1.3045 | H45: 1.683 | J45: 50 | K45: =J45*E45/D45 -> 27.9585 | L45: =K45*F45/E45 -> 2.4015 | M45: =L45*G45/F45 -> 1.3045 | N45: =M45*H45/G45 -> 1.683
B46: Porgandi-punasesibulasalat hapukoorega (L) | C46: Porgand, punane sibul, õun, hapukoor, toiduõli, õunaäädikas, suhkur, söögisool, muts pipar, petersell | D46: 50 | E46: 46.5 | F46: 3.25 | G46: 3.23 | H46: 0.59 | J46: 50 | K46: =J46*E46/D46 -> 46.5 | L46: =K46*F46/E46 -> 3.25 | M46: =L46*G46/F46 -> 3.23 | N46: =M46*H46/G46 -> 0.59
B47: Valge rõigas, mais, kapsas | D47: 100 | E47: 44.4 | F47: 6.4 | G47: 0.6 | H47: 1.87 | J47: 100 | K47: =J47*E47/D47 -> 44.4 | L47: =K47*F47/E47 -> 6.4 | M47: =L47*G47/F47 -> 0.6 | N47: =M47*H47/G47 -> 1.87
B48: Seemnesegu (mahe) | C48: Kõrvitsaseemned, päevalilleseemned, seesamiseemned | D48: 15 | E48: 91.31505 | F48: 1.92 | G48: 7.73505 | H48: 4.23495 | J48: 15 | K48: =J48*E48/D48 -> 91.31505 | L48: =K48*F48/E48 -> 1.92 | M48: =L48*G48/F48 -> 7.73505 | N48: =M48*H48/G48 -> 4.23495
A49: PRIA | B49: Piimatooted (piim, keefir R 2,5% ) (L) | D49: 50 | E49: 28.195 | F49: 2.4375 | G49: 1.285 | H49: 1.72 | J49: 50 | K49: =J49*E49/D49 -> 28.195 | L49: =K49*F49/E49 -> 2.4375 | M49: =L49*G49/F49 -> 1.285 | N49: =M49*H49/G49 -> 1.72
B50: Joogijogurt, maitsestatud (L) | C50: Maitsestamata jogurt, naturaalne marjapüree (maasikas, vaarikas, mustad sõstrad, punased sõstrad, mustikas), suhkur | D50: 25 | E50: 18.6865 | F50: 3.03075 | G50: 0.375 | H50: 0.8 | J50: 25 | K50: =J50*E50/D50 -> 18.6865 | L50: =K50*F50/E50 -> 3.03075 | M50: =L50*G50/F50 -> 0.375 | N50: =M50*H50/G50 -> 0.8
B51: Tee, suhkruta | C51: Teepuru, vesi | D51: 50 | E51: 0.2 | F51: 0 | G51: 0 | H51: 0.05 | J51: 50 | K51: =J51*E51/D51 -> 0.2 | L51: =K51*F51/E51 -> 0 | M51: 0 | N51: 0.05
B52: Rukkileiva (3 sorti) - ja sepikutoodete valik (G) | D52: 50 | E52: 123.1 | F52: 26.15 | G52: 1 | H52: 3.575 | J52: 30 | K52: =J52*E52/D52 -> 73.86 | L52: =K52*F52/E52 -> 15.69 | M52: =L52*G52/F52 -> 0.6 | N52: =M52*H52/G52 -> 2.145
B53: Nuikapsas | D53: 50 | E53: 12.1 | F53: 2.1 | G53: 0.1 | H53: 0.25 | J53: 50 | K53: =J53*E53/D53 -> 12.1 | L53: =K53*F53/E53 -> 2.1 | M53: =L53*G53/F53 -> 0.1 | N53: =M53*H53/G53 -> 0.25
B54: Pirn | D54: 50 | E54: 19.988 | F54: 5.97 | G54: 0 | H54: 0.15 | J54: 50 | K54: =J54*E54/D54 -> 19.988 | L54: =K54*F54/E54 -> 5.97 | M54: =L54*G54/F54 -> 0 | N54: 0.15
C55: Kokku: | E55: =SUM(E39,E41:E54) -> 787.35175 | F55: =SUM(F39,F41:F54) -> 102.88435 | G55: =SUM(G39,G41:G54) -> 29.08925 | H55: =SUM(H39,H41:H54) -> 29.17965 | K55: =SUM(K39,K41:K54) -> 882.72588 | L55: =SUM(L39,L41:L54) -> 114.46208 | M55: =SUM(M39,M41:M54) -> 32.941383 | N55: =SUM(N39,N41:N54) -> 31.895117
A56: Neljapäev | B56: Lõunasöök | C56: Koostisosad | D56: Kogus, g | E56: Energia, kcal | F56: Süsivesikud, g | G56: Rasvad, g | H56: Valgud, g | J56: Kogus, g | K56: Energia, kcal | L56: Süsivesikud, g | M56: Rasvad, g | N56: Valgud, g
B57: Selge Lõhesupp köögiviljadega | C57: Lõhe, porgand, lillkapsas, kartul, porgand, mugulsibul, küüslauk, porrulauk, toiduõli, must pipar, söögisool, vesi, värske till | D57: 200 | E57: 147 | F57: 8.83 | G57: 7.71 | H57: 9.93 | J57: 300 | K57: =J57*E57/D57 -> 220.5 | L57: =K57*F57/E57 -> 13.245 | M57: =L57*G57/F57 -> 11.565 | N57: =M57*H57/G57 -> 14.895
A58: Taimetoit | B58: Pastinaagipüreesupp (L) | C58: Pastinaak, kartul, mugulsibul, toiduõli, vesi, toidukoor, söögisool, petersell | D58: 200 | E58: 138 | F58: 15.2 | G58: 6.44 | H58: 2.71 | J58: 300 | K58: =J58*E58/D58 -> 207 | L58: =K58*F58/E58 -> 22.8 | M58: =L58*G58/F58 -> 9.66 | N58: =M58*H58/G58 -> 4.065
B59: Kohupiima-kamadessert marjadega (G, L, VS) | C59: Maitsestamata kohupiim, vahukoor, suhkur, kamajahu ( nisu, oder, rukkis, hernes) | D59: 100 | E59: 152 | F59: 24.16 | G59: 3.968 | H59: 5.008 | J59: 100 | K59: =J59*E59/D59 -> 152 | L59: =K59*F59/E59 -> 24.16 | M59: =L59*G59/F59 -> 3.968 | N59: =M59*H59/G59 -> 5.008
B60: Apelsinitarretis vahukoorega (L, VS) | C60: Apelsinimahl, õunamahl, suhkur, vesi, želatiin, vahukoor | D60: 100 | E60: 55.6 | F60: 8.26 | G60: 1.8 | H60: 1.62 | J60: 100 | K60: =J60*E60/D60 -> 55.6 | L60: =K60*F60/E60 -> 8.26 | M60: =L60*G60/F60 -> 1.8 | N60: =M60*H60/G60 -> 1.62
A61: PRIA | B61: Piimatooted (piim, keefir R 2,5% ) (L) | D61: 50 | E61: 28.195 | F61: 2.4375 | G61: 1.285 | H61: 1.72 | J61: 50 | K61: =J61*E61/D61 -> 28.195 | L61: =K61*F61/E61 -> 2.4375 | M61: =L61*G61/F61 -> 1.285 | N61: =M61*H61/G61 -> 1.72
B62: Mahl (erinevad maitsed) | C62: Rõngu suhkruvaba mahlakonsentraat 100% naturaalne, vesi | D62: 50 | E62: 24.2644 | F62: 5.891 | G62: 0.025 | H62: 0.1815 | J62: 50 | K62: =J62*E62/D62 -> 24.2644 | L62: =K62*F62/E62 -> 5.891 | M62: =L62*G62/F62 -> 0.025 | N62: =M62*H62/G62 -> 0.1815
B63: Joogijogurt, maitsestatud (L) | C63: Maitsestamata jogurt, naturaalne marjapüree (maasikas, vaarikas, mustad sõstrad, punased sõstrad, mustikas), suhkur | D63: 25 | E63: 18.6865 | F63: 3.03075 | G63: 0.375 | H63: 0.8 | J63: 25 | K63: =J63*E63/D63 -> 18.6865 | L63: =K63*F63/E63 -> 3.03075 | M63: =L63*G63/F63 -> 0.375 | N63: =M63*H63/G63 -> 0.8
B64: Tee, suhkruta | C64: Teepuru, vesi | D64: 50 | E64: 0.2 | F64: 0 | G64: 0 | H64: 0.05 | J64: 50 | K64: =J64*E64/D64 -> 0.2 | L64: =K64*F64/E64 -> 0 | M64: 0 | N64: 0.05
B65: Rukkileiva (3 sorti) - ja sepikutoodete valik (G) | D65: 50 | E65: 123.1 | F65: 26.15 | G65: 1 | H65: 3.575 | J65: 50 | K65: =J65*E65/D65 -> 123.1 | L65: =K65*F65/E65 -> 26.15 | M65: =L65*G65/F65 -> 1 | N65: =M65*H65/G65 -> 3.575
B66: Porgand | D66: 50 | E66: 16.2 | F66: 2.8 | G66: 0.1 | H66: 0.3 | J66: 50 | K66: =J66*E66/D66 -> 16.2 | L66: =K66*F66/E66 -> 2.8 | M66: =L66*G66/F66 -> 0.1 | N66: =M66*H66/G66 -> 0.3
B67: Õun (mahe) | D67: 50 | E67: 24.038 | F67: 6.74 | G67: 0 | H67: 0 | J67: 50 | K67: =J67*E67/D67 -> 24.038 | L67: =K67*F67/E67 -> 6.74 | M67: =L67*G67/F67 -> 0 | N67: 0
C68: Kokku: | E68: =SUM(E57,E59:E67) -> 589.2839 | F68: =SUM(F57,F59:F67) -> 88.29925 | G68: =SUM(G57,G59:G67) -> 16.263 | H68: =SUM(H57,H59:H67) -> 23.1845 | K68: =SUM(K57,K59:K67) -> 662.7839 | L68: =SUM(L57,L59:L67) -> 92.71425 | M68: =SUM(M57,M59:M67) -> 20.118 | N68: =SUM(N57,N59:N67) -> 28.1495
A69: Reede | B69: Lõunasöök | C69: Koostisosad | D69: Kogus, g | E69: Energia, kcal | F69: Süsivesikud, g | G69: Rasvad, g | H69: Valgud, g | J69: Kogus, g | K69: Energia, kcal | L69: Süsivesikud, g | M69: Rasvad, g | N69: Valgud, g
B70: Laisk kapsarull | C70: Sea-veise segahakkliha, valge peakapsas, riis, söögisool, must pipar, vesi | D70: 150 | E70: 196.5 | F70: 6.74 | G70: 12.57 | H70: 13.05 | J70: 170 | K70: =J70*E70/D70 -> 222.7 | L70: =K70*F70/E70 -> 7.6386667 | M70: =L70*G70/F70 -> 14.246 | N70: =M70*H70/G70 -> 14.79
A71: Taimetoit | B71: Värskekapsa-läätsehautis | C71: Valge peakapsas, mugulsibul, porgand, läätsed (pruunid, rohelised), vesi, till, söögisool, must pipar | D71: 150 | E71: 152.85 | F71: 17.55 | G71: 5.04 | H71: 6.93 | J71: 170 | K71: =J71*E71/D71 -> 173.23 | L71: =K71*F71/E71 -> 19.89 | M71: =L71*G71/F71 -> 5.712 | N71: =M71*H71/G71 -> 7.854
B72: Kartul, aurutatud | D72: 60 | E72: 43.5 | F72: 9.3 | G72: 0 | H72: 1.14 | J72: 100 | K72: =J72*E72/D72 -> 72.5 | L72: =K72*F72/E72 -> 15.5 | M72: =L72*G72/F72 -> 0 | N72: =J72*H72/D72 -> 1.9
B73: Tatar, aurutatud (mahe) | C73: Tatar, söögisool, vesi | D73: 60 | E73: 92.52 | F73: 16.2 | G73: 1.5 | H73: 2.9 | J73: 100 | K73: =J73*E73/D73 -> 154.2 | L73: =K73*F73/E73 -> 27 | M73: =L73*G73/F73 -> 2.5 | N73: =M73*H73/G73 -> 4.8333333
B74: Aedoad, aurutatu | D74: 100 | E74: 41.1 | F74: 5.59 | G74: 0.33 | H74: 2.2 | J74: 100 | K74: =J74*E74/D74 -> 41.1 | L74: =K74*F74/E74 -> 5.59 | M74: =L74*G74/F74 -> 0.33 | N74: =M74*H74/G74 -> 2.2
B75: Soe tomatikaste | C75: Tomat purustatud, tomatipasta, toiduõli, küüslauk, mugulsibul, vesi, basiilik, söögisool, must pipar | D75: 50 | E75: 17.55 | F75: 3.28 | G75: 0.55 | H75: 0.39 | J75: 50 | K75: =J75*E75/D75 -> 17.55 | L75: =K75*F75/E75 -> 3.28 | M75: =L75*G75/F75 -> 0.55 | N75: =M75*H75/G75 -> 0.39
B76: Mahla-õlikaste | C76: Õunamahl 100% naturaalne, õunaäädikas, sinepipulber, söögisool, petersell, värske, toiduõli | D76: 5 | E76: 32.1894 | F76: 0.09705 | G76: 3.53055 | H76: 0.01355 | J76: 5 | K76: =J76*E76/D76 -> 32.1894 | L76: =K76*F76/E76 -> 0.09705 | M76: =L76*G76/F76 -> 3.53055 | N76: =M76*H76/G76 -> 0.01355
B77: Peedisalat pohladega | C77: Keedupeet, pohlad, suhkur | D77: 100 | E77: 52.4 | F77: 9.89 | G77: 0.24 | H77: 1.44 | J77: 100 | K77: =J77*E77/D77 -> 52.4 | L77: =K77*F77/E77 -> 9.89 | M77: =L77*G77/F77 -> 0.24 | N77: =M77*H77/G77 -> 1.44
B78: Nuikapsas, porgand, hapukurk | D78: 100 | E78: 50 | F78: 10.6 | G78: 0.17 | H78: 0.63 | J78: 100 | K78: =J78*E78/D78 -> 50 | L78: =K78*F78/E78 -> 10.6 | M78: =L78*G78/F78 -> 0.17 | N78: =M78*H78/G78 -> 0.63
B79: Seemnesegu (mahe) | C79: Kõrvitsaseemned, päevalilleseemned, seesamiseemned | D79: 15 | E79: 91.31505 | F79: 1.92 | G79: 7.73505 | H79: 4.23495 | J79: 15 | K79: =J79*E79/D79 -> 91.31505 | L79: =K79*F79/E79 -> 1.92 | M79: =L79*G79/F79 -> 7.73505 | N79: =M79*H79/G79 -> 4.23495
A80: PRIA | B80: Piimatooted (piim, keefir R 2,5% ) (L) | D80: 50 | E80: 28.195 | F80: 2.4375 | G80: 1.285 | H80: 1.72 | J80: 50 | K80: =J80*E80/D80 -> 28.195 | L80: =K80*F80/E80 -> 2.4375 | M80: =L80*G80/F80 -> 1.285 | N80: =M80*H80/G80 -> 1.72
B81: Joogijogurt, maitsestatud (L) | C81: Maitsestamata jogurt, naturaalne marjapüree (maasikas, vaarikas, mustad sõstrad, punased sõstrad, mustikas), suhkur | D81: 25 | E81: 18.6865 | F81: 3.03075 | G81: 0.375 | H81: 0.8 | J81: 50 | K81: =J81*E81/D81 -> 37.373 | L81: =K81*F81/E81 -> 6.0615 | M81: =L81*G81/F81 -> 0.75 | N81: =M81*H81/G81 -> 1.6
B82: Tee, suhkruta | C82: Teepuru, vesi | D82: 50 | E82: 0.2 | F82: 0 | G82: 0 | H82: 0.05 | J82: 50 | K82: =J82*E82/D82 -> 0.2 | L82: =K82*F82/E82 -> 0 | M82: 0 | N82: 0.05
B83: Rukkileiva (3 sorti) - ja sepikutoodete valik (G) | D83: 50 | E83: 123.1 | F83: 26.15 | G83: 1 | H83: 3.575 | J83: 30 | K83: =J83*E83/D83 -> 73.86 | L83: =K83*F83/E83 -> 15.69 | M83: =L83*G83/F83 -> 0.6 | N83: =M83*H83/G83 -> 2.145
B84: Valge redis | D84: 50 | E84: 9.45 | F84: 1.45 | G84: 0.05 | H84: 0.4 | J84: 50 | K84: =J84*E84/D84 -> 9.45 | L84: =K84*F84/E84 -> 1.45 | M84: =L84*G84/F84 -> 0.05 | N84: =M84*H84/G84 -> 0.4
B85: Pirn | D85: 50 | E85: 19.988 | F85: 5.97 | G85: 0 | H85: 0.15 | J85: 50 | K85: =J85*E85/D85 -> 19.988 | L85: =K85*F85/E85 -> 5.97 | M85: =L85*G85/F85 -> 0 | N85: 0.15
C86: Kokku: | E86: =SUM(E70,E72:E85) -> 816.69395 | F86: =SUM(F70,F72:F85) -> 102.6553 | G86: =SUM(G70,G72:G85) -> 29.3356 | H86: =SUM(H70,H72:H85) -> 32.6935 | K86: =SUM(K70,K72:K85) -> 903.02045 | L86: =SUM(L70,L72:L85) -> 113.12472 | M86: =SUM(M70,M72:M85) -> 31.9866 | N86: =SUM(N70,N72:N85) -> 36.496833
A87: NÄDALA KESKMINE KOKKU: | E87: =AVERAGE(E24,E37,E86,E68,E55) -> 697.91303 | F87: =AVERAGE(F24,F37,F86,F68,F55) -> 94.78196 | G87: =AVERAGE(G24,G37,G86,G68,G55) -> 23.21013 | H87: =AVERAGE(H24,H37,H86,H68,H55) -> 26.63997 | K87: =AVERAGE(K24,K37,K86,K68,K55) -> 966.20974 | L87: =AVERAGE(L24,L37,L86,L68,L55) -> 111.61947 | M87: =AVERAGE(M24,M37,M86,M68,M55) -> 40.40694 | N87: =AVERAGE(N24,N37,N86,N68,N55) -> 38.631667
C88: Põhitoitainetest saadava energia osakaal koguenergiast (%E) | F88: =(F87*4)/E87*100 -> 54.323078 | G88: =(G87*9)/E87*100 -> 29.930831 | H88: =(H87*4)/E87*100 -> 15.268361 | L88: =(L87*4)/K87*100 -> 46.209209 | M88: =(M87*9)/K87*100 -> 37.638045 | N88: =(N87*4)/K87*100 -> 15.993077
C89: Nõutud vahemik kahe nädala keskmisena | E89: 700-800 kcal | F89: 45-60%E | G89: 25-40%E | H89: 10-20%E | K89: 800-900 kcal | L89: 45-60%E | M89: 25-40%E | N89: 10-20%E
A90: Üldinfo menüü kohta
A91: Taimetoit võib sisaldada muna- ja piimatooteid
A92: Allergiat või toidutalumatust põhjustavate koostisosade kohta küsi lisainfot köögipersonalilt
A93: Joogivesi on igapäevaselt tasuta saadaval kogu päeva jooksul
A94: Menüü muudatused kooskõlastatakse kooliga vastavalt hankelepingule. Erandolukorras, kus muudatus on vältimatu (nt ootamatu tooraine puudus), teavitatakse kooli esimesel võimalusel ning tagatakse toidu toiteväärtuslikkus ja mitmekesisus
A95: Tähised menüüs
A96: G – sisaldab gluteeni | B96: L – sisaldab piimatooteid (sh laktoosi)
A97: M – sisaldab muna | B97: P – sisaldab pähkleid
A98: PT – portsjontoode | B98: VS-vähendatud suhkruga
A99: PRIA toetusprogrammid
A100: Koolipuuvilja ja - köögivilja ning koolipiima toetab osaliselt PRIA
A101: PRIA koolikava osalise toetusega pakutakse 1.–6. klassi õpilastele puu- ja köögivilju ning piima ja piimatooteid. 1.–9. klassi õpilastele piima ja piimatooteid.

Sheet Nädal_48
A1: #VALUE! | C1: #VALUE!
A6: Koolilõuna menüü
A7: 48. nädal | B7: 23.11-27.11.2026 | D7: 4-9.klass | J7: 10-12.klass
A8: Esmaspäev | B8: Lõunasöök | C8: Koostisosad | D8: Kogus, g | E8: Energia, kcal | F8: Süsivesikud, g | G8: Rasvad, g | H8: Valgud, g | J8: Kogus, g | K8: Energia, kcal | L8: Süsivesikud, g | M8: Rasvad, g | N8: Valgud, g
B9: Kodune sealihaguljašš | C9: Sealiha, vesi, rohelinepaprika, mugulsibul, tomatipüree, toiduiõli, küüslauk, petersell, jahvatatud paprika, söögisool, loorber, must pipar, vürtsköömen | D9: 120 | E9: 156.9108 | F9: 6.666 | G9: 11.628 | H9: 6.6756 | J9: 140 | K9: =J9*E9/D9 -> 183.0626 | L9: =K9*F9/E9 -> 7.777 | M9: =L9*G9/F9 -> 13.566 | N9: =M9*H9/G9 -> 7.7882
A10: Taimetoit | B10: Läätseguljašš (mahe) | C10: Läätsed ,vesi, roheline paprika, mugulsibul, tomatipüree, toiduiõli, küüslauk, värske petersell, jahvatatud paprika, söögisool, loorber, must pipar, vürtsköömen | D10: 120 | E10: 158.8836 | F10: 21.2076 | G10: 5.5044 | H10: 7.7964 | J10: 140 | K10: =J10*E10/D10 -> 185.3642 | L10: =K10*F10/E10 -> 24.7422 | M10: =L10*G10/F10 -> 6.4218 | N10: =M10*H10/G10 -> 9.0958
B11: Riis, aurutatud (mahe) | C11: Riis, vesi, söögisool | D11: 60 | E11: 94.6212 | F11: 16.1256 | G11: 2.8452 | H11: 1.3662 | J11: 100 | K11: =J11*E11/D11 -> 157.702 | L11: =K11*F11/E11 -> 26.876 | M11: =L11*G11/F11 -> 4.742 | N11: =M11*H11/G11 -> 2.277
B12: Kuskuss, aurutatud (G) | C12: Kuskuss, vesi, söögisool | D12: 60 | E12: 80.4 | F12: 16.32 | G12: 0 | H12: 2.48 | J12: 100 | K12: =J12*E12/D12 -> 134 | L12: =K12*F12/E12 -> 27.2 | M12: =L12*G12/F12 -> 0 | N12: =J12*H12/D12 -> 4.1333333
B13: Miniporgandid, aurutatud | C13: Miniporgand, vesi, söögisool | D13: 50 | E13: 16.2 | F13: 4.25 | G13: 0.1 | H13: 0.3 | J13: 50 | K13: =J13*E13/D13 -> 16.2 | L13: =K13*F13/E13 -> 4.25 | M13: =L13*G13/F13 -> 0.1 | N13: =M13*H13/G13 -> 0.3
B14: Külm jogurtikaste maitserohelisega | C14: Maitsestamata jogurt, roheline sibul, till, värske | D14: 50 | E14: 28.3715 | F14: 2.409 | G14: 1.332 | H14: 1.697 | J14: 50 | K14: =J14*E14/D14 -> 28.3715 | L14: =K14*F14/E14 -> 2.409 | M14: =L14*G14/F14 -> 1.332 | N14: =M14*H14/G14 -> 1.697
B15: Kapsa-mangosalat | C15: Valge peakapsas, mango | D15: 50 | E15: 19.5 | F15: 4.719 | G15: 0.1025 | H15: 0.51 | J15: 50 | K15: =J15*E15/D15 -> 19.5 | L15: =K15*F15/E15 -> 4.719 | M15: =L15*G15/F15 -> 0.1025 | N15: =M15*H15/G15 -> 0.51
B16: Peet, kaalikas, mais | D16: 30 | E16: 16.3508 | F16: 3.687 | G16: 0.17 | H16: 0.58 | J16: 30 | K16: =J16*E16/D16 -> 16.3508 | L16: =K16*F16/E16 -> 3.687 | M16: =L16*G16/F16 -> 0.17 | N16: =M16*H16/G16 -> 0.58
B17: Seemnesegu (mahe) | C17: Kõrvitsaseemned, päevalilleseemned, seesamiseemned | D17: 15 | E17: 91.31505 | F17: 1.92 | G17: 7.73505 | H17: 4.23495 | J17: 15 | K17: =J17*E17/D17 -> 91.31505 | L17: =K17*F17/E17 -> 1.92 | M17: =L17*G17/F17 -> 7.73505 | N17: =M17*H17/G17 -> 4.23495
A18: PRIA | B18: Piimatooted (piim, keefir R 2,5% ) (L) | D18: 50 | E18: 28.195 | F18: 2.4375 | G18: 1.285 | H18: 1.72 | J18: 50 | K18: =J18*E18/D18 -> 28.195 | L18: =K18*F18/E18 -> 2.4375 | M18: =L18*G18/F18 -> 1.285 | N18: =M18*H18/G18 -> 1.72
B19: Joogijogurt, maitsestatud (L) | C19: Maitsestamata jogurt, naturaalne marjapüree (maasikas, vaarikas, mustad sõstrad, punased sõstrad, mustikas), suhkur | D19: 50 | E19: 37.373 | F19: 6.0615 | G19: 0.75 | H19: 1.6 | J19: 50 | K19: =J19*E19/D19 -> 37.373 | L19: =K19*F19/E19 -> 6.0615 | M19: =L19*G19/F19 -> 0.75 | N19: =M19*H19/G19 -> 1.6
B20: Tee, suhkruta | C20: Teepuru, vesi | D20: 50 | E20: 0.2 | F20: 0 | G20: 0 | H20: 0.05 | J20: 50 | K20: =J20*E20/D20 -> 0.2 | L20: =K20*F20/E20 -> 0 | M20: 0 | N20: 0.05
B21: Rukkileiva (3 sorti) - ja sepikutoodete valik (G) | D21: 50 | E21: 123.1 | F21: 26.15 | G21: 1 | H21: 3.575 | J21: 50 | K21: =J21*E21/D21 -> 123.1 | L21: =K21*F21/E21 -> 26.15 | M21: =L21*G21/F21 -> 1 | N21: =M21*H21/G21 -> 3.575
B22: Porgand | D22: 50 | E22: 16.2 | F22: 2.8 | G22: 0.1 | H22: 0.3 | J22: 50 | K22: =J22*E22/D22 -> 16.2 | L22: =K22*F22/E22 -> 2.8 | M22: =L22*G22/F22 -> 0.1 | N22: =M22*H22/G22 -> 0.3
B23: Õun (mahe) | D23: 50 | E23: 24.038 | F23: 6.74 | G23: 0 | H23: 0 | J23: 50 | K23: =J23*E23/D23 -> 24.038 | L23: =K23*F23/E23 -> 6.74 | M23: =L23*G23/F23 -> 0 | N23: 0
C24: Kokku: | E24: =SUM(E9,E11:E23) -> 732.77535 | F24: =SUM(F9,F11:F23) -> 100.2856 | G24: =SUM(G9,G11:G23) -> 27.04775 | H24: =SUM(H9,H11:H23) -> 25.08875 | K24: =SUM(K9,K11:K23) -> 875.60795 | L24: =SUM(L9,L11:L23) -> 123.027 | M24: =SUM(M9,M11:M23) -> 30.88255 | N24: =SUM(N9,N11:N23) -> 28.765483
A25: Teisipäev | B25: Lõunasöök | C25: Koostisosad | D25: Kogus, g | E25: Energia, kcal | F25: Süsivesikud, g | G25: Rasvad, g | H25: Valgud, g | J25: Kogus, g | K25: Energia, kcal | L25: Süsivesikud, g | M25: Rasvad, g | N25: Valgud, g
B26: Pasta hakkliha ja köögiviljadega (G) | C26: Makaronid (durumnisujahu, vesi), veisehakkliha, porgand, mugulsibul, küüslauk, kuivatatud basiilik, pune, purustatud tomat, spinat, söögisool, must pipar, toiduõli | D26: 200 | E26: 361 | F26: 43.7 | G26: 13.3 | H26: 13.4 | J26: 300 | K26: =J26*E26/D26 -> 541.5 | L26: =K26*F26/E26 -> 65.55 | M26: =L26*G26/F26 -> 19.95 | N26: =M26*H26/G26 -> 20.1
A27: Taimetoit | B27: Pasta kikerherne ja juustuga (G, L) | C27: Makaronid (durumnisujahu, vesi),kikerherned, suvikõrvits, paprika, mugulsibul, küüslauk, kuivatatud basiilik, pune, toidukoor, söögisool, must pipar, tšillipipar, värske petersell, toiduõli | D27: 50 | E27: 86 | F27: 10.4 | G27: 3.28 | H27: 2.64 | J27: 50 | K27: =J27*E27/D27 -> 86 | L27: =K27*F27/E27 -> 10.4 | M27: =L27*G27/F27 -> 3.28 | N27: =M27*H27/G27 -> 2.64
B28: Aedoad küüslauguga, ahjus küpsetatud | C28: Aedoad, küüslauk, toiduõli, söögisool | D28: 50 | E28: 23.1077 | F28: 3.349 | G28: 1.0485 | H28: 0.864 | J28: 50 | K28: =J28*E28/D28 -> 23.1077 | L28: =K28*F28/E28 -> 3.349 | M28: =L28*G28/F28 -> 1.0485 | N28: =M28*H28/G28 -> 0.864
B29: Soe tomatikaste | C29: Tomat, mugulsibul, porgand, küüslauk, toiduõli, söögisool, basiilik, värske | D29: 50 | E29: 17.5985 | F29: 3.2825 | G29: 0.544 | H29: 0.3895 | J29: 50 | K29: =J29*E29/D29 -> 17.5985 | L29: =K29*F29/E29 -> 3.2825 | M29: =L29*G29/F29 -> 0.544 | N29: =M29*H29/G29 -> 0.3895
B30: Mahla-õlikaste | C30: Õunamahl 100% naturaalne, õunaäädikas, sinepipulber, söögisool, petersell, värske, toiduõli | D30: 5 | E30: 32.1894 | F30: 0.09705 | G30: 3.53055 | H30: 0.01355 | J30: 5 | K30: =J30*E30/D30 -> 32.1894 | L30: =K30*F30/E30 -> 0.09705 | M30: =L30*G30/F30 -> 3.53055 | N30: =M30*H30/G30 -> 0.01355
B31: Kõrvitsa-pastinaagi-virsikusalat | C31: Pastinaak, kõrvits, virsik | D31: 50 | E31: 18.3765 | F31: 4.4585 | G31: 0.15 | H31: 0.55 | J31: 50 | K31: =J31*E31/D31 -> 18.3765 | L31: =K31*F31/E31 -> 4.4585 | M31: =L31*G31/F31 -> 0.15 | N31: =M31*H31/G31 -> 0.55
B32: Hiina kapsas, tomat, roheline sibul (mahe) | D32: 30 | E32: 7.563 | F32: 1.42 | G32: 0.107 | H32: 0.46 | J32: 30 | K32: =J32*E32/D32 -> 7.563 | L32: =K32*F32/E32 -> 1.42 | M32: =L32*G32/F32 -> 0.107 | N32: =M32*H32/G32 -> 0.46
B33: Seemnesegu (mahe) | C33: Kõrvitsaseemned, päevalilleseemned, seesamiseemned | D33: 15 | E33: 91.31505 | F33: 1.92 | G33: 7.73505 | H33: 4.23495 | J33: 15 | K33: =J33*E33/D33 -> 91.31505 | L33: =K33*F33/E33 -> 1.92 | M33: =L33*G33/F33 -> 7.73505 | N33: =M33*H33/G33 -> 4.23495
A34: PRIA | B34: Piimatooted (piim, keefir R 2,5% ) (L) | D34: 50 | E34: 28.195 | F34: 2.4375 | G34: 1.285 | H34: 1.72 | J34: 50 | K34: =J34*E34/D34 -> 28.195 | L34: =K34*F34/E34 -> 2.4375 | M34: =L34*G34/F34 -> 1.285 | N34: =M34*H34/G34 -> 1.72
B35: Joogijogurt, maitsestatud (L) | C35: Maitsestamata jogurt, naturaalne marjapüree (maasikas, vaarikas, mustad sõstrad, punased sõstrad, mustikas), suhkur | D35: 50 | E35: 37.373 | F35: 6.0615 | G35: 0.75 | H35: 1.6 | J35: 50 | K35: =J35*E35/D35 -> 37.373 | L35: =K35*F35/E35 -> 6.0615 | M35: =L35*G35/F35 -> 0.75 | N35: =M35*H35/G35 -> 1.6
B36: Tee, suhkruta | C36: Teepuru, vesi | D36: 50 | E36: 0.2 | F36: 0 | G36: 0 | H36: 0.05 | J36: 50 | K36: =J36*E36/D36 -> 0.2 | L36: =K36*F36/E36 -> 0 | M36: 0 | N36: 0.05
B37: Rukkileiva (3 sorti) - ja sepikutoodete valik (G) | D37: 50 | E37: 123.1 | F37: 26.15 | G37: 1 | H37: 3.575 | J37: 50 | K37: =J37*E37/D37 -> 123.1 | L37: =K37*F37/E37 -> 26.15 | M37: =L37*G37/F37 -> 1 | N37: =M37*H37/G37 -> 3.575
B38: Valge/punane peakapsas | D38: 50 | E38: 14.9 | F38: 2.29 | G38: 0.075 | H38: 0.675 | J38: 50 | K38: =J38*E38/D38 -> 14.9 | L38: =K38*F38/E38 -> 2.29 | M38: =L38*G38/F38 -> 0.075 | N38: =M38*H38/G38 -> 0.675
B39: Pirn | D39: 50 | E39: 19.988 | F39: 5.97 | G39: 0 | H39: 0.15 | J39: 50 | K39: =J39*E39/D39 -> 19.988 | L39: =K39*F39/E39 -> 5.97 | M39: =L39*G39/F39 -> 0 | N39: 0.15
C40: Kokku: | E40: =SUM(E26,E28:E39) -> 774.90615 | F40: =SUM(F26,F28:F39) -> 101.13605 | G40: =SUM(G26,G28:G39) -> 29.5251 | H40: =SUM(H26,H28:H39) -> 27.682 | K40: =SUM(K26,K28:K39) -> 955.40615 | L40: =SUM(L26,L28:L39) -> 122.98605 | M40: =SUM(M26,M28:M39) -> 36.1751 | N40: =SUM(N26,N28:N39) -> 34.382
A41: Kolmapäev | B41: Lõunasöök | C41: Koostisosad | D41: Kogus, g | E41: Energia, kcal | F41: Süsivesikud, g | G41: Rasvad, g | H41: Valgud, g | J41: Kogus, g | K41: Energia, kcal | L41: Süsivesikud, g | M41: Rasvad, g | N41: Valgud, g
B42: Kana-kruubisupp (G) | C42: Kanaliha, odrakruup, kartul, porgand, mugulsibul, porrulauk, toiduõli, vesi, söögisool, must pipar | D42: 200 | E42: 94.4 | F42: 9.68 | G42: 4.2 | H42: 3.76 | J42: 300 | K42: =J42*E42/D42 -> 141.6 | L42: =K42*F42/E42 -> 14.52 | M42: =L42*G42/F42 -> 6.3 | N42: =M42*H42/G42 -> 5.64
A43: Taimetoit | B43: Külasupp roheliste hernestega (G) | C43: Kartul, valge peakapsas, mugulsibul, porgand, juurseller, kaalikas, odrakruup, vesi, loorber, söögisool, must pipar, toiduõli, herned, | D43: 200 | E43: 106.4 | F43: 15.52 | G43: 2.504 | H43: 3.176 | J43: 300 | K43: =J43*E43/D43 -> 159.6 | L43: =K43*F43/E43 -> 23.28 | M43: =L43*G43/F43 -> 3.756 | N43: =M43*H43/G43 -> 4.764
B44: Marjamuffin (G, L, M) | C44: Nisujahu, marjad, kanamuna, piim, toiduõli, suhkur, vanillisuhkur, küpsetuspulber | D44: 50 | E44: 132 | F44: 15.4 | G44: 6.85 | H44: 1.71 | J44: 50 | K44: =J44*E44/D44 -> 132 | L44: =K44*F44/E44 -> 15.4 | M44: =L44*G44/F44 -> 6.85 | N44: =M44*H44/G44 -> 1.71
B45: Pohla-kamavaht (G, L) | C45: Maitsestamata jogurt, keefir, vahukoor, kamajahu (nisu, rukis, oder, hernes), pohlad, suhkur, ž4elatiin, vesi | D45: 100 | E45: 127.5 | F45: 10.9375 | G45: 6.9375 | H45: 4.0625 | J45: 100 | K45: =J45*E45/D45 -> 127.5 | L45: =K45*F45/E45 -> 10.9375 | M45: =L45*G45/F45 -> 6.9375 | N45: =M45*H45/G45 -> 4.0625
A46: PRIA | B46: Piimatooted (piim, keefir R 2,5% ) (L) | D46: 50 | E46: 28.195 | F46: 2.4375 | G46: 1.285 | H46: 1.72 | J46: 50 | K46: =J46*E46/D46 -> 28.195 | L46: =K46*F46/E46 -> 2.4375 | M46: =L46*G46/F46 -> 1.285 | N46: =M46*H46/G46 -> 1.72
B47: Mahl (erinevad maitsed) | C47: Rõngu suhkruvaba mahlakonsentraat 100% naturaalne, vesi | D47: 50 | E47: 24.2644 | F47: 5.891 | G47: 0.025 | H47: 0.1815 | J47: 50 | K47: =J47*E47/D47 -> 24.2644 | L47: =K47*F47/E47 -> 5.891 | M47: =L47*G47/F47 -> 0.025 | N47: =M47*H47/G47 -> 0.1815
B48: Joogijogurt, maitsestatud (L) | C48: Maitsestamata jogurt, naturaalne marjapüree (maasikas, vaarikas, mustad sõstrad, punased sõstrad, mustikas), suhkur | D48: 50 | E48: 37.373 | F48: 6.0615 | G48: 0.75 | H48: 1.6 | J48: 50 | K48: =J48*E48/D48 -> 37.373 | L48: =K48*F48/E48 -> 6.0615 | M48: =L48*G48/F48 -> 0.75 | N48: =M48*H48/G48 -> 1.6
B49: Tee, suhkruta | C49: Teepuru, vesi | D49: 50 | E49: 0.2 | F49: 0 | G49: 0 | H49: 0.05 | J49: 50 | K49: =J49*E49/D49 -> 0.2 | L49: =K49*F49/E49 -> 0 | M49: 0 | N49: 0.05
B50: Rukkileiva (3 sorti) - ja sepikutoodete valik (G) | D50: 50 | E50: 123.1 | F50: 26.15 | G50: 1 | H50: 3.575 | J50: 50 | K50: =J50*E50/D50 -> 123.1 | L50: =K50*F50/E50 -> 26.15 | M50: =L50*G50/F50 -> 1 | N50: =M50*H50/G50 -> 3.575
B51: Karask (G, L, M) | C51: Keefir, odrajahu, nisujahu, kanamuna, hapukoor, või, söögisool, suhkur, söögisooda | D51: 30 | E51: 77.9 | F51: 9.92 | G51: 3.01 | H51: 2.33 | J51: 30 | K51: =J51*E51/D51 -> 77.9 | L51: =K51*F51/E51 -> 9.92 | M51: =L51*G51/F51 -> 3.01 | N51: =M51*H51/G51 -> 2.33
B52: Porgand | D52: 50 | E52: 16.2 | F52: 2.8 | G52: 0.1 | H52: 0.3 | J52: 50 | K52: =J52*E52/D52 -> 16.2 | L52: =K52*F52/E52 -> 2.8 | M52: =L52*G52/F52 -> 0.1 | N52: =M52*H52/G52 -> 0.3
B53: Õun (mahe) | D53: 50 | E53: 24.038 | F53: 6.74 | G53: 0 | H53: 0 | J53: 50 | K53: =J53*E53/D53 -> 24.038 | L53: =K53*F53/E53 -> 6.74 | M53: =L53*G53/F53 -> 0 | N53: 0
C54: Kokku: | E54: =SUM(E42,E44:E53) -> 685.1704 | F54: =SUM(F42,F44:F53) -> 96.0175 | G54: =SUM(G42,G44:G53) -> 24.1575 | H54: =SUM(H42,H44:H53) -> 19.289 | K54: =SUM(K42,K44:K53) -> 732.3704 | L54: =SUM(L42,L44:L53) -> 100.8575 | M54: =SUM(M42,M44:M53) -> 26.2575 | N54: =SUM(N42,N44:N53) -> 21.169
A55: Neljapäev | B55: Lõunasöök | C55: Koostisosad | D55: Kogus, g | E55: Energia, kcal | F55: Süsivesikud, g | G55: Rasvad, g | H55: Valgud, g | J55: Kogus, g | K55: Energia, kcal | L55: Süsivesikud, g | M55: Rasvad, g | N55: Valgud, g
B56: Kanamaks hapukoorekastmes (G, L) | C56: Kanamaks, mugulsibul, nisujahu, vesi, toidukoor, hapukoor, toiduõli, söögisool, must pipar, petersell | D56: 120 | E56: 144 | F56: 7.36 | G56: 9.66 | H56: 6.6 | J56: 140 | K56: =J56*E56/D56 -> 168 | L56: =K56*F56/E56 -> 8.5866667 | M56: =L56*G56/F56 -> 11.27 | N56: =M56*H56/G56 -> 7.7
A57: Taimetoit | B57: Läätsepada brokoli, porgandi ja paprikaga (L) | C57: Läätsed, brokoli, porgand, küüslauk, mugulsibul, paprika, sidrunikoor, toidukoor, must pipar, söögisool, toiduõli, vesi, värske till | D57: 120 | E57: 163.2 | F57: 14.58 | G57: 7.74 | H57: 6.96 | J57: 140 | K57: =J57*E57/D57 -> 190.4 | L57: =K57*F57/E57 -> 17.01 | M57: =L57*G57/F57 -> 9.03 | N57: =M57*H57/G57 -> 8.12
B58: Kartul, aurutatud (mahe) | C58: Kartul, vesi, söögisool | D58: 60 | E58: 44.37 | F58: 10.098 | G58: 0.0612 | H58: 1.1628 | J58: 100 | K58: =J58*E58/D58 -> 73.95 | L58: =K58*F58/E58 -> 16.83 | M58: =L58*G58/F58 -> 0.102 | N58: =M58*H58/G58 -> 1.938
B59: Tatar, aurutatud (mahe) | C59: Tatar, söögisool, vesi | D59: 60 | E59: 48.36 | F59: 10.185 | G59: 0.3 | H59: 1.785 | J59: 100 | K59: =J59*E59/D59 -> 80.6 | L59: =K59*F59/E59 -> 16.975 | M59: =L59*G59/F59 -> 0.5 | N59: =M59*H59/G59 -> 2.975
B60: Pastinaak, röstitud | C60: Pastinaak, toiduõli, söögisool | D60: 50 | E60: 32.2 | F60: 7.95 | G60: 0.3 | H60: 0.85 | J60: 100 | K60: =J60*E60/D60 -> 64.4 | L60: =K60*F60/E60 -> 15.9 | M60: =L60*G60/F60 -> 0.6 | N60: =M60*H60/G60 -> 1.7
B61: Hapukoorekaste hapukurgi ja sibulaga (L) | C61: Hapukoor, mugulsibul, hapukurk (vesi, söögisool, till), till, suhkur, söögisool, must pipar | D61: 50 | E61: 90 | F61: 2.34 | G61: 8.29 | H61: 1.41 | J61: 50 | K61: =J61*E61/D61 -> 90 | L61: =K61*F61/E61 -> 2.34 | M61: =L61*G61/F61 -> 8.29 | N61: =M61*H61/G61 -> 1.41
B62: Mahla-õlikaste | C62: Õunamahl 100% naturaalne, õunaäädikas, sinepipulber, söögisool, petersell, värske, toiduõli | D62: 5 | E62: 32.1894 | F62: 0.09705 | G62: 3.53055 | H62: 0.01355 | J62: 5 | K62: =J62*E62/D62 -> 32.1894 | L62: =K62*F62/E62 -> 0.09705 | M62: =L62*G62/F62 -> 3.53055 | N62: =M62*H62/G62 -> 0.01355
B63: Porgandi-ananassisalat | C63: Porgand, toiduõli, ananass | D63: 100 | E63: 45.309 | F63: 8.637 | G63: 1.543 | H63: 0.574 | J63: 100 | K63: =J63*E63/D63 -> 45.309 | L63: =K63*F63/E63 -> 8.637 | M63: =L63*G63/F63 -> 1.543 | N63: =M63*H63/G63 -> 0.574
B64: Nuikapsas, kikerherned, punane redis | D64: 100 | E64: 59.266667 | F64: 11.9 | G64: 1.0666667 | H64: 3.1333333 | J64: 100 | K64: =J64*E64/D64 -> 59.266667 | L64: =K64*F64/E64 -> 11.9 | M64: =L64*G64/F64 -> 1.0666667 | N64: =M64*H64/G64 -> 3.1333333
B65: Seemnesegu (mahe) | C65: Kõrvitsaseemned, päevalilleseemned, seesamiseemned | D65: 10 | E65: 60.8767 | F65: 1.28 | G65: 5.1567 | H65: 2.8233 | J65: 10 | K65: =J65*E65/D65 -> 60.8767 | L65: =K65*F65/E65 -> 1.28 | M65: =L65*G65/F65 -> 5.1567 | N65: =M65*H65/G65 -> 2.8233
A66: PRIA | B66: Piimatooted (piim, keefir R 2,5% ) (L) | D66: 50 | E66: 28.195 | F66: 2.4375 | G66: 1.285 | H66: 1.72 | J66: 50 | K66: =J66*E66/D66 -> 28.195 | L66: =K66*F66/E66 -> 2.4375 | M66: =L66*G66/F66 -> 1.285 | N66: =M66*H66/G66 -> 1.72
B67: Joogijogurt, maitsestatud (L) | C67: Maitsestamata jogurt, naturaalne marjapüree (maasikas, vaarikas, mustad sõstrad, punased sõstrad, mustikas), suhkur | D67: 50 | E67: 37.373 | F67: 6.0615 | G67: 0.75 | H67: 1.6 | J67: 50 | K67: =J67*E67/D67 -> 37.373 | L67: =K67*F67/E67 -> 6.0615 | M67: =L67*G67/F67 -> 0.75 | N67: =M67*H67/G67 -> 1.6
B68: Tee, suhkruta | C68: Teepuru, vesi | D68: 50 | E68: 0.2 | F68: 0 | G68: 0 | H68: 0.05 | J68: 50 | K68: =J68*E68/D68 -> 0.2 | L68: =K68*F68/E68 -> 0 | M68: 0 | N68: 0.05
B69: Rukkileiva (3 sorti) - ja sepikutoodete valik (G) | D69: 50 | E69: 123.1 | F69: 26.15 | G69: 1 | H69: 3.575 | J69: 50 | K69: =J69*E69/D69 -> 123.1 | L69: =K69*F69/E69 -> 26.15 | M69: =L69*G69/F69 -> 1 | N69: =M69*H69/G69 -> 3.575
B70: Valge/punane peakapsas | D70: 50 | E70: 14.9 | F70: 2.29 | G70: 0.075 | H70: 0.675 | J70: 50 | K70: =J70*E70/D70 -> 14.9 | L70: =K70*F70/E70 -> 2.29 | M70: =L70*G70/F70 -> 0.075 | N70: =M70*H70/G70 -> 0.675
B71: Pirn | D71: 50 | E71: 19.988 | F71: 5.97 | G71: 0 | H71: 0.15 | J71: 50 | K71: =J71*E71/D71 -> 19.988 | L71: =K71*F71/E71 -> 5.97 | M71: =L71*G71/F71 -> 0 | N71: 0.15
C72: Kokku: | E72: =SUM(E56,E58:E71) -> 780.32777 | F72: =SUM(F56,F58:F71) -> 102.75605 | G72: =SUM(G56,G58:G71) -> 33.018117 | H72: =SUM(H56,H58:H71) -> 26.121983 | K72: =SUM(K56,K58:K71) -> 898.34777 | L72: =SUM(L56,L58:L71) -> 125.45472 | M72: =SUM(M56,M58:M71) -> 35.168917 | N72: =SUM(N56,N58:N71) -> 30.037183
A73: Reede | B73: Lõunasöök | C73: Koostisosad | D73: Kogus, g | E73: Energia, kcal | F73: Süsivesikud, g | G73: Rasvad, g | H73: Valgud, g | J73: Kogus, g | K73: Energia, kcal | L73: Süsivesikud, g | M73: Rasvad, g | N73: Valgud, g
B74: Jogurti-ürdimarinaadis broileri poolkoib (L, PT) | C74: Broileri poolkoib, maitsestamata jogurt, küüslauk, söögisool, must pipar, värske petersell, Prantsuse ürdisegu (rosmariin, petersell, majoraan, pune, tüümian, basiilik, aed-piprarohi, estragon), toiduõli | D74: 75 | E74: 133.5 | F74: 0.1875 | G74: 5.49 | H74: 20.85 | J74: 80 | K74: =J74*E74/D74 -> 142.4 | L74: =K74*F74/E74 -> 0.2 | M74: =L74*G74/F74 -> 5.856 | N74: =M74*H74/G74 -> 22.24
A75: Taimetoit | B75: Juurviljapihv (G, L, M, PT) | C75: Porgand, pastinaak, kartul, täistera speltanisujahu, hapukoor, kaerahelbed, või, kuivatatud tüümian, kanamuna, söögisool, must pipar | D75: 50 | E75: 41.3 | F75: 4.86 | G75: 1.66 | H75: 1.27 | J75: 60 | K75: =J75*E75/D75 -> 49.56 | L75: =K75*F75/E75 -> 5.832 | M75: =L75*G75/F75 -> 1.992 | N75: =M75*H75/G75 -> 1.524
B76: Riis, aurutatud (mahe) | C76: Riis, vesi, söögisool | D76: 60 | E76: 94.6212 | F76: 16.1256 | G76: 2.8452 | H76: 1.3662 | J76: 100 | K76: =J76*E76/D76 -> 157.702 | L76: =K76*F76/E76 -> 26.876 | M76: =L76*G76/F76 -> 4.742 | N76: =M76*H76/G76 -> 2.277
B77: Täisterapasta/pasta (G) (mahe) | C77: Täisterapasta / pasta (durumnisujahu, vesi), vesi, söögisool, toiduõli | D77: 60 | E77: 90.8 | F77: 15.8 | G77: 1.55 | H77: 2.74 | J77: 100 | K77: =J77*E77/D77 -> 151.33333 | L77: =K77*F77/E77 -> 26.333333 | M77: =L77*G77/F77 -> 2.5833333 | N77: =M77*H77/G77 -> 4.5666667
B78: Ahjuköögiviljad | C78: Kaalikas, bataat, pastinaak, porgand, paprika, rosmariin, toiduõli, söögisool | D78: 50 | E78: 44.3235 | F78: 7.4645 | G78: 1.7245 | H78: 0.721 | J78: 60 | K78: =J78*E78/D78 -> 53.1882 | L78: =K78*F78/E78 -> 8.9574 | M78: =L78*G78/F78 -> 2.0694 | N78: =M78*H78/G78 -> 0.8652
B79: Soe valge kaste (G, L) | C79: Toiduõli, nisujahu, piim, söögisool, toidukoor | D79: 50 | E79: 59.126 | F79: 4.077 | G79: 3.946 | H79: 1.873 | J79: 50 | K79: =J79*E79/D79 -> 59.126 | L79: =K79*F79/E79 -> 4.077 | M79: =L79*G79/F79 -> 3.946 | N79: =M79*H79/G79 -> 1.873
B80: Külm küüslaugu-jogurtikaste (L) | C80: Maitsestamata jogurt, söögisool, suhkur, küüslauk | D80: 10 | E80: 12.7903 | F80: 1.4038 | G80: 0.6862 | H80: 0.2556 | J80: 10 | K80: =J80*E80/D80 -> 12.7903 | L80: =K80*F80/E80 -> 1.4038 | M80: =L80*G80/F80 -> 0.6862 | N80: =M80*H80/G80 -> 0.2556
B81: Kõrvitsa-porgandi-virsikusalat | C81: Kõrvits, porgand, virsik, toiduõli | D81: 100 | E81: 40.7 | F81: 6.67 | G81: 0.247 | H81: 1.72 | J81: 100 | K81: =J81*E81/D81 -> 40.7 | L81: =K81*F81/E81 -> 6.67 | M81: =L81*G81/F81 -> 0.247 | N81: =M81*H81/G81 -> 1.72
B82: Hiina kapsas, marineeritud punane sibul, brokoli | C82: Hiina kapsas, marineeritud punane sibul (punane sibul, sidrunimahl, must pipar, söögisool, vesi, suhkur) brokoli | D82: 100 | E82: 30.086667 | F82: 5.4333333 | G82: 0.36666667 | H82: 2.3333333 | J82: 100 | K82: =J82*E82/D82 -> 30.086667 | L82: =K82*F82/E82 -> 5.4333333 | M82: =L82*G82/F82 -> 0.36666667 | N82: =M82*H82/G82 -> 2.3333333
B83: Seemnesegu (mahe) | C83: Kõrvitsaseemned, päevalilleseemned, seesamiseemned | D83: 10 | E83: 60.8767 | F83: 1.28 | G83: 5.1567 | H83: 2.8233 | J83: 10 | K83: =J83*E83/D83 -> 60.8767 | L83: =K83*F83/E83 -> 1.28 | M83: =L83*G83/F83 -> 5.1567 | N83: =M83*H83/G83 -> 2.8233
A84: PRIA | B84: Piimatooted (piim, keefir R 2,5% ) (L) | D84: 50 | E84: 28.195 | F84: 2.4375 | G84: 1.285 | H84: 1.72 | J84: 50 | K84: =J84*E84/D84 -> 28.195 | L84: =K84*F84/E84 -> 2.4375 | M84: =L84*G84/F84 -> 1.285 | N84: =M84*H84/G84 -> 1.72
B85: Joogijogurt, maitsestatud (L) | C85: Maitsestamata jogurt, naturaalne marjapüree (maasikas, vaarikas, mustad sõstrad, punased sõstrad, mustikas), suhkur | D85: 50 | E85: 37.373 | F85: 6.0615 | G85: 0.75 | H85: 1.6 | J85: 50 | K85: =J85*E85/D85 -> 37.373 | L85: =K85*F85/E85 -> 6.0615 | M85: =L85*G85/F85 -> 0.75 | N85: =M85*H85/G85 -> 1.6
B86: Tee, suhkruta | C86: Teepuru, vesi | D86: 50 | E86: 0.2 | F86: 0 | G86: 0 | H86: 0.05 | J86: 50 | K86: =J86*E86/D86 -> 0.2 | L86: =K86*F86/E86 -> 0 | M86: 0 | N86: 0.05
B87: Rukkileiva (3 sorti) - ja sepikutoodete valik (G) | D87: 50 | E87: 123.1 | F87: 26.15 | G87: 1 | H87: 3.575 | J87: 50 | K87: =J87*E87/D87 -> 123.1 | L87: =K87*F87/E87 -> 26.15 | M87: =L87*G87/F87 -> 1 | N87: =M87*H87/G87 -> 3.575
B88: Porgand | D88: 50 | E88: 16.2 | F88: 2.8 | G88: 0.1 | H88: 0.3 | J88: 50 | K88: =J88*E88/D88 -> 16.2 | L88: =K88*F88/E88 -> 2.8 | M88: =L88*G88/F88 -> 0.1 | N88: =M88*H88/G88 -> 0.3
B89: Õun (mahe) | D89: 50 | E89: 24.038 | F89: 6.74 | G89: 0 | H89: 0 | J89: 50 | K89: =J89*E89/D89 -> 24.038 | L89: =K89*F89/E89 -> 6.74 | M89: =L89*G89/F89 -> 0 | N89: 0
C90: Kokku: | E90: =SUM(E74,E76:E89) -> 795.93037 | F90: =SUM(F74,F76:F89) -> 102.63073 | G90: =SUM(G74,G76:G89) -> 25.147267 | H90: =SUM(H74,H76:H89) -> 41.927433 | K90: =SUM(K74,K76:K89) -> 937.3092 | L90: =SUM(L74,L76:L89) -> 125.41987 | M90: =SUM(M74,M76:M89) -> 28.7883 | N90: =SUM(N74,N76:N89) -> 46.1991
A91: NÄDALA KESKMINE KOKKU: | E91: =AVERAGE(E24,E40,E54,E72,E90) -> 753.82201 | F91: =AVERAGE(F24,F40,F54,F72,F90) -> 100.56519 | G91: =AVERAGE(G24,G40,G54,G72,G90) -> 27.779147 | H91: =AVERAGE(H24,H40,H54,H72,H90) -> 28.021833 | K91: =AVERAGE(K90,K72,K54,K40,K24) -> 879.80829 | L91: =AVERAGE(L90,L72,L54,L40,L24) -> 119.54903 | M91: =AVERAGE(M90,M72,M54,M40,M24) -> 31.454473 | N91: =AVERAGE(N90,N72,N54,N40,N24) -> 32.110553
C92: Põhitoitainetest saadava energia osakaal koguenergiast (%E) | F92: =(F91*4)/E91*100 -> 53.362829 | G92: =(G91*9)/E91*100 -> 33.165962 | H92: =(H91*4)/E91*100 -> 14.869204 | L92: =(L91*4)/K91*100 -> 54.352307 | M92: =(M91*9)/K91*100 -> 32.176357 | N92: =(N91*4)/K91*100 -> 14.598886
C93: Nõutud vahemik kahe nädala keskmisena | E93: 700-800 kcal | F93: 45-60%E | G93: 25-40%E | H93: 10-20%E | K93: 800-900 kcal | L93: 45-60%E | M93: 25-40%E | N93: 10-20%E
A94: Üldinfo menüü kohta
A95: Taimetoit võib sisaldada muna- ja piimatooteid
A96: Allergiat või toidutalumatust põhjustavate koostisosade kohta küsi lisainfot köögipersonalilt
A97: Joogivesi on igapäevaselt tasuta saadaval kogu päeva jooksul
A98: Menüü muudatused kooskõlastatakse kooliga vastavalt hankelepingule. Erandolukorras, kus muudatus on vältimatu (nt ootamatu tooraine puudus), teavitatakse kooli esimesel võimalusel ning tagatakse toidu toiteväärtuslikkus ja mitmekesisus
A99: Tähised menüüs
A100: G – sisaldab gluteeni | B100: L – sisaldab piimatooteid (sh laktoosi)
A101: M – sisaldab muna | B101: P – sisaldab pähkleid
A102: PT – portsjontoode | B102: VS-vähendatud suhkruga
A103: PRIA toetusprogrammid
A104: Koolipuuvilja ja - köögivilja ning koolipiima toetab osaliselt PRIA
...

Sheet Nädal_49
A1: #VALUE! | C1: #VALUE!
A6: KOOLILÕUNA MENÜÜ
A7: 49. nädal | B7: 30.11-04.12.2026 | D7: 4-9.klass | J7: 10-12.klass
A8: Esmaspäev | B8: Lõunasöök | C8: Koostisosad | D8: Kogus, g | E8: Energia, kcal | F8: Süsivesikud, g | G8: Rasvad, g | H8: Valgud, g | J8: Kogus, g | K8: Energia, kcal | L8: Süsivesikud, g | M8: Rasvad, g | N8: Valgud, g
B9: Kanalihatükid magushapus kastmes | C9: Kanaliha, vesi, porgand, mugulsibul, paprika, tomatipasta, ananassimahl, ananass, sidrunimahl, toiduõli, sojakaste (sojauba, vesi, söögisool, nisujahu), maisitärklis, küüslauk, suhkur, ingverijuur, söögisool, must pipar | D9: 120 | E9: 88.4 | F9: 5.66 | G9: 4.66 | H9: 5.48 | J9: 140 | K9: =J9*E9/D9 -> 117.86667 | L9: =K9*F9/E9 -> 7.5466667 | M9: =L9*G9/F9 -> 6.2133333 | N9: =M9*H9/G9 -> 7.3066667
A10: Taimetoit | B10: Magushapu tofupada seesamiseemnetega | C10: Tofu, porgand, paprika, küüslauk, ananass, tomatipasta, vesi, ingver, toiduõli, ananassimahl, maisitärklis, sidrunimahl, suhkur, söögisool, must pipar, petersell, sojakaste, seesamiseemned | D10: 120 | E10: 95.28 | F10: 14.28 | G10: 2.472 | H10: 2.916 | J10: 140 | K10: =J10*E10/D10 -> 127.04 | L10: =K10*F10/E10 -> 19.04 | M10: =L10*G10/F10 -> 3.296 | N10: =M10*H10/G10 -> 3.888
B11: Tatar, aurutatud (mahe) | C11: Tatar, söögisool, vesi | D11: 60 | E11: 48.36 | F11: 10.185 | G11: 0.3 | H11: 1.785 | J11: 100 | K11: =J11*E11/D11 -> 80.6 | L11: =K11*F11/E11 -> 16.975 | M11: =L11*G11/F11 -> 0.5 | N11: =M11*H11/G11 -> 2.975
B12: Kuskuss, aurutatud (G) | C12: Kuskuss, vesi, söögisool | D12: 60 | E12: 80.4 | F12: 16.32 | G12: 0 | H12: 2.48 | J12: 100 | K12: =J12*E12/D12 -> 134 | L12: =K12*F12/E12 -> 27.2 | M12: =L12*G12/F12 -> 0 | N12: =J12*H12/D12 -> 4.1333333
B13: Porgand, aurutatud | D13: 50 | E13: 17.2365 | F13: 4.522 | G13: 0.1065 | H13: 0.319 | J13: 100 | K13: =J13*E13/D13 -> 34.473 | L13: =K13*F13/E13 -> 9.044 | M13: =L13*G13/F13 -> 0.213 | N13: =M13*H13/G13 -> 0.638
B14: Peedi-õunasalat pohladega | C14: Keedupeet, õun, pohlad, suhkur, söögisool | D14: 100 | E14: 41.8 | F14: 5.2751196 | G14: 0.13733714 | H14: 1.6058376 | J14: 100 | K14: =J14*E14/D14 -> 41.8 | L14: =K14*F14/E14 -> 5.2751196 | M14: =L14*G14/F14 -> 0.13733714 | N14: =M14*H14/G14 -> 1.6058376
B15: Kapsas, roheline hernes, redis | D15: 100 | E15: 43.9 | F15: 5.55 | G15: 0.3 | H15: 2.86 | J15: 100 | K15: =J15*E15/D15 -> 43.9 | L15: =K15*F15/E15 -> 5.55 | M15: =L15*G15/F15 -> 0.3 | N15: =M15*H15/G15 -> 2.86
B16: Seemnesegu (mahe) | C16: Kõrvitsaseemned, päevalilleseemned, seesamiseemned | D16: 15 | E16: 91.31505 | F16: 1.92 | G16: 7.73505 | H16: 4.23495 | J16: 15 | K16: =J16*E16/D16 -> 91.31505 | L16: =K16*F16/E16 -> 1.92 | M16: =L16*G16/F16 -> 7.73505 | N16: =M16*H16/G16 -> 4.23495
B17: Külm jogurtikaste (L) | C17: Maitsestamata jogurt, söögisool, suhkur, till | D17: 10 | E17: 4.1117 | F17: 0.5458 | G17: 0.0491 | H17: 0.38 | J17: 10 | K17: =J17*E17/D17 -> 4.1117 | L17: =K17*F17/E17 -> 0.5458 | M17: =L17*G17/F17 -> 0.0491 | N17: =M17*H17/G17 -> 0.38
A18: PRIA | B18: Piimatooted (piim, keefir) (L) | D18: 50 | E18: 28.195 | F18: 2.4375 | G18: 1.285 | H18: 1.72 | J18: 50 | K18: =J18*E18/D18 -> 28.195 | L18: =K18*F18/E18 -> 2.4375 | M18: =L18*G18/F18 -> 1.285 | N18: =M18*H18/G18 -> 1.72
B19: Joogijogurt , maitsestatud (L) | C19: Maitsestamata jogurt, naturaalne marjapüree (maasikas, vaarikas, mustad sõstrad, punased sõstrad, mustikas), suhkur | D19: 50 | E19: 37.373 | F19: 6.0615 | G19: 0.75 | H19: 1.6 | J19: 50 | K19: =J19*E19/D19 -> 37.373 | L19: =K19*F19/E19 -> 6.0615 | M19: =L19*G19/F19 -> 0.75 | N19: =M19*H19/G19 -> 1.6
B20: Tee, suhkruta | C20: Teepuru, vesi | D20: 50 | E20: 0.2 | F20: 0 | G20: 0 | H20: 0.05 | J20: 50 | K20: =J20*E20/D20 -> 0.2 | L20: =K20*F20/E20 -> 0 | M20: 0 | N20: 0.05
B21: Rukkileiva (3 sorti) - ja sepikutoodete valik(G) | D21: 30 | E21: 73.86 | F21: 15.69 | G21: 0.6 | H21: 2.145 | J21: 30 | K21: =J21*E21/D21 -> 73.86 | L21: =K21*F21/E21 -> 15.69 | M21: =L21*G21/F21 -> 0.6 | N21: =M21*H21/G21 -> 2.145
B22: Valge redis | D22: 50 | E22: 9.45 | F22: 1.45 | G22: 0.05 | H22: 0.4 | J22: 50 | K22: =J22*E22/D22 -> 9.45 | L22: =K22*F22/E22 -> 1.45 | M22: =L22*G22/F22 -> 0.05 | N22: =M22*H22/G22 -> 0.4
B23: Pirn | D23: 50 | E23: 19.988 | F23: 5.97 | G23: 0 | H23: 0.15 | J23: 50 | K23: =J23*E23/D23 -> 19.988 | L23: =K23*F23/E23 -> 5.97 | M23: =L23*G23/F23 -> 0 | N23: 0.15
A24: Kokku: | E24: =SUM(E9,E11:E23) -> 659.47908 | F24: =SUM(F9,F11:F23) -> 95.887253 | G24: =SUM(G9,G11:G23) -> 16.956154 | H24: =SUM(H9,H11:H23) -> 27.863788 | K24: =SUM(K9,K11:K23) -> 717.13242 | L24: =SUM(L9,L11:L23) -> 105.66559 | M24: =SUM(M9,M11:M23) -> 17.83282 | N24: =SUM(N9,N11:N23) -> 30.198788
A25: Teisipäev | B25: Lõunasöök | C25: Koostisosad | D25: Kogus, g | E25: Energia, kcal | F25: Süsivesikud, g | G25: Rasvad, g | H25: Valgud, g | J25: Kogus, g | K25: Energia, kcal | L25: Süsivesikud, g | M25: Rasvad, g | N25: Valgud, g
B26: Värskekapsasupp veiselihaga | C26: Veiseliha, kapsas, kartul, porgand, mugulsibul, petersell, loorber, must pipar, toiduõli, söögisool, vesi, sidrunimahl | D26: 200 | E26: 156 | F26: 7.83 | G26: 10.3 | H26: 6.93 | J26: 300 | K26: =J26*E26/D26 -> 234 | L26: =K26*F26/E26 -> 11.745 | M26: =L26*G26/F26 -> 15.45 | N26: =M26*H26/G26 -> 10.395
A27: Taimetoit | B27: Värskekapsasupp kikerhernestega (mahe) | C27: Kikerherned, kapsas, porgand, kartul, mugulsibul, vesi, loorber, must pipar, toiduõli, petersell | D27: 200 | E27: 150.4 | F27: 13.32 | G27: 7.28 | H27: 4.52 | J27: 300 | K27: =J27*E27/D27 -> 225.6 | L27: =K27*F27/E27 -> 19.98 | M27: =L27*G27/F27 -> 10.92 | N27: =M27*H27/G27 -> 6.78
B28: Hapukoor R 10% (L) | D28: 30 | E28: 35.52 | F28: 1.23 | G28: 3 | H28: 0.9 | J28: 30 | K28: =J28*E28/D28 -> 35.52 | L28: =K28*F28/E28 -> 1.23 | M28: =L28*G28/F28 -> 3 | N28: =M28*H28/G28 -> 0.9
B29: Virsiku-kohupiimakreem (L) | C29: Maitsestamata kohupiim, maitsestamata jogurt, vahukoor, suhkur, virsik | D29: 100 | E29: 164 | F29: 14.5 | G29: 9.26 | H29: 5.48 | J29: 100 | K29: =J29*E29/D29 -> 164 | L29: =K29*F29/E29 -> 14.5 | M29: =L29*G29/F29 -> 9.26 | N29: =M29*H29/G29 -> 5.48
B30: Banaani-kakaojogurt (L) | C30: Maitsestamata jogurt, banaan, kakaopulber, suhkur, vanillisuhkur, tšiiaseemned | D30: 100 | E30: 80.4 | F30: 10.7 | G30: 2.54 | H30: 3.14 | J30: 100 | K30: =J30*E30/D30 -> 80.4 | L30: =K30*F30/E30 -> 10.7 | M30: =L30*G30/F30 -> 2.54 | N30: =M30*H30/G30 -> 3.14
A31: PRIA | B31: Piimatooted (piim, keefir) (L) | D31: 50 | E31: 28.195 | F31: 2.4375 | G31: 1.285 | H31: 1.72 | J31: 50 | K31: =J31*E31/D31 -> 28.195 | L31: =K31*F31/E31 -> 2.4375 | M31: =L31*G31/F31 -> 1.285 | N31: =M31*H31/G31 -> 1.72
B32: Mahl (erinevad maitsed) | C32: Rõngu suhkruvaba mahlakonsentraat 100% naturaalne, vesi | D32: 50 | E32: 24.2644 | F32: 5.891 | G32: 0.025 | H32: 0.1815 | J32: 50 | K32: =J32*E32/D32 -> 24.2644 | L32: =K32*F32/E32 -> 5.891 | M32: =L32*G32/F32 -> 0.025 | N32: =M32*H32/G32 -> 0.1815
B33: Joogijogurt , maitsestatud (L) | C33: Maitsestamata jogurt, naturaalne marjapüree (maasikas, vaarikas, mustad sõstrad, punased sõstrad, mustikas), suhkur | D33: 50 | E33: 37.373 | F33: 6.0615 | G33: 0.75 | H33: 1.6 | J33: 50 | K33: =J33*E33/D33 -> 37.373 | L33: =K33*F33/E33 -> 6.0615 | M33: =L33*G33/F33 -> 0.75 | N33: =M33*H33/G33 -> 1.6
B34: Tee, suhkruta | C34: Teepuru, vesi | D34: 50 | E34: 0.2 | F34: 0 | G34: 0 | H34: 0.05 | J34: 50 | K34: =J34*E34/D34 -> 0.2 | L34: =K34*F34/E34 -> 0 | M34: 0 | N34: 0.05
B35: Rukkileiva (3 sorti) - ja sepikutoodete valik(G) | D35: 30 | E35: 73.86 | F35: 15.69 | G35: 0.6 | H35: 2.145 | J35: 30 | K35: =J35*E35/D35 -> 73.86 | L35: =K35*F35/E35 -> 15.69 | M35: =L35*G35/F35 -> 0.6 | N35: =M35*H35/G35 -> 2.145
B36: Porgand | D36: 50 | E36: 16.2 | F36: 2.8 | G36: 0.1 | H36: 0.3 | J36: 50 | K36: =J36*E36/D36 -> 16.2 | L36: =K36*F36/E36 -> 2.8 | M36: =L36*G36/F36 -> 0.1 | N36: =M36*H36/G36 -> 0.3
B37: Õun (mahe) | D37: 50 | E37: 24.038 | F37: 6.74 | G37: 0 | H37: 0 | J37: 50 | K37: =J37*E37/D37 -> 24.038 | L37: =K37*F37/E37 -> 6.74 | M37: =L37*G37/F37 -> 0 | N37: 0
A38: Kokku: | E38: =SUM(E26,E28:E37) -> 640.0504 | F38: =SUM(F26,F28:F37) -> 73.88 | G38: =SUM(G26,G28:G37) -> 27.86 | H38: =SUM(H26,H28:H37) -> 22.4465 | K38: =SUM(K26,K28:K37) -> 718.0504 | L38: =SUM(L26,L28:L37) -> 77.795 | M38: =SUM(M26,M28:M37) -> 33.01 | N38: =SUM(N26,N28:N37) -> 25.9115
A39: Kolmapäev | B39: Lõunasöök | C39: Koostisosad | D39: Kogus, g | E39: Energia, kcal | F39: Süsivesikud, g | G39: Rasvad, g | H39: Valgud, g | J39: Kogus, g | K39: Energia, kcal | L39: Süsivesikud, g | M39: Rasvad, g | N39: Valgud, g
B40: Paneeritud ahjukala (G, PT) | C40: Valge kala, nisujahu, kanamuna, riivsai, sidrunikoor, must pipar, toiduõli, söögisool | D40: 60 | E40: 119.0316 | F40: 7.059 | G40: 4.6464 | H40: 12.5106 | J40: 70 | K40: =J40*E40/D40 -> 138.8702 | L40: =K40*F40/E40 -> 8.2355 | M40: =L40*G40/F40 -> 5.4208 | N40: =M40*H40/G40 -> 14.5957
A41: Taimetoit | B41: Tatra-seenekotletid (G, PT) (mahe) | C41: Tatar, mugulsibul, toiduõli, riivsai, kanamuna, täisteranisujahu, šampinjon, söögisool, must pipar, jahvatatud paprika | D41: 60 | E41: 81.0066 | F41: 12.6918 | G41: 2.331 | H41: 3.1614 | J41: 70 | K41: =J41*E41/D41 -> 94.5077 | L41: =K41*F41/E41 -> 14.8071 | M41: =L41*G41/F41 -> 2.7195 | N41: =M41*H41/G41 -> 3.6883
B42: Külm hapukoorekaste sidruniga (L) | C42: Hapukoor, sidrunimahl, suhkur, söögisool | D42: 50 | E42: 58.889 | F42: 2.4905 | G42: 4.795 | H42: 1.444 | J42: 50 | K42: =J42*E42/D42 -> 58.889 | L42: =K42*F42/E42 -> 2.4905 | M42: =L42*G42/F42 -> 4.795 | N42: =M42*H42/G42 -> 1.444
B43: Kartulipuder (L) | C43: Kartul, või, piim, söögisool, vesi | D43: 60 | E43: 45.9204 | F43: 9.5076 | G43: 0.366 | H43: 1.4178 | J43: 100 | K43: =J43*E43/D43 -> 76.534 | L43: =K43*F43/E43 -> 15.846 | M43: =L43*G43/F43 -> 0.61 | N43: =M43*H43/G43 -> 2.363
B44: Riis, aurutatud | C44: Riis, vesi, söögisool | D44: 60 | E44: 94.6212 | F44: 16.1256 | G44: 2.8452 | H44: 1.3662 | J44: 100 | K44: =J44*E44/D44 -> 157.702 | L44: =K44*F44/E44 -> 26.876 | M44: =L44*G44/F44 -> 4.742 | N44: =M44*H44/G44 -> 2.277
B45: Kapsas, röstitud | C45: Kapsas, toiduõli, söögisool | D45: 100 | E45: 24.184 | F45: 5.56 | G45: 0.2 | H45: 1.1 | J45: 100 | K45: =J45*E45/D45 -> 24.184 | L45: =K45*F45/E45 -> 5.56 | M45: =L45*G45/F45 -> 0.2 | N45: =M45*H45/G45 -> 1.1
B46: Hiina kapsa salat spinati, meloni ja punase sibulaga | C46: Hiina kapsas, spinat, melon, punane sibul | D46: 100 | E46: 19.03 | F46: 3.68 | G46: 0.19 | H46: 1.25 | J46: 100 | K46: =J46*E46/D46 -> 19.03 | L46: =K46*F46/E46 -> 3.68 | M46: =L46*G46/F46 -> 0.19 | N46: =M46*H46/G46 -> 1.25
B47: Peet, roheline hernes, porgand | D47: 100 | E47: 54 | F47: 7.77 | G47: 0.33 | H47: 2.86 | J47: 100 | K47: =J47*E47/D47 -> 54 | L47: =K47*F47/E47 -> 7.77 | M47: =L47*G47/F47 -> 0.33 | N47: =M47*H47/G47 -> 2.86
B48: Seemnesegu (mahe) | C48: Kõrvitsaseemned, päevalilleseemned, seesamiseemned | D48: 15 | E48: 91.31505 | F48: 1.92 | G48: 7.73505 | H48: 4.23495 | J48: 15 | K48: =J48*E48/D48 -> 91.31505 | L48: =K48*F48/E48 -> 1.92 | M48: =L48*G48/F48 -> 7.73505 | N48: =M48*H48/G48 -> 4.23495
B49: Mahla-õlikaste | C49: Õunamahl 100% naturaalne, õunaäädikas, sinepipulber, söögisool, petersell, toiduõli | D49: 5 | E49: 32.1894 | F49: 0.09705 | G49: 3.53055 | H49: 0.01355 | J49: 5 | K49: =J49*E49/D49 -> 32.1894 | L49: =K49*F49/E49 -> 0.09705 | M49: =L49*G49/F49 -> 3.53055 | N49: =M49*H49/G49 -> 0.01355
A50: PRIA | B50: Piimatooted (piim, keefir) (L) | D50: 50 | E50: 28.195 | F50: 2.4375 | G50: 1.285 | H50: 1.72 | J50: 50 | K50: =J50*E50/D50 -> 28.195 | L50: =K50*F50/E50 -> 2.4375 | M50: =L50*G50/F50 -> 1.285 | N50: =M50*H50/G50 -> 1.72
B51: Joogijogurt, maitsestatud (L) | C51: Maitsestamata jogurt, naturaalne marjapüree (maasikas, vaarikas, mustad sõstrad, punased sõstrad, mustikas), suhkur | D51: 25 | E51: 18.6865 | F51: 3.03075 | G51: 0.375 | H51: 0.8 | J51: 50 | K51: =J51*E51/D51 -> 37.373 | L51: =K51*F51/E51 -> 6.0615 | M51: =L51*G51/F51 -> 0.75 | N51: =M51*H51/G51 -> 1.6
B52: Tee, suhkruta | C52: Teepuru, vesi | D52: 50 | E52: 0.2 | F52: 0 | G52: 0 | H52: 0.05 | J52: 50 | K52: =J52*E52/D52 -> 0.2 | L52: =K52*F52/E52 -> 0 | M52: 0 | N52: 0.05
B53: Rukkileiva (3 sorti) - ja sepikutoodete valik(G) | D53: 30 | E53: 73.86 | F53: 15.69 | G53: 0.6 | H53: 2.145 | J53: 30 | K53: =J53*E53/D53 -> 73.86 | L53: =K53*F53/E53 -> 15.69 | M53: =L53*G53/F53 -> 0.6 | N53: =M53*H53/G53 -> 2.145
B54: Valge redis | D54: 50 | E54: 9.45 | F54: 1.45 | G54: 0.05 | H54: 0.4 | J54: 50 | K54: =J54*E54/D54 -> 9.45 | L54: =K54*F54/E54 -> 1.45 | M54: =L54*G54/F54 -> 0.05 | N54: =M54*H54/G54 -> 0.4
B55: Pirn | D55: 50 | E55: 19.988 | F55: 5.97 | G55: 0 | H55: 0.15 | J55: 50 | K55: =J55*E55/D55 -> 19.988 | L55: =K55*F55/E55 -> 5.97 | M55: =L55*G55/F55 -> 0 | N55: 0.15
A56: Kokku: | E56: =SUM(E40,E42:E55) -> 689.56015 | F56: =SUM(F40,F42:F55) -> 82.788 | G56: =SUM(G40,G42:G55) -> 26.9482 | H56: =SUM(H40,H42:H55) -> 31.4621 | K56: =SUM(K40,K42:K55) -> 821.77965 | L56: =SUM(L40,L42:L55) -> 104.08405 | M56: =SUM(M40,M42:M55) -> 30.2384 | N56: =SUM(N40,N42:N55) -> 36.2032
A57: Neljapäev | B57: Lõunasöök | C57: Koostisosad | D57: Kogus, g | E57: Energia, kcal | F57: Süsivesikud, g | G57: Rasvad, g | H57: Valgud, g | J57: Kogus, g | K57: Energia, kcal | L57: Süsivesikud, g | M57: Rasvad, g | N57: Valgud, g
B58: Frikadellisupp (G) | C58: Sea-veise segahakkliha, kartul, porgand, mugulsibul, kanamuna, varsseller, riivsai, must pipar, till, vesi, söögisool, petersell, toiduõli | D58: 125 | E58: 79.82875 | F58: 9.085 | G58: 3.61625 | H58: 3.7 | J58: 300 | K58: =J58*E58/D58 -> 191.589 | L58: =K58*F58/E58 -> 21.804 | M58: =L58*G58/F58 -> 8.679 | N58: =M58*H58/G58 -> 8.88
A59: Taimetoit | B59: Juurviljapüreesupp (L) (mahe) | C59: Kartul, porgand, mugulsibul, juurseller, pastinaak, vesi, toidukoor, söögisool, petersell, värske | D59: 125 | E59: 54.2675 | F59: 8.655 | G59: 2.0075 | H59: 1.2675 | J59: 50 | K59: =J59*E59/D59 -> 130.242 | L59: =K59*F59/E59 -> 20.772 | M59: =L59*G59/F59 -> 4.818 | N59: =M59*H59/G59 -> 3.042
B60: Pirnikook (G, L, M, VS) | C60: Pirn, täistera nisujahu, kaerahelbed, kanamuna, suhkur, küpsetuspulber, söögisool, hapukoor | D60: 70 | E60: 187.6 | F60: 29.47 | G60: 5.12 | H60: 4.46 | J60: 100 | K60: =J60*E60/D60 -> 187.6 | L60: =K60*F60/E60 -> 29.47 | M60: =L60*G60/F60 -> 5.12 | N60: =M60*H60/G60 -> 4.46
B61: Mango-kohupiimakreem (L, VS) | C61: Maitsestamat kohupiim, maitsestamat jogurt, vahukoor, mango, suhkur | D61: 100 | E61: 167 | F61: 15.2 | G61: 9.33 | H61: 5.36 | J61: 100 | K61: =J61*E61/D61 -> 167 | L61: =K61*F61/E61 -> 15.2 | M61: =L61*G61/F61 -> 9.33 | N61: =M61*H61/G61 -> 5.36
A62: PRIA | B62: Piimatooted (piim, keefir) (L) | D62: 50 | E62: 28.195 | F62: 2.4375 | G62: 1.285 | H62: 1.72 | J62: 50 | K62: =J62*E62/D62 -> 28.195 | L62: =K62*F62/E62 -> 2.4375 | M62: =L62*G62/F62 -> 1.285 | N62: =M62*H62/G62 -> 1.72
B63: Mahl (erinevad maitsed) | C63: Rõngu suhkruvaba mahlakonsentraat 100% naturaalne, vesi | D63: 50 | E63: 24.2644 | F63: 5.891 | G63: 0.025 | H63: 0.1815 | J63: 50 | K63: =J63*E63/D63 -> 24.2644 | L63: =K63*F63/E63 -> 5.891 | M63: =L63*G63/F63 -> 0.025 | N63: =M63*H63/G63 -> 0.1815
B64: Joogijogurt , maitsestatud (L) | C64: Maitsestamata jogurt, naturaalne marjapüree (maasikas, vaarikas, mustad sõstrad, punased sõstrad, mustikas), suhkur | D64: 50 | E64: 37.373 | F64: 6.0615 | G64: 0.75 | H64: 1.6 | J64: 50 | K64: =J64*E64/D64 -> 37.373 | L64: =K64*F64/E64 -> 6.0615 | M64: =L64*G64/F64 -> 0.75 | N64: =M64*H64/G64 -> 1.6
B65: Tee, suhkruta | C65: Teepuru, vesi | D65: 50 | E65: 0.2 | F65: 0 | G65: 0 | H65: 0.05 | J65: 50 | K65: =J65*E65/D65 -> 0.2 | L65: =K65*F65/E65 -> 0 | M65: 0 | N65: 0.05
B66: Rukkileiva (3 sorti) - ja sepikutoodete valik(G) | D66: 50 | E66: 123.1 | F66: 26.15 | G66: 1 | H66: 3.575 | J66: 30 | K66: =J66*E66/D66 -> 73.86 | L66: =K66*F66/E66 -> 15.69 | M66: =L66*G66/F66 -> 0.6 | N66: =M66*H66/G66 -> 2.145
B67: Porgand | D67: 50 | E67: 16.2 | F67: 2.8 | G67: 0.1 | H67: 0.3 | J67: 50 | K67: =J67*E67/D67 -> 16.2 | L67: =K67*F67/E67 -> 2.8 | M67: =L67*G67/F67 -> 0.1 | N67: =M67*H67/G67 -> 0.3
B68: Õun (mahe) | D68: 50 | E68: 24.038 | F68: 6.74 | G68: 0 | H68: 0 | J68: 50 | K68: =J68*E68/D68 -> 24.038 | L68: =K68*F68/E68 -> 6.74 | M68: =L68*G68/F68 -> 0 | N68: 0
A69: Kokku: | E69: =SUM(E58,E60:E68) -> 686.4564 | F69: =SUM(F58,F60:F68) -> 98.826 | G69: =SUM(G58,G60:G68) -> 22.996 | H69: =SUM(H58,H60:H68) -> 21.7365 | K69: =SUM(K58,K60:K68) -> 750.3194 | L69: =SUM(L58,L60:L68) -> 106.094 | M69: =SUM(M58,M60:M68) -> 25.889 | N69: =SUM(N58,N60:N68) -> 24.6965
A70: Reede | B70: Lõunasöök | C70: Koostisosad | D70: Kogus, g | E70: Energia, kcal | F70: Süsivesikud, g | G70: Rasvad, g | H70: Valgud, g | J70: Kogus, g | K70: Energia, kcal | L70: Süsivesikud, g | M70: Rasvad, g | N70: Valgud, g
B71: Kanapasta juustu ja basiilikuga (G, L) | C71: Täisterapasta (durumnisujahu, vesi), kanaliha, suvikõrvits, toiduõli, mugulsibul, basiilik, juust, petersell, vesi, söögisool, must pipar | D71: 100 | E71: 169.762 | F71: 22.108 | G71: 5.422 | H71: 9.099 | J71: 300 | K71: =J71*Nädal_49!K71/Nädal_49!J71 -> 509.286 | L71: =J71*Nädal_49!L71/Nädal_49!J71 -> 66.324 | M71: =J71*Nädal_49!M71/Nädal_49!J71 -> 16.266 | N71: =J71*Nädal_49!N71/Nädal_49!J71 -> 27.297
A72: Taimetoit | B72: Penne lasanje hakksojaga (G, L, P) | C72: Hakksoja (sojauba), porgand, mugulsibul, küüslauk, purustatud tomat, tomatipasta, toiduõli, kuivatatud pune, kuivatatud basiilik, vesi, täisterapasta, juust , nisujahu, piim , toidukoor , muskaatpähkel, söögisool, must pipar | D72: 100 | E72: 162.9 | F72: 22.7 | G72: 4.16 | H72: 7.4 | J72: 50 | K72: =J72*Nädal_49!K72/Nädal_49!J72 -> 81.45 | L72: =J72*Nädal_49!L72/Nädal_49!J72 -> 11.35 | M72: =J72*Nädal_49!M72/Nädal_49!J72 -> 2.08 | N72: =J72*Nädal_49!N72/Nädal_49!J72 -> 3.7
B73: Baklažaan-paprika-sibul, röstitud | C73: Baklažaan, paprika, punane, mugulsibul, toiduõli, | D73: 50 | E73: 29.006 | F73: 3.7125 | G73: 1.62 | H73: 0.535 | J73: 100 | K73: =J73*Nädal_49!K73/Nädal_49!J73 -> 58.012 | L73: =J73*Nädal_49!L73/Nädal_49!J73 -> 7.425 | M73: =J73*Nädal_49!M73/Nädal_49!J73 -> 3.24 | N73: =J73*Nädal_49!N73/Nädal_49!J73 -> 1.07
B74: Soe tomatikaste | C74: Tomat, mugulsibul, porgand, küüslauk, toiduõli, söögisool, basiilik | D74: 50 | E74: 17.5985 | F74: 3.2825 | G74: 0.544 | H74: 0.3895 | J74: 50 | K74: =J74*Nädal_49!K74/Nädal_49!J74 -> 17.5985 | L74: =J74*Nädal_49!L74/Nädal_49!J74 -> 3.2825 | M74: =J74*Nädal_49!M74/Nädal_49!J74 -> 0.544 | N74: =J74*Nädal_49!N74/Nädal_49!J74 -> 0.3895
B75: Porgandi-apelsinisalat | C75: Porgand, apelsin, toiduõli | D75: 50 | E75: 11.15 | F75: 1.975 | G75: 0.05 | H75: 0.375 | J75: 100 | K75: =J75*Nädal_49!K75/Nädal_49!J75 -> 22.3 | L75: =J75*Nädal_49!L75/Nädal_49!J75 -> 3.95 | M75: =J75*Nädal_49!M75/Nädal_49!J75 -> 0.1 | N75: =J75*Nädal_49!N75/Nädal_49!J75 -> 0.75
B76: Valge peakapsas, mais, hapukurk | C76: Valge peakapsas, mais, hapukurk (kurk, vesi, söögisool, küüslauk) | D76: 100 | E76: 43.2 | F76: 6.13 | G76: 0.6 | H76: 1.8 | J76: 100 | K76: =J76*Nädal_49!K76/Nädal_49!J76 -> 43.2 | L76: =J76*Nädal_49!L76/Nädal_49!J76 -> 6.13 | M76: =J76*Nädal_49!M76/Nädal_49!J76 -> 0.6 | N76: =J76*Nädal_49!N76/Nädal_49!J76 -> 1.8
B77: Seemnesegu (mahe) | C77: Kõrvitsaseemned, päevalilleseemned, seesamiseemned | D77: 15 | E77: 91.31505 | F77: 1.92 | G77: 7.73505 | H77: 4.23495 | J77: 10 | K77: =J77*Nädal_49!K77/Nädal_49!J77 -> 60.8767 | L77: =J77*Nädal_49!L77/Nädal_49!J77 -> 1.28 | M77: =J77*Nädal_49!M77/Nädal_49!J77 -> 5.1567 | N77: =J77*Nädal_49!N77/Nädal_49!J77 -> 2.8233
B78: Mahla-õlikaste | C78: Õunamahl 100% naturaalne, õunaäädikas, sinepipulber, söögisool, petersell, toiduõli | D78: 5 | E78: 32.1894 | F78: 0.09705 | G78: 3.53055 | H78: 0.01355 | J78: 5 | K78: =J78*Nädal_49!K78/Nädal_49!J78 -> 32.1894 | L78: =J78*Nädal_49!L78/Nädal_49!J78 -> 0.09705 | M78: =J78*Nädal_49!M78/Nädal_49!J78 -> 3.53055 | N78: =J78*Nädal_49!N78/Nädal_49!J78 -> 0.01355
A79: PRIA | B79: Piimatooted (piim, keefir) (L) | D79: 50 | E79: 28.195 | F79: 2.4375 | G79: 1.285 | H79: 1.72 | J79: 50 | K79: =J79*Nädal_49!K79/Nädal_49!J79 -> 28.195 | L79: =J79*Nädal_49!L79/Nädal_49!J79 -> 2.4375 | M79: =J79*Nädal_49!M79/Nädal_49!J79 -> 1.285 | N79: =J79*Nädal_49!N79/Nädal_49!J79 -> 1.72
B80: Joogijogurt , maitsestatud (L) | C80: Maitsestamata jogurt, naturaalne marjapüree (maasikas, vaarikas, mustad sõstrad, punased sõstrad, mustikas), suhkur | D80: 25 | E80: 18.6865 | F80: 3.03075 | G80: 0.375 | H80: 0.8 | J80: 50 | K80: =J80*Nädal_49!K80/Nädal_49!J80 -> 37.373 | L80: =J80*Nädal_49!L80/Nädal_49!J80 -> 6.0615 | M80: =J80*Nädal_49!M80/Nädal_49!J80 -> 0.75 | N80: =J80*Nädal_49!N80/Nädal_49!J80 -> 1.6
B81: Tee, suhkruta | C81: Teepuru, vesi | D81: 50 | E81: 0.2 | F81: 0 | G81: 0 | H81: 0.05 | J81: 50 | K81: =J81*Nädal_49!K81/Nädal_49!J81 -> 0.2 | L81: =J81*Nädal_49!L81/Nädal_49!J81 -> 0 | M81: =J81*Nädal_49!M81/Nädal_49!J81 -> 0 | N81: =J81*Nädal_49!N81/Nädal_49!J81 -> 0.05
B82: Rukkileiva (3 sorti) - ja sepikutoodete valik(G) | D82: 50 | E82: 123.1 | F82: 26.15 | G82: 1 | H82: 3.575 | J82: 30 | K82: =J82*Nädal_49!K82/Nädal_49!J82 -> 73.86 | L82: =K82*Nädal_49!L82/Nädal_49!K82 -> 15.69 | M82: =L82*Nädal_49!M82/Nädal_49!L82 -> 0.6 | N82: =M82*Nädal_49!N82/Nädal_49!M82 -> 2.145
B83: Nuikapsas | D83: 50 | E83: 12.1 | F83: 2.1 | G83: 0.1 | H83: 0.25 | J83: 50 | K83: =J83*Nädal_49!K83/Nädal_49!J83 -> 12.1 | L83: =K83*Nädal_49!L83/Nädal_49!K83 -> 2.1 | M83: =L83*Nädal_49!M83/Nädal_49!L83 -> 0.1 | N83: =M83*Nädal_49!N83/Nädal_49!M83 -> 0.25
B84: Pirn | D84: 50 | E84: 19.988 | F84: 5.97 | G84: 0 | H84: 0.15 | J84: 50 | K84: =J84*Nädal_49!K84/Nädal_49!J84 -> 19.988 | L84: =K84*Nädal_49!L84/Nädal_49!K84 -> 5.97 | M84: =L84*Nädal_49!M84/Nädal_49!L84 -> 0 | N84: =J84*H84/D84 -> 0.15
A85: Kokku: | E85: =SUM(E71:E84) -> 759.39045 | F85: =SUM(F71:F84) -> 101.6133 | G85: =SUM(G71:G84) -> 26.4216 | H85: =SUM(H71:H84) -> 30.392 | K85: =SUM(K71:K84) -> 996.6286 | L85: =SUM(L71:L84) -> 132.09755 | M85: =SUM(M71:M84) -> 34.25225 | N85: =SUM(N71:N84) -> 43.60835
A86: NÄDALA KESKMINE KOKKU: | E86: =AVERAGE(E24,E38,E56,E69,E85) -> 707.2564 | F86: =AVERAGE(F24,F38,F56,F69,F85) -> 92.342961 | G86: =AVERAGE(G24,G38,G56,G69,G85) -> 25.359991 | H86: =AVERAGE(H24,H38,H56,H69,H85) -> 28.085878 | K86: =AVERAGE(K85,K67,K49,K36,K20) -> 898.16829 | L86: =AVERAGE(L85,L67,L49,L36,L20) -> 121.35953 | M86: =AVERAGE(M85,M67,M49,M36,M20) -> 32.456973 | N86: =AVERAGE(N85,N67,N49,N36,N20) -> 32.844053
C87: Põhitoitainetest saadava energia osakaal koguenergiast (%E) | F87: =(F86*4)/E86*100 -> 52.226016 | G87: =(G86*9)/E86*100 -> 32.27117 | H87: =(H86*4)/E86*100 -> 15.884411 | L87: =(L86*4)/K86*100 -> 54.047567 | M87: =(M86*9)/K86*100 -> 32.523165 | N87: =(N86*4)/K86*100 -> 14.627127
C88: Nõutud vahemik kahe nädala keskmisena | E88: 700-800 kcal | F88: 45-60%E | G88: 25-40%E | H88: 10-20%E | K88: 800-900 kcal | L88: 45-60%E | M88: 25-40%E | N88: 10-20%E
A89: Üldinfo menüü kohta
A90: Taimetoit võib sisaldada muna- ja piimatooteid
A91: Allergiat või toidutalumatust põhjustavate koostisosade kohta küsi lisainfot köögipersonalilt
A92: Joogivesi on igapäevaselt tasuta saadaval kogu päeva jooksul
A93: Menüü muudatused kooskõlastatakse kooliga vastavalt hankelepingule. Erandolukorras, kus muudatus on vältimatu (nt ootamatu tooraine puudus), teavitatakse kooli esimesel võimalusel ning tagatakse toidu toiteväärtuslikkus ja mitmekesisus
A94: Tähised menüüs
A95: G – sisaldab gluteeni | B95: L – sisaldab piimatooteid (sh laktoosi)
A96: M – sisaldab muna | B96: P – sisaldab pähkleid
A97: PT – portsjontoode | B97: VS-vähendatud suhkruga
A98: PRIA toetusprogrammid
A99: Koolipuuvilja ja - köögivilja ning koolipiima toetab osaliselt PRIA
A100: PRIA koolikava osalise toetusega pakutakse 1.–6. klassi õpilastele puu- ja köögivilju ning piima ja piimatooteid. 1.–9. klassi õpilastele piima ja piimatooteid.

Sheet Nädal_50
A1: #VALUE! | C1: #VALUE!
A6: KOOLILÕUNA MENÜÜ
A7: 50. nädal | B7: 07.12-11.12.2026 | D7: 4-9.klass | J7: 10-12.klass
A8: Esmaspäev | B8: Lõunasöök | C8: Koostisosad | D8: Kogus, g | E8: Energia, kcal | F8: Süsivesikud, g | G8: Rasvad, g | H8: Valgud, g | J8: Kogus, g | K8: Energia, kcal | L8: Süsivesikud, g | M8: Rasvad, g | N8: Valgud, g
B9: Böfstrooganov (G, L) (mahe) | C9: Veiseliha, hapukoor, mugulsibul, tomatipüree, nisujahu, vesi, toiduõli, sinepipulber, petersell,söögisool, must pipar | D9: 120 | E9: 144 | F9: 5.69 | G9: 11.3 | H9: 4.79 | J9: 140 | K9: =J9*E9/D9 -> 168 | L9: =K9*F9/E9 -> 6.6383333 | M9: =L9*G9/F9 -> 13.183333 | N9: =M9*H9/G9 -> 5.5883333
A10: Taimetoit | B10: Seenestroogonov (G, L) | C10: Tomatipüree, vesi, hapukoor, nisujahu, mugulsibul, toiduõli, šampinjonid | D10: 120 | E10: 71.88 | F10: 5.004 | G10: 4.944 | H10: 1.04976 | J10: 140 | K10: =J10*E10/D10 -> 83.86 | L10: =K10*F10/E10 -> 5.838 | M10: =L10*G10/F10 -> 5.768 | N10: =M10*H10/G10 -> 1.22472
B11: Tatar, aurutatud (mahe) | C11: Tatar, vesi, söögisool | D11: 60 | E11: 48.36 | F11: 10.185 | G11: 0.3 | H11: 1.785 | J11: 100 | K11: =J11*E11/D11 -> 80.6 | L11: =K11*F11/E11 -> 16.975 | M11: =L11*G11/F11 -> 0.5 | N11: =M11*H11/G11 -> 2.975
B12: Riis, aurutatud | C12: Riis, vesi, söögisool | D12: 60 | E12: 94.6212 | F12: 16.1256 | G12: 2.8452 | H12: 1.3662 | J12: 100 | K12: =J12*E12/D12 -> 157.702 | L12: =K12*F12/E12 -> 26.876 | M12: =L12*G12/F12 -> 4.742 | N12: =M12*H12/G12 -> 2.277
B13: Peet, röstitud | C13: Peet, toiduõli, tüümian, värske | D13: 50 | E13: 30.42 | F13: 6.2535 | G13: 0.5615 | H13: 0.8415 | J13: 100 | K13: =J13*E13/D13 -> 60.84 | L13: =K13*F13/E13 -> 12.507 | M13: =L13*G13/F13 -> 1.123 | N13: =M13*H13/G13 -> 1.683
B14: Kapsa-paprikasalat | C14: Valge peakapsas, paprika | D14: 50 | E14: 14.9 | F14: 2.43 | G14: 0.06 | H14: 0.59 | J14: 100 | K14: =J14*E14/D14 -> 29.8 | L14: =K14*F14/E14 -> 4.86 | M14: =L14*G14/F14 -> 0.12 | N14: =M14*H14/G14 -> 1.18
B15: Porgand, porrulauk, lillkapsas | D15: 100 | E15: 29.9 | F15: 4.65 | G15: 0.2 | H15: 1.47 | J15: 100 | K15: =J15*E15/D15 -> 29.9 | L15: =K15*F15/E15 -> 4.65 | M15: =L15*G15/F15 -> 0.2 | N15: =M15*H15/G15 -> 1.47
B16: Seemnesegu (mahe) | C16: Kõrvitsaseemned, päevalilleseemned, seesamiseemned | D16: 15 | E16: 91.31505 | F16: 1.92 | G16: 7.73505 | H16: 4.23495 | J16: 15 | K16: =J16*E16/D16 -> 91.31505 | L16: =K16*F16/E16 -> 1.92 | M16: =L16*G16/F16 -> 7.73505 | N16: =M16*H16/G16 -> 4.23495
B17: Mahla-õlikaste | C17: Õunamahl 100% naturaalne, õunaäädikas, sinepipulber, söögisool, petersell, värske, toiduõli | D17: 5 | E17: 32.1894 | F17: 0.09705 | G17: 3.53055 | H17: 0.01355 | J17: 10 | K17: =J17*E17/D17 -> 64.3788 | L17: =K17*F17/E17 -> 0.1941 | M17: =L17*G17/F17 -> 7.0611 | N17: =M17*H17/G17 -> 0.0271
A18: PRIA | B18: Piimatooted (piim, keefir) (L) | D18: 50 | E18: 28.195 | F18: 2.4375 | G18: 1.285 | H18: 1.72 | J18: 50 | K18: =J18*E18/D18 -> 28.195 | L18: =K18*F18/E18 -> 2.4375 | M18: =L18*G18/F18 -> 1.285 | N18: =M18*H18/G18 -> 1.72
B19: Joogijogurt , maitsestatud (L) | C19: Maitsestamata jogurt, naturaalne marjapüree (maasikas, vaarikas, mustad sõstrad, punased sõstrad, mustikas), suhkur | D19: 50 | E19: 37.373 | F19: 6.0615 | G19: 0.75 | H19: 1.6 | J19: 50 | K19: =J19*E19/D19 -> 37.373 | L19: =K19*F19/E19 -> 6.0615 | M19: =L19*G19/F19 -> 0.75 | N19: =M19*H19/G19 -> 1.6
B20: Tee, suhkruta | C20: Teepuru, vesi | D20: 50 | E20: 0.2 | F20: 0 | G20: 0 | H20: 0.05 | J20: 50 | K20: =J20*E20/D20 -> 0.2 | L20: =K20*F20/E20 -> 0 | M20: 0 | N20: 0.05
B21: Rukkileiva (3 sorti) - ja sepikutoodete valik(G) | D21: 50 | E21: 123.1 | F21: 26.15 | G21: 1 | H21: 3.575 | J21: 50 | K21: =J21*E21/D21 -> 123.1 | L21: =K21*F21/E21 -> 26.15 | M21: =L21*G21/F21 -> 1 | N21: =M21*H21/G21 -> 3.575
B22: Valge redis | D22: 50 | E22: 9.45 | F22: 1.45 | G22: 0.05 | H22: 0.4 | J22: 50 | K22: =J22*E22/D22 -> 9.45 | L22: =K22*F22/E22 -> 1.45 | M22: =L22*G22/F22 -> 0.05 | N22: =M22*H22/G22 -> 0.4
B23: Õun (mahe) | D23: 50 | E23: 24.038 | F23: 6.74 | G23: 0 | H23: 0 | J23: 50 | K23: =J23*E23/D23 -> 24.038 | L23: =K23*F23/E23 -> 6.74 | M23: =L23*G23/F23 -> 0 | N23: 0
A24: Kokku: | E24: =SUM(E9,E11:E23) -> 708.06165 | F24: =SUM(F9,F11:F23) -> 90.19015 | G24: =SUM(G9,G11:G23) -> 29.6173 | H24: =SUM(H9,H11:H23) -> 22.4362 | K24: =SUM(K9,K11:K23) -> 904.89185 | L24: =SUM(L9,L11:L23) -> 117.45943 | M24: =SUM(M9,M11:M23) -> 37.749483 | N24: =SUM(N9,N11:N23) -> 26.780383
A25: Teisipäev | B25: Lõunasöök | C25: Koostisosad | D25: Kogus, g | E25: Energia, kcal | F25: Süsivesikud, g | G25: Rasvad, g | H25: Valgud, g | J25: Kogus, g | K25: Energia, kcal | L25: Süsivesikud, g | M25: Rasvad, g | N25: Valgud, g
B26: Hakkliha-riisipall (M, PT) | C26: Sea-veise segahakkliha, riis, mugulsibul, kanamuna, toiduõli, vesi, söögisool, must pipar, jahvatatud paprika, petersell, kuivatatud pune, kuivatatud majoraan | D26: 50 | E26: 81.174 | F26: 2.388 | G26: 5.3405 | H26: 6.163 | J26: 60 | K26: =J26*E26/D26 -> 97.4088 | L26: =K26*F26/E26 -> 2.8656 | M26: =L26*G26/F26 -> 6.4086 | N26: =M26*H26/G26 -> 7.3956
A27: Taimetoit | B27: Juurviljakotlet (G, M, PT) (mahe) | C27: Pastinaak, porgand, kartul, kanamuna, täistera speltanisujahu, söögisool, must pipar, purustatud või jahvatatud | D27: 50 | E27: 70.136 | F27: 13.995 | G27: 0.948 | H27: 2.6905 | J27: 60 | K27: =J27*E27/D27 -> 84.1632 | L27: =K27*F27/E27 -> 16.794 | M27: =L27*G27/F27 -> 1.1376 | N27: =M27*H27/G27 -> 3.2286
B28: Kartul, aurutatud (mahe) | D28: 60 | E28: 43.5 | F28: 9.9 | G28: 0.06 | H28: 1.14 | J28: 100 | K28: =J28*E28/D28 -> 72.5 | L28: =K28*F28/E28 -> 16.5 | M28: =L28*G28/F28 -> 0.1 | N28: =M28*H28/G28 -> 1.9
B29: Bulgur, keedetud (G) | C29: Bulgur (Durum nisu), vesi, söögisool | D29: 60 | E29: 70.0788 | F29: 14.9376 | G29: 0.4524 | H29: 2.322 | J29: 100 | K29: =J29*E29/D29 -> 116.798 | L29: =K29*F29/E29 -> 24.896 | M29: =L29*G29/F29 -> 0.754 | N29: =M29*H29/G29 -> 3.87
B30: Porgand, röstitud | C30: Porgand, toiduõli, tüümian, söögisool, mesi | D30: 50 | E30: 30.1 | F30: 3.77 | G30: 1.12 | H30: 0.363 | J30: 100 | K30: =J30*E30/D30 -> 60.2 | L30: =K30*F30/E30 -> 7.54 | M30: =L30*G30/F30 -> 2.24 | N30: =M30*H30/G30 -> 0.726
B31: Soe valge kaste (G, L) | C31: Toiduõli, nisujahu, piim, söögisool, toidukoor | D31: 50 | E31: 59.126 | F31: 4.077 | G31: 3.946 | H31: 1.873 | J31: 100 | K31: =J31*E31/D31 -> 118.252 | L31: =K31*F31/E31 -> 8.154 | M31: =L31*G31/F31 -> 7.892 | N31: =M31*H31/G31 -> 3.746
B32: Peedisalat marineeritud sibulaga | C32: Peet, marineeritud sibul | D32: 50 | E32: 29.8 | F32: 4.14 | G32: 0.836 | H32: 0.916 | J32: 100 | K32: =J32*E32/D32 -> 59.6 | L32: =K32*F32/E32 -> 8.28 | M32: =L32*G32/F32 -> 1.672 | N32: =M32*H32/G32 -> 1.832
B33: Salatisegu, mais, nuikapsas | C33: Salatisegu (Rooma salat, jääsalat, rukola, spinat), mais, nuikapsas | D33: 100 | E33: 42.5 | F33: 5.92 | G33: 0.69 | H33: 1.81 | J33: 100 | K33: =J33*E33/D33 -> 42.5 | L33: =K33*F33/E33 -> 5.92 | M33: =L33*G33/F33 -> 0.69 | N33: =M33*H33/G33 -> 1.81
B34: Seemnesegu (mahe) | C34: Kõrvitsaseemned, päevalilleseemned, seesamiseemned | D34: 15 | E34: 91.31505 | F34: 1.92 | G34: 7.73505 | H34: 4.23495 | J34: 10 | K34: =J34*E34/D34 -> 60.8767 | L34: =K34*F34/E34 -> 1.28 | M34: =L34*G34/F34 -> 5.1567 | N34: =M34*H34/G34 -> 2.8233
B35: Mahla-õlikaste | C35: Õunamahl 100% naturaalne, õunaäädikas, sinepipulber, söögisool, petersell, toiduõli | D35: 5 | E35: 32.1894 | F35: 0.09705 | G35: 3.53055 | H35: 0.01355 | J35: 5 | K35: =J35*E35/D35 -> 32.1894 | L35: =K35*F35/E35 -> 0.09705 | M35: =L35*G35/F35 -> 3.53055 | N35: =M35*H35/G35 -> 0.01355
A36: PRIA | B36: Piimatooted (piim, keefir) (L) | D36: 50 | E36: 28.195 | F36: 2.4375 | G36: 1.285 | H36: 1.72 | J36: 50 | K36: =J36*E36/D36 -> 28.195 | L36: =K36*F36/E36 -> 2.4375 | M36: =L36*G36/F36 -> 1.285 | N36: =M36*H36/G36 -> 1.72
B37: Joogijogurt , maitsestatud (L) | C37: Maitsestamata jogurt, naturaalne marjapüree (maasikas, vaarikas, mustad sõstrad, punased sõstrad, mustikas), suhkur | D37: 50 | E37: 37.373 | F37: 6.0615 | G37: 0.75 | H37: 1.6 | J37: 50 | K37: =J37*E37/D37 -> 37.373 | L37: =K37*F37/E37 -> 6.0615 | M37: =L37*G37/F37 -> 0.75 | N37: =M37*H37/G37 -> 1.6
B38: Tee, suhkruta | C38: Teepuru, vesi | D38: 50 | E38: 0.2 | F38: 0 | G38: 0 | H38: 0.05 | J38: 50 | K38: =J38*E38/D38 -> 0.2 | L38: =K38*F38/E38 -> 0 | M38: 0 | N38: 0.05
B39: Rukkileiva (3 sorti) - ja sepikutoodete valik(G) | D39: 50 | E39: 123.1 | F39: 26.15 | G39: 1 | H39: 3.575 | J39: 30 | K39: =J39*E39/D39 -> 73.86 | L39: =K39*F39/E39 -> 15.69 | M39: =L39*G39/F39 -> 0.6 | N39: =M39*H39/G39 -> 2.145
B40: Porgand | D40: 50 | E40: 16.2 | F40: 2.8 | G40: 0.1 | H40: 0.3 | J40: 50 | K40: =J40*E40/D40 -> 16.2 | L40: =K40*F40/E40 -> 2.8 | M40: =L40*G40/F40 -> 0.1 | N40: =M40*H40/G40 -> 0.3
B41: Pirn | D41: 50 | E41: 19.988 | F41: 5.97 | G41: 0 | H41: 0.15 | J41: 50 | K41: =J41*E41/D41 -> 19.988 | L41: =K41*F41/E41 -> 5.97 | M41: =L41*G41/F41 -> 0 | N41: 0.15
A42: Kokku: | E42: =SUM(E26,E28:E41) -> 704.83925 | F42: =SUM(F26,F28:F41) -> 90.56865 | G42: =SUM(G26,G28:G41) -> 26.8455 | H42: =SUM(H26,H28:H41) -> 26.2305 | K42: =SUM(K26:K41) -> 920.3041 | L42: =SUM(L26:L41) -> 125.28565 | M42: =SUM(M26:M41) -> 32.31645 | N42: =SUM(N26:N41) -> 33.31005
A43: Kolmapäev | B43: Lõunasöök | C43: Koostisosad | D43: Kogus, g | E43: Energia, kcal | F43: Süsivesikud, g | G43: Rasvad, g | H43: Valgud, g | J43: Kogus, g | K43: Energia, kcal | L43: Süsivesikud, g | M43: Rasvad, g | N43: Valgud, g
B44: Rassolnik kanalihaga (G) | C44: Kanaliha, vesi, odrakruup, porgand, kartul, mugulsibul, hapukurk, söögisool, must pipar, toiduõli, till | D44: 200 | E44: 166.4 | F44: 15.824 | G44: 6.976 | H44: 8.832 | J44: 300 | K44: =J44*E44/D44 -> 249.6 | L44: =K44*F44/E44 -> 23.736 | M44: =L44*G44/F44 -> 10.464 | N44: =M44*H44/G44 -> 13.248
A45: Taimetoit | B45: Rassolnik põldubadega (G) (mahe) | C45: Põlduba, vesi, odrakruup, porgand, kartul, mugulsibul, hapukurk, söögisool, must pipar, toiduõli, till | D45: 200 | E45: 103.52 | F45: 18.24 | G45: 0.6544 | H45: 4 | J45: 300 | K45: =J45*E45/D45 -> 155.28 | L45: =K45*F45/E45 -> 27.36 | M45: =L45*G45/F45 -> 0.9816 | N45: =M45*H45/G45 -> 6
B46: Hapukoor R 20% (L) | D46: 30 | E46: 66.5 | F46: 1.14 | G46: 6.44 | H46: 0.99 | J46: 30 | K46: =J46*E46/D46 -> 66.5 | L46: =K46*F46/E46 -> 1.14 | M46: =L46*G46/F46 -> 6.44 | N46: =M46*H46/G46 -> 0.99
B47: Ploomi-pirnikompott vahukoorega (L) | C47: Ploom, pirn, vesi, suhkur, kaneel, sidrunimahl, vahukoor | D47: 100 | E47: 104 | F47: 14.9 | G47: 4.65 | H47: 0.494 | J47: 100 | K47: =J47*E47/D47 -> 104 | L47: =K47*F47/E47 -> 14.9 | M47: =L47*G47/F47 -> 4.65 | N47: =M47*H47/G47 -> 0.494
B48: Mustsõstra-rukkivaht (G) | C48: Mustsõstrar, rukkijahu, vesi, suhkur, vanillisuhkur | D48: 100 | E48: 125 | F48: 26.875 | G48: 0.34 | H48: 1.7875 | J48: 100 | K48: =J48*E48/D48 -> 125 | L48: =K48*F48/E48 -> 26.875 | M48: =L48*G48/F48 -> 0.34 | N48: =M48*H48/G48 -> 1.7875
A49: PRIA | B49: Piimatooted (piim, keefir) (L) | D49: 50 | E49: 28.195 | F49: 2.4375 | G49: 1.285 | H49: 1.72 | J49: 50 | K49: =J49*E49/D49 -> 28.195 | L49: =K49*F49/E49 -> 2.4375 | M49: =L49*G49/F49 -> 1.285 | N49: =M49*H49/G49 -> 1.72
B50: Mahl (erinevad maitsed) | C50: Rõngu suhkruvaba mahlakonsentraat 100% naturaalne, vesi | D50: 50 | E50: 24.2644 | F50: 5.891 | G50: 0.025 | H50: 0.1815 | J50: 50 | K50: =J50*E50/D50 -> 24.2644 | L50: =K50*F50/E50 -> 5.891 | M50: =L50*G50/F50 -> 0.025 | N50: =M50*H50/G50 -> 0.1815
B51: Joogijogurt , maitsestatud (L) | C51: Maitsestamata jogurt, naturaalne marjapüree (maasikas, vaarikas, mustad sõstrad, punased sõstrad, mustikas), suhkur | D51: 50 | E51: 37.373 | F51: 6.0615 | G51: 0.75 | H51: 1.6 | J51: 50 | K51: =J51*E51/D51 -> 37.373 | L51: =K51*F51/E51 -> 6.0615 | M51: =L51*G51/F51 -> 0.75 | N51: =M51*H51/G51 -> 1.6
B52: Tee, suhkruta | C52: Teepuru, vesi | D52: 50 | E52: 0.2 | F52: 0 | G52: 0 | H52: 0.05 | J52: 50 | K52: =J52*E52/D52 -> 0.2 | L52: =K52*F52/E52 -> 0 | M52: 0 | N52: 0.05
B53: Rukkileiva (3 sorti) - ja sepikutoodete valik(G) | D53: 30 | E53: 73.86 | F53: 15.69 | G53: 0.6 | H53: 2.145 | J53: 30 | K53: =J53*E53/D53 -> 73.86 | L53: =K53*F53/E53 -> 15.69 | M53: =L53*G53/F53 -> 0.6 | N53: =M53*H53/G53 -> 2.145
B54: Valge/punane peakapsas | D54: 50 | E54: 14.9 | F54: 2.29 | G54: 0.075 | H54: 0.675 | J54: 50 | K54: =J54*E54/D54 -> 14.9 | L54: =K54*F54/E54 -> 2.29 | M54: =L54*G54/F54 -> 0.075 | N54: =M54*H54/G54 -> 0.675
B55: Õun (mahe) | D55: 50 | E55: 24.038 | F55: 6.74 | G55: 0 | H55: 0 | J55: 50 | K55: =J55*E55/D55 -> 24.038 | L55: =K55*F55/E55 -> 6.74 | M55: =L55*G55/F55 -> 0 | N55: 0
A56: Kokku: | E56: =SUM(E44,E46:E55) -> 664.7304 | F56: =SUM(F44,F46:F55) -> 97.849 | G56: =SUM(G44,G46:G55) -> 21.141 | H56: =SUM(H44,H46:H55) -> 18.475 | K56: =SUM(K44,K46:K55) -> 747.9304 | L56: =SUM(L44,L46:L55) -> 105.761 | M56: =SUM(M44,M46:M55) -> 24.629 | N56: =SUM(N44,N46:N55) -> 22.891
A57: Neljapäev | B57: Lõunasöök | C57: Koostisosad | D57: Kogus, g | E57: Energia, kcal | F57: Süsivesikud, g | G57: Rasvad, g | H57: Valgud, g | J57: Kogus, g | K57: Energia, kcal | L57: Süsivesikud, g | M57: Rasvad, g | N57: Valgud, g
B58: Kalapada värviliste köögiviljadega | C58: Valge kala, mugulsibul, küüslauk, porgand, paprika, purustatud tomat, toiduõli, sidrunimahl, kuivatatud pune, kuivatatud tüümian, pastinaak, mais, loorber, söögisool, must pipar, petersell | D58: 100 | E58: 128.895 | F58: 3.382 | G58: 4.84 | H58: 18.507 | J58: 140 | K58: =J58*E58/D58 -> 180.453 | L58: =K58*F58/E58 -> 4.7348 | M58: =L58*G58/F58 -> 6.776 | N58: =M58*H58/G58 -> 25.9098
A59: Taimetoit | B59: Läätsepada värviliste köögiviljadega (mahe) | C59: Mugulsibul, porgand, küüslauk, tomatipasta, tüümian, kuivatatud, söögisool, must pipar, vesi, maisitärklis, toiduõli, baklažaan, tomat, kaalikas, läätsed, suvikõrvits | D59: 60 | E59: 47.7666 | F59: 7.0314 | G59: 1.944 | H59: 1.3482 | J59: 20 | K59: =J59*E59/D59 -> 15.9222 | L59: =K59*F59/E59 -> 2.3438 | M59: =L59*G59/F59 -> 0.648 | N59: =M59*H59/G59 -> 0.4494
B60: Täisterapasta/pasta (G) (mahe) | C60: Täisterapasta, pasta (durumnisujahu, vesi), söögisool, vesi, toiduõli | D60: 60 | E60: 90.8 | F60: 15.8 | G60: 1.55 | H60: 2.74 | J60: 100 | K60: =J60*E60/D60 -> 151.33333 | L60: =K60*F60/E60 -> 26.333333 | M60: =L60*G60/F60 -> 2.5833333 | N60: =M60*H60/G60 -> 4.5666667
B61: Riis, aurutatud | C61: Riis, vesi, söögisool | D61: 60 | E61: 94.6212 | F61: 16.1256 | G61: 2.8452 | H61: 1.3662 | J61: 100 | K61: =J61*E61/D61 -> 157.702 | L61: =K61*F61/E61 -> 26.876 | M61: =L61*G61/F61 -> 4.742 | N61: =M61*H61/G61 -> 2.277
B62: Brokoli, aurutatud | D62: 50 | E62: 19.73 | F62: 3.05 | G62: 0.25 | H62: 2.05 | J62: 100 | K62: =J62*E62/D62 -> 39.46 | L62: =K62*F62/E62 -> 6.1 | M62: =L62*G62/F62 -> 0.5 | N62: =M62*H62/G62 -> 4.1
B63: Porgandi-mangosalat (mahe porgand) | C63: Porgand, mango, toiduõli | D63: 50 | E63: 23.243 | F63: 4.7675 | G63: 0.624 | H63: 0.297 | J63: 100 | K63: =J63*E63/D63 -> 46.486 | L63: =K63*F63/E63 -> 9.535 | M63: =L63*G63/F63 -> 1.248 | N63: =M63*H63/G63 -> 0.594
B64: Hiina kapsas, roheline hernes, marineeritud punane sibul | C64: Hiina kapsas, roheline hernes, marineeritud punane sibul (punane mugulsibul, sidrunimahl, must pipar, söögisool, vesi, õunaäädikas, suhkur) | D64: 100 | E64: 50.1 | F64: 6.68 | G64: 0.4 | H64: 3.1 | J64: 100 | K64: =J64*E64/D64 -> 50.1 | L64: =K64*F64/E64 -> 6.68 | M64: =L64*G64/F64 -> 0.4 | N64: =M64*H64/G64 -> 3.1
B65: Seemnesegu (mahe) | C65: Kõrvitsaseemned, päevalilleseemned, seesamiseemned | D65: 15 | E65: 91.31505 | F65: 1.92 | G65: 7.73505 | H65: 4.23495 | J65: 10 | K65: =J65*E65/D65 -> 60.8767 | L65: =K65*F65/E65 -> 1.28 | M65: =L65*G65/F65 -> 5.1567 | N65: =M65*H65/G65 -> 2.8233
B66: Külm hapukoorekaste murulauguga (L) | C66: Hapukoor, sidrunimahl, suhkur, murulauk | D66: 15 | E66: 16.9869 | F66: 0.7455 | G66: 1.368 | H66: 0.4314 | J66: 15 | K66: =J66*E66/D66 -> 16.9869 | L66: =K66*F66/E66 -> 0.7455 | M66: =L66*G66/F66 -> 1.368 | N66: =M66*H66/G66 -> 0.4314
A67: PRIA | B67: Piimatooted (piim, keefir) (L) | D67: 50 | E67: 28.195 | F67: 2.4375 | G67: 1.285 | H67: 1.72 | J67: 50 | K67: =J67*E67/D67 -> 28.195 | L67: =K67*F67/E67 -> 2.4375 | M67: =L67*G67/F67 -> 1.285 | N67: =M67*H67/G67 -> 1.72
B68: Mahl (erinevad maitsed) | C68: Rõngu suhkruvaba mahlakonsentraat 100% naturaalne, vesi | D68: 50 | E68: 24.2644 | F68: 5.891 | G68: 0.025 | H68: 0.1815 | J68: 50 | K68: =J68*E68/D68 -> 24.2644 | L68: =K68*F68/E68 -> 5.891 | M68: =L68*G68/F68 -> 0.025 | N68: =M68*H68/G68 -> 0.1815
B69: Joogijogurt , maitsestatud (L) | C69: Maitsestamata jogurt, naturaalne marjapüree (maasikas, vaarikas, mustad sõstrad, punased sõstrad, mustikas), suhkur | D69: 25 | E69: 18.6865 | F69: 3.03075 | G69: 0.375 | H69: 0.8 | J69: 50 | K69: =J69*E69/D69 -> 37.373 | L69: =K69*F69/E69 -> 6.0615 | M69: =L69*G69/F69 -> 0.75 | N69: =M69*H69/G69 -> 1.6
B70: Tee, suhkruta | C70: Teepuru, vesi | D70: 50 | E70: 0.2 | F70: 0 | G70: 0 | H70: 0.05 | J70: 50 | K70: =J70*E70/D70 -> 0.2 | L70: =K70*F70/E70 -> 0 | M70: 0 | N70: 0.05
B71: Rukkileiva (3 sorti) - ja sepikutoodete valik(G) | D71: 50 | E71: 123.1 | F71: 26.15 | G71: 1 | H71: 3.575 | J71: 30 | K71: =J71*E71/D71 -> 73.86 | L71: =K71*F71/E71 -> 15.69 | M71: =L71*G71/F71 -> 0.6 | N71: =M71*H71/G71 -> 2.145
B72: Valge redis | D72: 50 | E72: 9.45 | F72: 1.45 | G72: 0.05 | H72: 0.4 | J72: 50 | K72: =J72*E72/D72 -> 9.45 | L72: =K72*F72/E72 -> 1.45 | M72: =L72*G72/F72 -> 0.05 | N72: =M72*H72/G72 -> 0.4
B73: Pirn | D73: 50 | E73: 19.988 | F73: 5.97 | G73: 0 | H73: 0.15 | J73: 50 | K73: =J73*E73/D73 -> 19.988 | L73: =K73*F73/E73 -> 5.97 | M73: =L73*G73/F73 -> 0 | N73: 0.15
A74: Kokku: | E74: =SUM(E58,E60:E73) -> 739.57505 | F74: =SUM(F58,F60:F73) -> 97.39985 | G74: =SUM(G58,G60:G73) -> 22.34725 | H74: =SUM(H58,H60:H73) -> 39.60305 | K74: =SUM(K58,K60:K73) -> 896.72833 | L74: =SUM(L58,L60:L73) -> 119.78463 | M74: =SUM(M58,M60:M73) -> 25.484033 | N74: =SUM(N58,N60:N73) -> 50.048667
A75: Reede | B75: Lõunasöök | C75: Koostisosad | D75: Kogus, g | E75: Energia, kcal | F75: Süsivesikud, g | G75: Rasvad, g | H75: Valgud, g | J75: Kogus, g | K75: Energia, kcal | L75: Süsivesikud, g | M75: Rasvad, g | N75: Valgud, g
B76: Hautatud kanaliha ürtidi-köögiviljaleemes | C76: Kartul, kanaliha, mugulsibul, vesi, Vahemere ürdid Santa Maria (Punane paprika (25%), ürdid (25% basiilik, pune, aed-piparrohi, tüümian), koriander, küüslauk, sibul, vürts), toiduõli, söögisool, must pipar | D76: 120 | E76: 134.4 | F76: 17.4 | G76: 4.128 | H76: 6.288 | J76: 140 | K76: =J76*E76/D76 -> 156.8 | L76: =K76*F76/E76 -> 20.3 | M76: =L76*G76/F76 -> 4.816 | N76: =M76*H76/G76 -> 7.336
A77: Taimetoit | B77: Kartuli-seeneroog Vahemere ürtidega | C77: Kartul, šampinjonid, mugulsibul, vesi, Vahemere ürdid Santa Maria (Punane paprika (25%), ürdid (25% basiilik, pune, aed-piparrohi, tüümian), koriander, küüslauk, sibul, vürts), toiduõli, söögisool, must pipar | D77: 120 | E77: 110.88 | F77: 16.08 | G77: 3.804 | H77: 2.484 | J77: 140 | K77: =J77*E77/D77 -> 129.36 | L77: =K77*F77/E77 -> 18.76 | M77: =L77*G77/F77 -> 4.438 | N77: =M77*H77/G77 -> 2.898
B78: Tatar, aurutatud | C78: Tatar, vesi, söögisool | D78: 60 | E78: 92.52 | F78: 16.2 | G78: 1.5 | H78: 2.9 | J78: 100 | K78: =J78*E78/D78 -> 154.2 | L78: =K78*F78/E78 -> 27 | M78: =L78*G78/F78 -> 2.5 | N78: =M78*H78/G78 -> 4.8333333
B79: Kartul, aurutatud | D79: 60 | E79: 43.5 | F79: 9.3 | G79: 0 | H79: 1.14 | J79: 100 | K79: =J79*E79/D79 -> 72.5 | L79: =K79*F79/E79 -> 15.5 | M79: =L79*G79/F79 -> 0 | N79: =J79*H79/D79 -> 1.9
B80: Aedoad, aurutatu | D80: 50 | E80: 16.626 | F80: 3.7 | G80: 0.15 | H80: 1 | J80: 100 | K80: =J80*E80/D80 -> 33.252 | L80: =K80*F80/E80 -> 7.4 | M80: =L80*G80/F80 -> 0.3 | N80: =M80*H80/G80 -> 2
B81: Külm jogurti-küüslaugukaste (L) | C81: Maitsestamata jogurt, sidrunimahl, suhkur, küüslauk | D81: 50 | E81: 41.6575 | F81: 2.9705 | G81: 2.401 | H81: 2.071 | J81: 50 | K81: =J81*E81/D81 -> 41.6575 | L81: =K81*F81/E81 -> 2.9705 | M81: =L81*G81/F81 -> 2.401 | N81: =M81*H81/G81 -> 2.071
B82: Hiina kapsa salat tomati ja spinatiga | C82: Hiina kapsas, tomat, spinat | D82: 50 | E82: 7.42 | F82: 0.795 | G82: 0.075 | H82: 0.605 | J82: 100 | K82: =J82*E82/D82 -> 14.84 | L82: =K82*F82/E82 -> 1.59 | M82: =L82*G82/F82 -> 0.15 | N82: =M82*H82/G82 -> 1.21
B83: Peet, porgand (mahe), valge redis | D83: 100 | E83: 31.5 | F83: 5.47 | G83: 0.133 | H83: 0.933 | J83: 100 | K83: =J83*E83/D83 -> 31.5 | L83: =K83*F83/E83 -> 5.47 | M83: =L83*G83/F83 -> 0.133 | N83: =M83*H83/G83 -> 0.933
B84: Seemnesegu (mahe) | C84: Kõrvitsaseemned, päevalilleseemned, seesamiseemned | D84: 15 | E84: 91.31505 | F84: 1.92 | G84: 7.73505 | H84: 4.23495 | J84: 15 | K84: =J84*E84/D84 -> 91.31505 | L84: =K84*F84/E84 -> 1.92 | M84: =L84*G84/F84 -> 7.73505 | N84: =M84*H84/G84 -> 4.23495
B85: Mahla-õlikaste | C85: Õunamahl 100% naturaalne, õunaäädikas, sinepipulber, söögisool, petersell, värske, toiduõli | D85: 5 | E85: 32.1894 | F85: 0.09705 | G85: 3.53055 | H85: 0.01355 | J85: 5 | K85: =J85*E85/D85 -> 32.1894 | L85: =K85*F85/E85 -> 0.09705 | M85: =L85*G85/F85 -> 3.53055 | N85: =M85*H85/G85 -> 0.01355
A86: PRIA | B86: Piimatooted (piim, keefir) (L) | D86: 50 | E86: 28.195 | F86: 2.4375 | G86: 1.285 | H86: 1.72 | J86: 50 | K86: =J86*E86/D86 -> 28.195 | L86: =K86*F86/E86 -> 2.4375 | M86: =L86*G86/F86 -> 1.285 | N86: =M86*H86/G86 -> 1.72
B87: Mahl (erinevad maitsed) | C87: Rõngu suhkruvaba mahlakonsentraat 100% naturaalne, vesi | D87: 50 | E87: 24.2644 | F87: 5.891 | G87: 0.025 | H87: 0.1815 | J87: 50 | K87: =J87*E87/D87 -> 24.2644 | L87: =K87*F87/E87 -> 5.891 | M87: =L87*G87/F87 -> 0.025 | N87: =M87*H87/G87 -> 0.1815
B88: Joogijogurt , maitsestatud (L) | C88: Maitsestamata jogurt, naturaalne marjapüree (maasikas, vaarikas, mustad sõstrad, punased sõstrad, mustikas), suhkur | D88: 50 | E88: 37.373 | F88: 6.0615 | G88: 0.75 | H88: 1.6 | J88: 50 | K88: =J88*E88/D88 -> 37.373 | L88: =K88*F88/E88 -> 6.0615 | M88: =L88*G88/F88 -> 0.75 | N88: =M88*H88/G88 -> 1.6
B89: Tee, suhkruta | C89: Teepuru, vesi | D89: 50 | E89: 0.2 | F89: 0 | G89: 0 | H89: 0.05 | J89: 50 | K89: =J89*E89/D89 -> 0.2 | L89: =K89*F89/E89 -> 0 | M89: 0 | N89: 0.05
B90: Rukkileiva (3 sorti) - ja sepikutoodete valik(G) | D90: 30 | E90: 73.86 | F90: 15.69 | G90: 0.6 | H90: 2.145 | J90: 30 | K90: =J90*E90/D90 -> 73.86 | L90: =K90*F90/E90 -> 15.69 | M90: =L90*G90/F90 -> 0.6 | N90: =M90*H90/G90 -> 2.145
B91: Nuikapsas | D91: 50 | E91: 12.1 | F91: 2.1 | G91: 0.1 | H91: 0.25 | J91: 50 | K91: =J91*E91/D91 -> 12.1 | L91: =K91*F91/E91 -> 2.1 | M91: =L91*G91/F91 -> 0.1 | N91: =M91*H91/G91 -> 0.25
B92: Õun (mahe) | D92: 50 | E92: 24.038 | F92: 6.74 | G92: 0 | H92: 0 | J92: 50 | K92: =J92*E92/D92 -> 24.038 | L92: =K92*F92/E92 -> 6.74 | M92: =L92*G92/F92 -> 0 | N92: 0
A93: Kokku: | E93: =SUM(E76,E78:E92) -> 691.15835 | F93: =SUM(F76,F78:F92) -> 96.77255 | G93: =SUM(G76,G78:G92) -> 22.4126 | H93: =SUM(H76,H78:H92) -> 25.132 | K93: =SUM(K76,K78:K92) -> 828.28435 | L93: =SUM(L76,L78:L92) -> 121.16755 | M93: =SUM(M76,M78:M92) -> 24.3256 | N93: =SUM(N76,N78:N92) -> 30.478333
A94: NÄDALA KESKMINE KOKKU: | E94: =AVERAGE(E24,E42,E56,E74,E93) -> 701.67294 | F94: =AVERAGE(F24,F42,F56,F74,F93) -> 94.55604 | G94: =AVERAGE(G24,G42,G56,G74,G93) -> 24.47273 | H94: =AVERAGE(H24,H42,H56,H74,H93) -> 26.37535 | K94: =AVERAGE(K24,K42,K56,K74,K93) -> 859.62781 | L94: =AVERAGE(L24,L42,L56,L74,L93) -> 117.89165 | M94: =AVERAGE(M24,M42,M56,M74,M93) -> 28.900913 | N94: =AVERAGE(N24,N42,N56,N74,N93) -> 32.701687
C95: Põhitoitainetest saadava energia osakaal koguenergiast (%E) | F95: =(F94*4)/E94*100 -> 53.903199 | G95: =(G94*9)/E94*100 -> 31.389919 | H95: =(H94*4)/E94*100 -> 15.035695 | L95: =(L94*4)/K94*100 -> 54.857068 | M95: =(M94*9)/K94*100 -> 30.258237 | N95: =(N94*4)/K94*100 -> 15.216672
C96: Nõutud vahemik kahe nädala keskmisena | E96: 700-800 kcal | F96: 45-60%E | G96: 25-40%E | H96: 10-20%E | K96: 800-900 kcal | L96: 45-60%E | M96: 25-40%E | N96: 10-20%E
A97: Üldinfo menüü kohta
A98: Taimetoit võib sisaldada muna- ja piimatooteid
A99: Allergiat või toidutalumatust põhjustavate koostisosade kohta küsi lisainfot köögipersonalilt
A100: Joogivesi on igapäevaselt tasuta saadaval kogu päeva jooksul
A101: Menüü muudatused kooskõlastatakse kooliga vastavalt hankelepingule. Erandolukorras, kus muudatus on vältimatu (nt ootamatu tooraine puudus), teavitatakse kooli esimesel võimalusel ning tagatakse toidu toiteväärtuslikkus ja mitmekesisus
A102: Tähised menüüs
A103: G – sisaldab gluteeni | B103: L – sisaldab piimatooteid (sh laktoosi)
A104: M – sisaldab muna | B104: P – sisaldab pähkleid
...

Sheet Nädal_51
A1: #VALUE! | C1: #VALUE!
A6: KOOLILÕUNA MENÜÜ
A7: 51. nädal | B7: 14.12-18.12.2026 | D7: 4-9.klass | J7: 10-12.klass
A8: Esmaspäev | B8: Lõunasöök | C8: Koostisosad | D8: Kogus, g | E8: Energia, kcal | F8: Süsivesikud, g | G8: Rasvad, g | H8: Valgud, g | J8: Kogus, g | K8: Energia, kcal | L8: Süsivesikud, g | M8: Rasvad, g | N8: Valgud, g
B9: Magushapu sealihapada seesamiseemnetega | C9: Sealiha, vesi, porgand, mugulsibul, paprika, tomatipasta, ananassimahl, ananass, sidrunimahl, toiduõli, sojakaste (sojauba, vesi, söögisool, nisujahu), maisitärklis, küüslauk, suhkur, ingverijuur, söögisool, must pipar, seesamiseemned | D9: 120 | E9: 143.6 | F9: 13.34 | G9: 5.96 | H9: 8.6 | J9: 140 | K9: =J9*E9/D9 -> 167.53333 | L9: =K9*F9/E9 -> 15.563333 | M9: =L9*G9/F9 -> 6.9533333 | N9: =M9*H9/G9 -> 10.033333
A10: Taimetoit | B10: Edamame oad magushapus kastmes (mahe) | C10: Edamame oad, suhkur, sojakaste (sojauba, vesi, söögisool, nisujahu), maisitärklis, sidrunimahl, tomatipasta, vesi, porgand, mugulsibul, küüslauk, kuivatatud basiilik | D10: 120 | E10: 137.3052 | F10: 22.704 | G10: 3.1164 | H10: 6.3204 | J10: 140 | K10: =J10*E10/D10 -> 160.1894 | L10: =K10*F10/E10 -> 26.488 | M10: =L10*G10/F10 -> 3.6358 | N10: =M10*H10/G10 -> 7.3738
B11: Täisterapasta/pasta (G) (mahe) | C11: Täisterapasta, pasta (durumnisujahu, vesi), söögisool, vesi, toiduõli | D11: 60 | E11: 90.8 | F11: 15.8 | G11: 1.55 | H11: 2.74 | J11: 100 | K11: =J11*E11/D11 -> 151.33333 | L11: =K11*F11/E11 -> 26.333333 | M11: =L11*G11/F11 -> 2.5833333 | N11: =M11*H11/G11 -> 4.5666667
B12: Riis, aurutatud (mahe) | C12: Riis, vesi, söögisool | D12: 60 | E12: 94.6212 | F12: 16.1256 | G12: 2.8452 | H12: 1.3662 | J12: 100 | K12: =J12*E12/D12 -> 157.702 | L12: =K12*F12/E12 -> 26.876 | M12: =L12*G12/F12 -> 4.742 | N12: =M12*H12/G12 -> 2.277
B13: Kõrvits, röstitud | C13: Kõrvits, toiduõli, söögisool | D13: 50 | E13: 22.0155 | F13: 1.95 | G13: 1.5615 | H13: 0.3875 | J13: 100 | K13: =J13*E13/D13 -> 44.031 | L13: =K13*F13/E13 -> 3.9 | M13: =L13*G13/F13 -> 3.123 | N13: =M13*H13/G13 -> 0.775
B14: Peedisalat pohladega | C14: Peet, pohl, suhkur | D14: 50 | E14: 26.2 | F14: 4.94 | G14: 0.122 | H14: 0.721 | J14: 100 | K14: =J14*E14/D14 -> 52.4 | L14: =K14*F14/E14 -> 9.88 | M14: =L14*G14/F14 -> 0.244 | N14: =M14*H14/G14 -> 1.442
B15: Valge peakapsas, aeduba, kõrvits | D15: 100 | E15: 25.7 | F15: 3.68 | G15: 0.167 | H15: 1.27 | J15: 100 | K15: =J15*E15/D15 -> 25.7 | L15: =K15*F15/E15 -> 3.68 | M15: =L15*G15/F15 -> 0.167 | N15: =M15*H15/G15 -> 1.27
B16: Seemnesegu (mahe) | C16: Kõrvitsaseemned, päevalilleseemned, seesamiseemned | D16: 15 | E16: 91.31505 | F16: 1.92 | G16: 7.73505 | H16: 4.23495 | J16: 15 | K16: =J16*E16/D16 -> 91.31505 | L16: =K16*F16/E16 -> 1.92 | M16: =L16*G16/F16 -> 7.73505 | N16: =M16*H16/G16 -> 4.23495
B17: Mahla-õlikaste | C17: Õunamahl 100% naturaalne, õunaäädikas, sinepipulber, söögisool, petersell, värske, toiduõli | D17: 5 | E17: 32.1894 | F17: 0.09705 | G17: 3.53055 | H17: 0.01355 | J17: 5 | K17: =J17*E17/D17 -> 32.1894 | L17: =K17*F17/E17 -> 0.09705 | M17: =L17*G17/F17 -> 3.53055 | N17: =M17*H17/G17 -> 0.01355
A18: PRIA | B18: Piimatooted (piim, keefir) (L) | D18: 50 | E18: 28.195 | F18: 2.4375 | G18: 1.285 | H18: 1.72 | J18: 50 | K18: =J18*E18/D18 -> 28.195 | L18: =K18*F18/E18 -> 2.4375 | M18: =L18*G18/F18 -> 1.285 | N18: =M18*H18/G18 -> 1.72
B19: Joogijogurt , maitsestatud (L) | C19: Maitsestamata jogurt, naturaalne marjapüree (maasikas, vaarikas, mustad sõstrad, punased sõstrad, mustikas), suhkur | D19: 50 | E19: 37.373 | F19: 6.0615 | G19: 0.75 | H19: 1.6 | J19: 50 | K19: =J19*E19/D19 -> 37.373 | L19: =K19*F19/E19 -> 6.0615 | M19: =L19*G19/F19 -> 0.75 | N19: =M19*H19/G19 -> 1.6
B20: Tee, suhkruta | C20: Teepuru, vesi | D20: 50 | E20: 0.2 | F20: 0 | G20: 0 | H20: 0.05 | J20: 50 | K20: =J20*E20/D20 -> 0.2 | L20: =K20*F20/E20 -> 0 | M20: 0 | N20: 0.05
B21: Rukkileiva (3 sorti) - ja sepikutoodete valik(G) | D21: 30 | E21: 73.86 | F21: 15.69 | G21: 0.6 | H21: 2.145 | J21: 30 | K21: =J21*E21/D21 -> 73.86 | L21: =K21*F21/E21 -> 15.69 | M21: =L21*G21/F21 -> 0.6 | N21: =M21*H21/G21 -> 2.145
B22: Porgand | D22: 50 | E22: 16.2 | F22: 2.8 | G22: 0.1 | H22: 0.3 | J22: 50 | K22: =J22*E22/D22 -> 16.2 | L22: =K22*F22/E22 -> 2.8 | M22: =L22*G22/F22 -> 0.1 | N22: =M22*H22/G22 -> 0.3
B23: Pirn | D23: 50 | E23: 19.988 | F23: 5.97 | G23: 0 | H23: 0.15 | J23: 50 | K23: =J23*E23/D23 -> 19.988 | L23: =K23*F23/E23 -> 5.97 | M23: =L23*G23/F23 -> 0 | N23: 0.15
A24: Kokku: | E24: =SUM(E9,E11:E23) -> 702.25715 | F24: =SUM(F9,F11:F23) -> 90.81165 | G24: =SUM(G9,G11:G23) -> 26.2063 | H24: =SUM(H9,H11:H23) -> 25.2982 | K24: =SUM(K9,K11:K23) -> 898.02012 | L24: =SUM(L9,L11:L23) -> 121.20872 | M24: =SUM(M9,M11:M23) -> 31.813267 | N24: =SUM(N9,N11:N23) -> 30.5775
A25: Teisipäev | B25: Lõunasöök | C25: Koostisosad | D25: Kogus, g | E25: Energia, kcal | F25: Süsivesikud, g | G25: Rasvad, g | H25: Valgud, g | J25: Kogus, g | K25: Energia, kcal | L25: Süsivesikud, g | M25: Rasvad, g | N25: Valgud, g
B26: Kanalihasupp | C26: Kanaliha, porgand, mugulsibul, küüslauk, valge peakapsas, pastinaak, lillkapsas, brokoli, herned, kaalikas, toiduõli, söögisool, must pipar, till, puljong, | D26: 200 | E26: 303.472 | F26: 5.7 | G26: 18.87 | H26: 28.08 | J26: 300 | K26: =J26*E26/D26 -> 455.208 | L26: =K26*F26/E26 -> 8.55 | M26: =L26*G26/F26 -> 28.305 | N26: =M26*H26/G26 -> 42.12
A27: Taimetoit | B27: Koorene oasupp spinati ja keedumunaga (L) (mahe) | C27: Kartul, toidukoor, porgand, mugulsibul, porrulauk, till, värske, toiduõli, munguba, kuivatatud, spinat, vesi, kanamuna | D27: 200 | E27: 111 | F27: 11.8 | G27: 5.2 | H27: 3.49 | J27: 300 | K27: =J27*E27/D27 -> 166.5 | L27: =K27*F27/E27 -> 17.7 | M27: =L27*G27/F27 -> 7.8 | N27: =M27*H27/G27 -> 5.235
B28: Pähkli-kakaoruudud (G, L, M, P) | C28: Nisujahu, kanamuna, toiduõli, piim, suhkur, söögisool, vanillisuhkur, pähklid, kakaopulber | D28: 50 | E28: 173 | F28: 19.1 | G28: 8.68 | H28: 3.52 | J28: 60 | K28: =J28*E28/D28 -> 207.6 | L28: =K28*F28/E28 -> 22.92 | M28: =L28*G28/F28 -> 10.416 | N28: =M28*H28/G28 -> 4.224
B29: Jogurti-kamadessert marjadega (G, L) | C29: Maitsestamata jogurt, vahukoor, suhkur, kamajahu (nisu, rukis, oder, hernes), vaarikas,maasikas, suhkruta, vesi, suhkur | D29: 100 | E29: 132 | F29: 13 | G29: 7.09 | H29: 3.09 | J29: 100 | K29: =J29*E29/D29 -> 132 | L29: =K29*F29/E29 -> 13 | M29: =L29*G29/F29 -> 7.09 | N29: =M29*H29/G29 -> 3.09
A30: PRIA | B30: Piimatooted (piim, keefir) (L) | D30: 50 | E30: 28.195 | F30: 2.4375 | G30: 1.285 | H30: 1.72 | J30: 50 | K30: =J30*E30/D30 -> 28.195 | L30: =K30*F30/E30 -> 2.4375 | M30: =L30*G30/F30 -> 1.285 | N30: =M30*H30/G30 -> 1.72
B31: Mahl (erinevad maitsed) | C31: Rõngu suhkruvaba mahlakonsentraat 100% naturaalne, vesi | D31: 50 | E31: 24.2644 | F31: 5.891 | G31: 0.025 | H31: 0.1815 | J31: 50 | K31: =J31*E31/D31 -> 24.2644 | L31: =K31*F31/E31 -> 5.891 | M31: =L31*G31/F31 -> 0.025 | N31: =M31*H31/G31 -> 0.1815
B32: Joogijogurt , maitsestatud (L) | C32: Maitsestamata jogurt, naturaalne marjapüree (maasikas, vaarikas, mustad sõstrad, punased sõstrad, mustikas), suhkur | D32: 50 | E32: 37.373 | F32: 6.0615 | G32: 0.75 | H32: 1.6 | J32: 50 | K32: =J32*E32/D32 -> 37.373 | L32: =K32*F32/E32 -> 6.0615 | M32: =L32*G32/F32 -> 0.75 | N32: =M32*H32/G32 -> 1.6
B33: Tee, suhkruta | C33: Teepuru, vesi | D33: 50 | E33: 0.2 | F33: 0 | G33: 0 | H33: 0.05 | J33: 50 | K33: =J33*E33/D33 -> 0.2 | L33: =K33*F33/E33 -> 0 | M33: 0 | N33: 0.05
B34: Rukkileiva (3 sorti) - ja sepikutoodete valik(G) | D34: 50 | E34: 123.1 | F34: 26.15 | G34: 1 | H34: 3.575 | J34: 30 | K34: =J34*E34/D34 -> 73.86 | L34: =K34*F34/E34 -> 15.69 | M34: =L34*G34/F34 -> 0.6 | N34: =M34*H34/G34 -> 2.145
B35: Valge/punane peakapsas | D35: 50 | E35: 14.9 | F35: 2.29 | G35: 0.075 | H35: 0.675 | J35: 50 | K35: =J35*E35/D35 -> 14.9 | L35: =K35*F35/E35 -> 2.29 | M35: =L35*G35/F35 -> 0.075 | N35: =M35*H35/G35 -> 0.675
B36: Õun(mahe) | D36: 50 | E36: 24.038 | F36: 6.74 | G36: 0 | H36: 0 | J36: 50 | K36: =J36*E36/D36 -> 24.038 | L36: =K36*F36/E36 -> 6.74 | M36: =L36*G36/F36 -> 0 | N36: 0
A37: Kokku: | E37: =SUM(E26,E28:E36) -> 860.5424 | F37: =SUM(F26,F28:F36) -> 87.37 | G37: =SUM(G26,G28:G36) -> 37.775 | H37: =SUM(H26,H28:H36) -> 42.4915 | K37: =SUM(K26,K28:K36) -> 997.6384 | L37: =SUM(L26,L28:L36) -> 83.58 | M37: =SUM(M26,M28:M36) -> 48.546 | N37: =SUM(N26,N28:N36) -> 55.8055
A38: Kolmapäev | B38: Lõunasöök | C38: Koostisosad | D38: Kogus, g | E38: Energia, kcal | F38: Süsivesikud, g | G38: Rasvad, g | H38: Valgud, g | J38: Kogus, g | K38: Energia, kcal | L38: Süsivesikud, g | M38: Rasvad, g | N38: Valgud, g
B39: Segahakklihast kotlett (G, L, M, PT) | C39: Sea-veise segahakkliha, riivsai, kanamuna, piim, söögisool, must pipar, vesi, mugulsibul | D39: 50 | E39: 73.877 | F39: 5.5245 | G39: 3.6495 | H39: 5.123 | J39: 60 | K39: =J39*E39/D39 -> 88.6524 | L39: =K39*F39/E39 -> 6.6294 | M39: =L39*G39/F39 -> 4.3794 | N39: =M39*H39/G39 -> 6.1476
A40: Taimetoit | B40: Porgandi-suvikõrvitsa kotlett (G, PT) (mahe) | C40: Porgand, suvikõrvits, pastinaak, mugulsibul, kanamuna, söögisool, must pipar, toiduõli, riivsai, tüümian, kuivatatud, pune, kuivatatud, petersell, kuivatatud, basiilik | D40: 50 | E40: 50.1655 | F40: 8.3475 | G40: 1.4325 | H40: 1.855 | J40: 60 | K40: =J40*E40/D40 -> 60.1986 | L40: =K40*F40/E40 -> 10.017 | M40: =L40*G40/F40 -> 1.719 | N40: =M40*H40/G40 -> 2.226
B41: Kartulipuder (L) | C41: Kartul, või, piim, söögisool, vesi | D41: 60 | E41: 45.9204 | F41: 9.5076 | G41: 0.366 | H41: 1.4178 | J41: 100 | K41: =J41*E41/D41 -> 76.534 | L41: =K41*F41/E41 -> 15.846 | M41: =L41*G41/F41 -> 0.61 | N41: =M41*H41/G41 -> 2.363
B42: Tatar, aurutatud (mahe) | C42: Tatar, söögisool, vesi | D42: 60 | E42: 48.36 | F42: 10.185 | G42: 0.3 | H42: 1.785 | J42: 100 | K42: =J42*E42/D42 -> 80.6 | L42: =K42*F42/E42 -> 16.975 | M42: =L42*G42/F42 -> 0.5 | N42: =M42*H42/G42 -> 2.975
B43: Peet, aurutatud | C43: Peet, söögisool | D43: 50 | E43: 22.6275 | F43: 5.46 | G43: 0.0525 | H43: 0.735 | J43: 100 | K43: =J43*E43/D43 -> 45.255 | L43: =K43*F43/E43 -> 10.92 | M43: =L43*G43/F43 -> 0.105 | N43: =M43*H43/G43 -> 1.47
B44: Soe valge kaste (G, L) | C44: Toiduõli, nisujahu, piim, söögisool, toidukoor | D44: 50 | E44: 59.126 | F44: 4.077 | G44: 3.946 | H44: 1.873 | J44: 50 | K44: =J44*E44/D44 -> 59.126 | L44: =K44*F44/E44 -> 4.077 | M44: =L44*G44/F44 -> 3.946 | N44: =M44*H44/G44 -> 1.873
B45: Kapsa-maisi-paprikasalat (mahe kapsas) | C45: Peakapsas, mais, paprika, toiduõli, söögisool, suhkur, õunaäädikas | D45: 50 | E45: 25.4845 | F45: 4.7925 | G45: 0.699 | H45: 0.785 | J45: 100 | K45: =J45*E45/D45 -> 50.969 | L45: =K45*F45/E45 -> 9.585 | M45: =L45*G45/F45 -> 1.398 | N45: =M45*H45/G45 -> 1.57
B46: Porgand, roheline hernes, valge redis | D46: 100 | E46: 46 | F46: 6.1 | G46: 0.333 | H46: 2.66 | J46: 100 | K46: =J46*E46/D46 -> 46 | L46: =K46*F46/E46 -> 6.1 | M46: =L46*G46/F46 -> 0.333 | N46: =M46*H46/G46 -> 2.66
B47: Seemnesegu (mahe) | C47: Kõrvitsaseemned, päevalilleseemned, seesamiseemned | D47: 15 | E47: 91.31505 | F47: 1.92 | G47: 7.73505 | H47: 4.23495 | J47: 15 | K47: =J47*E47/D47 -> 91.31505 | L47: =K47*F47/E47 -> 1.92 | M47: =L47*G47/F47 -> 7.73505 | N47: =M47*H47/G47 -> 4.23495
B48: Mahla-õlikaste | C48: Õunamahl 100% naturaalne, õunaäädikas, sinepipulber, söögisool, petersell, värske, toiduõli | D48: 5 | E48: 32.1894 | F48: 0.09705 | G48: 3.53055 | H48: 0.01355 | J48: 5 | K48: =J48*E48/D48 -> 32.1894 | L48: =K48*F48/E48 -> 0.09705 | M48: =L48*G48/F48 -> 3.53055 | N48: =M48*H48/G48 -> 0.01355
A49: PRIA | B49: Piimatooted (piim, keefir) (L) | D49: 50 | E49: 28.195 | F49: 2.4375 | G49: 1.285 | H49: 1.72 | J49: 50 | K49: =J49*E49/D49 -> 28.195 | L49: =K49*F49/E49 -> 2.4375 | M49: =L49*G49/F49 -> 1.285 | N49: =M49*H49/G49 -> 1.72
B50: Joogijogurt , maitsestatud (L) | C50: Maitsestamata jogurt, naturaalne marjapüree (maasikas, vaarikas, mustad sõstrad, punased sõstrad, mustikas), suhkur | D50: 50 | E50: 37.373 | F50: 6.0615 | G50: 0.75 | H50: 1.6 | J50: 50 | K50: =J50*E50/D50 -> 37.373 | L50: =K50*F50/E50 -> 6.0615 | M50: =L50*G50/F50 -> 0.75 | N50: =M50*H50/G50 -> 1.6
B51: Tee, suhkruta | C51: Teepuru, vesi | D51: 50 | E51: 0.2 | F51: 0 | G51: 0 | H51: 0.05 | J51: 50 | K51: =J51*E51/D51 -> 0.2 | L51: =K51*F51/E51 -> 0 | M51: 0 | N51: 0.05
B52: Rukkileiva (3 sorti) - ja sepikutoodete valik(G) | D52: 30 | E52: 73.86 | F52: 15.69 | G52: 0.6 | H52: 2.145 | J52: 30 | K52: =J52*E52/D52 -> 73.86 | L52: =K52*F52/E52 -> 15.69 | M52: =L52*G52/F52 -> 0.6 | N52: =M52*H52/G52 -> 2.145
B53: Valge redis | D53: 50 | E53: 9.45 | F53: 1.45 | G53: 0.05 | H53: 0.4 | J53: 50 | K53: =J53*E53/D53 -> 9.45 | L53: =K53*F53/E53 -> 1.45 | M53: =L53*G53/F53 -> 0.05 | N53: =M53*H53/G53 -> 0.4
B54: Apelsin | D54: 50 | E54: 21.35 | F54: 5.1 | G54: 0.05 | H54: 0.55 | J54: 50 | K54: =J54*E54/D54 -> 21.35 | L54: =K54*F54/E54 -> 5.1 | M54: =L54*G54/F54 -> 0.05 | N54: =M54*H54/G54 -> 0.55
A55: Kokku: | E55: =SUM(E39,E41:E54) -> 615.32785 | F55: =SUM(F39,F41:F54) -> 78.40265 | G55: =SUM(G39,G41:G54) -> 23.3466 | H55: =SUM(H39,H41:H54) -> 25.0923 | K55: =SUM(K39,K41:K54) -> 741.06885 | L55: =SUM(L39,L41:L54) -> 102.88845 | M55: =SUM(M39,M41:M54) -> 25.272 | N55: =SUM(N39,N41:N54) -> 29.7721
A56: Neljapäev | B56: Lõunasöök | C56: Koostisosad | D56: Kogus, g | E56: Energia, kcal | F56: Süsivesikud, g | G56: Rasvad, g | H56: Valgud, g | J56: Kogus, g | K56: Energia, kcal | L56: Süsivesikud, g | M56: Rasvad, g | N56: Valgud, g
B57: Selge lõhesupp | C57: Lõhe, kartul, porgand, mugulsibul, till, vesi, söögisool, must pipar, loorber, toiduõli | D57: 200 | E57: 185.6 | F57: 9.184 | G57: 11.728 | H57: 9.728 | J57: 300 | K57: =J57*E57/D57 -> 278.4 | L57: =K57*F57/E57 -> 13.776 | M57: =L57*G57/F57 -> 17.592 | N57: =M57*H57/G57 -> 14.592
A58: Taimetoit | B58: Kikerhernesupp kümne köögiviljaga (mahe) | C58: Kikerherned, kartul, porgand, valge peakapsas, brokoli, till, vesi, toiduõli, kõrvits pastinaak, lillkapsas, mugulsibul, küüslauk, söögisool, must pipar | D58: 200 | E58: 187.256 | F58: 20.61 | G58: 11.18 | H58: 4.534 | J58: 300 | K58: =J58*E58/D58 -> 280.884 | L58: =K58*F58/E58 -> 30.915 | M58: =L58*G58/F58 -> 16.77 | N58: =M58*H58/G58 -> 6.801
B59: Karamellikissell moosiga (L) | C59: Maitsestamata jogurt, kakaopulber, suhkur, marjad | D59: 100 | E59: 85.625 | F59: 16.6875 | G59: 1.31875 | H59: 1.65 | J59: 100 | K59: =J59*E59/D59 -> 85.625 | L59: =K59*F59/E59 -> 16.6875 | M59: =L59*G59/F59 -> 1.31875 | N59: =M59*H59/G59 -> 1.65
B60: Riisipuding (L, VS) | C60: Pudruriis, piim, vesi, suhkur, vanillisuhkur, söögisool | D60: 100 | E60: 138.8 | F60: 28 | G60: 1.88 | H60: 2.52 | J60: 100 | K60: =J60*E60/D60 -> 138.8 | L60: =K60*F60/E60 -> 28 | M60: =L60*G60/F60 -> 1.88 | N60: =M60*H60/G60 -> 2.52
B61: Piimatooted (piim, keefir) (L) (PRIA) | D61: 50 | E61: 28.195 | F61: 2.4375 | G61: 1.285 | H61: 1.72 | J61: 50 | K61: =J61*E61/D61 -> 28.195 | L61: =K61*F61/E61 -> 2.4375 | M61: =L61*G61/F61 -> 1.285 | N61: =M61*H61/G61 -> 1.72
B62: Mahl (erinevad maitsed) | C62: Rõngu suhkruvaba mahlakonsentraat 100% naturaalne, vesi | D62: 50 | E62: 24.2644 | F62: 5.891 | G62: 0.025 | H62: 0.1815 | J62: 50 | K62: =J62*E62/D62 -> 24.2644 | L62: =K62*F62/E62 -> 5.891 | M62: =L62*G62/F62 -> 0.025 | N62: =M62*H62/G62 -> 0.1815
B63: Joogijogurt , maitsestatud (L) | C63: Maitsestamata jogurt, naturaalne marjapüree (maasikas, vaarikas, mustad sõstrad, punased sõstrad, mustikas), suhkur | D63: 25 | E63: 18.6865 | F63: 3.03075 | G63: 0.375 | H63: 0.8 | J63: 50 | K63: =J63*E63/D63 -> 37.373 | L63: =K63*F63/E63 -> 6.0615 | M63: =L63*G63/F63 -> 0.75 | N63: =M63*H63/G63 -> 1.6
B64: Tee, suhkruta | C64: Teepuru, vesi | D64: 50 | E64: 0.2 | F64: 0 | G64: 0 | H64: 0.05 | J64: 50 | K64: =J64*E64/D64 -> 0.2 | L64: =K64*F64/E64 -> 0 | M64: 0 | N64: 0.05
B65: Rukkileiva (3 sorti) - ja sepikutoodete valik(G) | D65: 50 | E65: 123.1 | F65: 26.15 | G65: 1 | H65: 3.575 | J65: 30 | K65: =J65*E65/D65 -> 73.86 | L65: =K65*F65/E65 -> 15.69 | M65: =L65*G65/F65 -> 0.6 | N65: =M65*H65/G65 -> 2.145
B66: Porgand | D66: 50 | E66: 16.2 | F66: 2.8 | G66: 0.1 | H66: 0.3 | J66: 50 | K66: =J66*E66/D66 -> 16.2 | L66: =K66*F66/E66 -> 2.8 | M66: =L66*G66/F66 -> 0.1 | N66: =M66*H66/G66 -> 0.3
B67: Pirn | D67: 50 | E67: 19.988 | F67: 5.97 | G67: 0 | H67: 0.15 | J67: 50 | K67: =J67*E67/D67 -> 19.988 | L67: =K67*F67/E67 -> 5.97 | M67: =L67*G67/F67 -> 0 | N67: 0.15
A68: Kokku: | E68: =SUM(E57,E59:E67) -> 640.6589 | F68: =SUM(F57,F59:F67) -> 100.15075 | G68: =SUM(G57,G59:G67) -> 17.71175 | H68: =SUM(H57,H59:H67) -> 20.6745 | K68: =SUM(K57,K59:K67) -> 702.9054 | L68: =SUM(L57,L59:L67) -> 97.3135 | M68: =SUM(M57,M59:M67) -> 23.55075 | N68: =SUM(N57,N59:N67) -> 24.9085
A69: Reede | B69: Lõunasöök- JÕULUD | C69: Koostisosad | D69: Kogus, g | E69: Energia, kcal | F69: Süsivesikud, g | G69: Rasvad, g | H69: Valgud, g | J69: Kogus, g | K69: Energia, kcal | L69: Süsivesikud, g | M69: Rasvad, g | N69: Valgud, g
B70: Ahjuliha (PT) | C70: Sealiha, toiduõli, vesi, mugulsibul, söögisool, must pipar | D70: 80 | E70: 152.99 | F70: 0.59 | G70: 9.62 | H70: 16.1 | J70: 90 | K70: =J70*E70/D70 -> 172.11375 | L70: =K70*F70/E70 -> 0.66375 | M70: =L70*G70/F70 -> 10.8225 | N70: =M70*H70/G70 -> 18.1125
A71: #VALUE! | B71: Kartul, aurutatud | D71: 200 | E71: 143.2 | F71: 0 | G71: 8.8 | H71: 16 | J71: 220 | K71: =J71*E71/D71 -> 157.52 | L71: =K71*F71/E71 -> 0 | M71: =J71*G71/D71 -> 9.68 | N71: =J71*H71/D71 -> 17.6
B72: Soe valge kaste (G, L) | C72: Nisujahu, toiduõli, piim , söögisool, toidukoor | D72: 100 | E72: 118.29 | F72: 8.17 | G72: 7.89 | H72: 3.75 | J72: 120 | K72: =J72*E72/D72 -> 141.948 | L72: =K72*F72/E72 -> 9.804 | M72: =L72*G72/F72 -> 9.468 | N72: =M72*H72/G72 -> 4.5
B73: Hapukapsas | C73: Hapukapsas (valge peakapsas, porgand, söögisool), mugulsibul, suhkur, söögisool, toiduõli | D73: 100 | E73: 57.2 | F73: 5.54 | G73: 3.18 | H73: 0.87 | J73: 120 | K73: =J73*E73/D73 -> 68.64 | L73: =K73*F73/E73 -> 6.648 | M73: =L73*G73/F73 -> 3.816 | N73: =M73*H73/G73 -> 1.044
B74: Marineeritud kõrvits | D74: 50 | E74: 51.55 | F74: 12.8 | G74: 0.05 | H74: 0.2 | J74: 70 | K74: =J74*E74/D74 -> 72.17 | L74: =K74*F74/E74 -> 17.92 | M74: =L74*G74/F74 -> 0.07 | N74: =M74*H74/G74 -> 0.28
B75: Keedupeet | D75: 50 | E75: 25.64 | F75: 6.19 | G75: 0.06 | H75: 0.83 | J75: 100 | K75: =J75*E75/D75 -> 51.28 | L75: =K75*F75/E75 -> 12.38 | M75: =L75*G75/F75 -> 0.12 | N75: =M75*H75/G75 -> 1.66
B76: Porgandi-apelsinisalat | C76: Porgand, apelsin, toiduõli | D76: 100 | E76: 47.8 | F76: 6.41 | G76: 1.68 | H76: 0.49 | J76: 125 | K76: =J76*E76/D76 -> 59.75 | L76: =K76*F76/E76 -> 8.0125 | M76: =L76*G76/F76 -> 2.1 | N76: =M76*H76/G76 -> 0.6125
B77: Seemnesegu (mahe) | C77: Kõrvitsaseemned, päevalilleseemned, seesamiseemned | D77: 10 | E77: 60.8767 | F77: 1.28 | G77: 5.1567 | H77: 2.8233 | J77: 10 | K77: =J77*E77/D77 -> 60.8767 | L77: =K77*F77/E77 -> 1.28 | M77: =L77*G77/F77 -> 5.1567 | N77: =M77*H77/G77 -> 2.8233
B78: Mahla-õlikaste | C78: Õunamahl 100% naturaalne, õunaäädikas, sinepipulber, söögisool, petersell, värske, toiduõli | D78: 5 | E78: 32.1894 | F78: 0.09705 | G78: 3.53055 | H78: 0.01355 | J78: 5 | K78: =J78*E78/D78 -> 32.1894 | L78: =K78*F78/E78 -> 0.09705 | M78: =L78*G78/F78 -> 3.53055 | N78: =M78*H78/G78 -> 0.01355
B79: Piimatooted (piim, keefir R 2,5% ) (L) | D79: 100 | E79: 56.39 | F79: 4.875 | G79: 2.57 | H79: 3.44 | J79: 50 | K79: =J79*E79/D79 -> 28.195 | L79: =K79*F79/E79 -> 2.4375 | M79: =L79*G79/F79 -> 1.285 | N79: =M79*H79/G79 -> 1.72
B80: Joogijogurt , maitsestatud (L) | C80: Maitsestamata jogurt, naturaalne marjapüree (maasikas, vaarikas, mustad sõstrad, punased sõstrad, mustikas), suhkur | D80: 50 | E80: 37.373 | F80: 6.0615 | G80: 0.75 | H80: 1.6 | J80: 50 | K80: =J80*E80/D80 -> 37.373 | L80: =K80*F80/E80 -> 6.0615 | M80: =L80*G80/F80 -> 0.75 | N80: =M80*H80/G80 -> 1.6
B81: Piparkook 2tk (G, L, M) | C81: Nisujahu, söögisooda, ingver, või, kanamuna, suhkrusiirup, suhkur, kaneel, nelk, kardemon | D81: 12 | E81: 56.5 | F81: 8 | G81: 2.25 | H81: 0.878 | J81: 12 | K81: =J81*E81/D81 -> 56.5 | L81: =K81*F81/E81 -> 8 | M81: =L81*G81/F81 -> 2.25 | N81: =M81*H81/G81 -> 0.878
B82: Glögi | C82: Õunamahl, mustsõstramahl, vesi, kaneel, nelk, ingverijuur, suhkur, apelsinikoor, apelsin | D82: 100 | E82: 23.8 | F82: 5.86 | G82: 0.01 | H82: 0.12 | J82: 100 | K82: =J82*E82/D82 -> 23.8 | L82: =K82*F82/E82 -> 5.86 | M82: =L82*G82/F82 -> 0.01 | N82: =M82*H82/G82 -> 0.12
B83: Rukkileiva (3 sorti) - ja sepikutoodete valik(G) | D83: 30 | E83: 73.86 | F83: 15.69 | G83: 0.6 | H83: 2.145 | J83: 30 | K83: =J83*E83/D83 -> 73.86 | L83: =K83*F83/E83 -> 15.69 | M83: =L83*G83/F83 -> 0.6 | N83: =M83*H83/G83 -> 2.145
B84: Valge redis | D84: 50 | E84: 9.45 | F84: 1.45 | G84: 0.05 | H84: 0.4 | J84: 50 | K84: =J84*E84/D84 -> 9.45 | L84: =K84*F84/E84 -> 1.45 | M84: =L84*G84/F84 -> 0.05 | N84: =M84*H84/G84 -> 0.4
B85: Mandariin | D85: 100 | E85: 43.7 | F85: 9.17 | G85: 0.1 | H85: 0.9 | J85: 100 | K85: =J85*E85/D85 -> 43.7 | L85: =K85*F85/E85 -> 9.17 | M85: =L85*G85/F85 -> 0.1 | N85: 0
A86: Kokku: | E86: =SUM(E70,E71:E85) -> 990.8091 | F86: =SUM(F70,F71:F85) -> 92.18355 | G86: =SUM(G70,G71:G85) -> 46.29725 | H86: =SUM(H70,H71:H85) -> 50.55985 | K86: =SUM(K70,K71:K85) -> 1089.3658 | L86: =SUM(L70,L71:L85) -> 105.4743 | M86: =SUM(M70,M71:M85) -> 49.80875 | N86: =SUM(N70,N71:N85) -> 53.50885
A87: NÄDALA KESKMINE KOKKU: | E87: =AVERAGE(E86,E68,E55,E37,E24) -> 761.91908 | F87: =AVERAGE(F86,F68,F55,F37,F24) -> 89.78372 | G87: =AVERAGE(G86,G68,G55,G37,G24) -> 30.26738 | H87: =AVERAGE(H86,H68,H55,H37,H24) -> 32.82327 | K87: =AVERAGE(K24,K37,K55,K68,K86) -> 885.79972 | L87: =AVERAGE(L24,L37,L55,L68,L86) -> 102.09299 | M87: =AVERAGE(M24,M37,M55,M68,M86) -> 35.798153 | N87: =AVERAGE(N24,N37,N55,N68,N86) -> 38.91449
C88: Põhitoitainetestsaadava energia osakaal koguenergiast (%E) | F88: =(F87*4)/E87*100 -> 47.135567 | G88: =(G87*9)/E87*100 -> 35.752671 | H88: =(H87*4)/E87*100 -> 17.231893 | L88: =(L87*4)/K87*100 -> 46.102066 | M88: =(M87*9)/K87*100 -> 36.372034 | N88: =(N87*4)/K87*100 -> 17.572591
C89: Nõutud vahemik kahe nädala keskmisena | E89: 700-800 kcal | F89: 45-60%E | G89: 25-40%E | H89: 10-20%E | K89: 800-900 kcal | L89: 45-60%E | M89: 25-40%E | N89: 10-20%E
A90: Üldinfo menüü kohta
A91: Taimetoit võib sisaldada muna- ja piimatooteid
A92: Allergiat või toidutalumatust põhjustavate koostisosade kohta küsi lisainfot köögipersonalilt
A93: Joogivesi on igapäevaselt tasuta saadaval kogu päeva jooksul
A94: Menüü muudatused kooskõlastatakse kooliga vastavalt hankelepingule. Erandolukorras, kus muudatus on vältimatu (nt ootamatu tooraine puudus), teavitatakse kooli esimesel võimalusel ning tagatakse toidu toiteväärtuslikkus ja mitmekesisus
A95: Tähised menüüs
A96: G – sisaldab gluteeni | B96: L – sisaldab piimatooteid (sh laktoosi)
A97: M – sisaldab muna | B97: P – sisaldab pähkleid
A98: PT – portsjontoode | B98: VS-vähendatud suhkruga
A99: PRIA toetusprogrammid
A100: Koolipuuvilja ja - köögivilja ning koolipiima toetab osaliselt PRIA
A101: PRIA koolikava osalise toetusega pakutakse 1.–6. klassi õpilastele puu- ja köögivilju ning piima ja piimatooteid. 1.–9. klassi õpilastele piima ja piimatooteid.

Sheet Nädal_01
A1: #VALUE! | C1: #VALUE!
A6: KOOLILÕUNA MENÜÜ
A7: 01. nädal | B7: 04.01-08.01.2027 | D7: 4-9.klass | J7: 10-12.klass
A8: Esmaspäev | B8: Lõunasöök | C8: Koostisosad | D8: Kogus, g | E8: Energia, kcal | F8: Süsivesikud, g | G8: Rasvad, g | H8: Valgud, g | J8: Kogus, g | K8: Energia, kcal | L8: Süsivesikud, g | M8: Rasvad, g | N8: Valgud, g
B9: Sinepine sealihakaste (G, L) | C9: Sealiha, mugulsibul, hapukoor, vesi, toiduõli, nisujahu, sinepipulber, petersell, must pipar | D9: 120 | E9: 158.2068 | F9: 3.6132 | G9: 10.842 | H9: 11.6916 | J9: 140 | K9: =J9*E9/D9 -> 184.5746 | L9: =K9*F9/E9 -> 4.2154 | M9: =L9*G9/F9 -> 12.649 | N9: =M9*H9/G9 -> 13.6402
A10: Taimetoit | B10: Rooskapsas sinepikastmes (G, L) (mahe) | C10: Rooskapsas, või, sinep, must pipar,söögisool, toidukoor | D10: 120 | E10: 135.33 | F10: 8.9124 | G10: 9.2724 | H10: 6.1524 | J10: 140 | K10: =J10*E10/D10 -> 157.885 | L10: =K10*F10/E10 -> 10.3978 | M10: =L10*G10/F10 -> 10.8178 | N10: =M10*H10/G10 -> 7.1778
B11: Täisterapasta/pasta (G) (mahe) | C11: Täisterapasta, pasta (durumnisujahu, vesi), söögisool, vesi, toiduõli | D11: 60 | E11: 90.8 | F11: 15.8 | G11: 1.55 | H11: 2.74 | J11: 100 | K11: =J11*E11/D11 -> 151.33333 | L11: =K11*F11/E11 -> 26.333333 | M11: =L11*G11/F11 -> 2.5833333 | N11: =M11*H11/G11 -> 4.5666667
B12: Riis, aurutatud (mahe) | C12: Riis, vesi, söögisool | D12: 60 | E12: 94.6212 | F12: 16.1256 | G12: 2.8452 | H12: 1.3662 | J12: 100 | K12: =J12*E12/D12 -> 157.702 | L12: =K12*F12/E12 -> 26.876 | M12: =L12*G12/F12 -> 4.742 | N12: =M12*H12/G12 -> 2.277
B13: Miniporgandid, aurutatud | C13: Miniporgand, vesi, söögisool | D13: 50 | E13: 16.2 | F13: 4.25 | G13: 0.1 | H13: 0.3 | J13: 100 | K13: =J13*E13/D13 -> 32.4 | L13: =K13*F13/E13 -> 8.5 | M13: =L13*G13/F13 -> 0.2 | N13: =M13*H13/G13 -> 0.6
B14: Hiina kapsa salat roheliste hernestega | C14: Hiina kapsas, roheline hernes | D14: 50 | E14: 25.1 | F14: 2.83 | G14: 0.2 | H14: 1.95 | J14: 100 | K14: =J14*E14/D14 -> 50.2 | L14: =K14*F14/E14 -> 5.66 | M14: =L14*G14/F14 -> 0.4 | N14: =M14*H14/G14 -> 3.9
B15: Porgand, šampinjonid küüslauguga, valge redis | C15: Porgand, šampinjonid küüslauguga (šampinjon, küüslauk, petersell, toiduõli, söögisool, must pipar), valge redis | D15: 100 | E15: 31.1 | F15: 4.67 | G15: 0.469 | H15: 1.45 | J15: 100 | K15: =J15*E15/D15 -> 31.1 | L15: =K15*F15/E15 -> 4.67 | M15: =L15*G15/F15 -> 0.469 | N15: =M15*H15/G15 -> 1.45
B16: Seemnesegu (mahe) | C16: Kõrvitsaseemned, päevalilleseemned, seesamiseemned | D16: 15 | E16: 91.31505 | F16: 1.92 | G16: 7.73505 | H16: 4.23495 | J16: 15 | K16: =J16*E16/D16 -> 91.31505 | L16: =K16*F16/E16 -> 1.92 | M16: =L16*G16/F16 -> 7.73505 | N16: =M16*H16/G16 -> 4.23495
B17: Külm jogurtikaste maitserohelisega | C17: Maitsestamata jogurt, roheline sibul, till, värske | D17: 15 | E17: 8.51145 | F17: 0.7227 | G17: 0.3996 | H17: 0.5091 | J17: 15 | K17: =J17*E17/D17 -> 8.51145 | L17: =K17*F17/E17 -> 0.7227 | M17: =L17*G17/F17 -> 0.3996 | N17: =M17*H17/G17 -> 0.5091
A18: PRIA | B18: Piimatooted (piim, keefir) (L) | D18: 50 | E18: 28.195 | F18: 2.4375 | G18: 1.285 | H18: 1.72 | J18: 50 | K18: =J18*E18/D18 -> 28.195 | L18: =K18*F18/E18 -> 2.4375 | M18: =L18*G18/F18 -> 1.285 | N18: =M18*H18/G18 -> 1.72
B19: Joogijogurt, maitsestatud (L) | C19: Maitsestamata jogurt, naturaalne marjapüree (maasikas, vaarikas, mustad sõstrad, punased sõstrad, mustikas), suhkur | D19: 50 | E19: 37.373 | F19: 6.0615 | G19: 0.75 | H19: 1.6 | J19: 50 | K19: =J19*E19/D19 -> 37.373 | L19: =K19*F19/E19 -> 6.0615 | M19: =L19*G19/F19 -> 0.75 | N19: =M19*H19/G19 -> 1.6
B20: Tee, suhkruta | C20: Teepuru, vesi | D20: 50 | E20: 0.2 | F20: 0 | G20: 0 | H20: 0.05 | J20: 50 | K20: =J20*E20/D20 -> 0.2 | L20: =K20*F20/E20 -> 0 | M20: 0 | N20: 0.05
B21: Rukkileiva (3 sorti) - ja sepikutoodete valik(G) | D21: 50 | E21: 123.1 | F21: 26.15 | G21: 1 | H21: 3.575 | J21: 50 | K21: =J21*E21/D21 -> 123.1 | L21: =K21*F21/E21 -> 26.15 | M21: =L21*G21/F21 -> 1 | N21: =M21*H21/G21 -> 3.575
B22: Porgand | D22: 50 | E22: 16.2 | F22: 2.8 | G22: 0.1 | H22: 0.3 | J22: 50 | K22: =J22*E22/D22 -> 16.2 | L22: =K22*F22/E22 -> 2.8 | M22: =L22*G22/F22 -> 0.1 | N22: =M22*H22/G22 -> 0.3
B23: Õun (mahe) | D23: 50 | E23: 24.038 | F23: 6.74 | G23: 0 | H23: 0 | J23: 50 | K23: =J23*E23/D23 -> 24.038 | L23: =K23*F23/E23 -> 6.74 | M23: =L23*G23/F23 -> 0 | N23: 0
A24: Kokku: | E24: =SUM(E9,E11:E23) -> 744.9605 | F24: =SUM(F9,F11:F23) -> 94.1205 | G24: =SUM(G9,G11:G23) -> 27.27585 | H24: =SUM(H9,H11:H23) -> 31.48685 | K24: =SUM(K9,K11:K23) -> 936.24243 | L24: =SUM(L9,L11:L23) -> 123.08643 | M24: =SUM(M9,M11:M23) -> 32.312983 | N24: =SUM(N9,N11:N23) -> 38.422917
A25: Teisipäev | C25: Koostisosad | D25: Kogus, g | E25: Energia, kcal | F25: Süsivesikud, g | G25: Rasvad, g | H25: Valgud, g | J25: Kogus, g | K25: Energia, kcal | L25: Süsivesikud, g | M25: Rasvad, g | N25: Valgud, g
B26: Ühepajatoit kanalihaga | C26: Kanaliha, porgand, kaalikas, valge peakapsas, mugulsibul, söögisool, must pipar, petersell, toiduõli, vesi | D26: 120 | E26: 92.6 | F26: 5.68 | G26: 4.66 | H26: 5.44 | J26: 140 | K26: =J26*E26/D26 -> 108.03333 | L26: =K26*F26/E26 -> 6.6266667 | M26: =L26*G26/F26 -> 5.4366667 | N26: =M26*H26/G26 -> 6.3466667
A27: Taimetoit | B27: Ühepajatoit roheliste hernestega | C27: Rohelised herned, porgand, kaalikas, valge peakapsas, mugulsibul, söögisool, must pipar, petersell, toiduõli, vesi | D27: 120 | E27: 95.76 | F27: 10.296 | G27: 3.912 | H27: 2.832 | J27: 140 | K27: =J27*E27/D27 -> 111.72 | L27: =K27*F27/E27 -> 12.012 | M27: =L27*G27/F27 -> 4.564 | N27: =M27*H27/G27 -> 3.304
B28: Kartul, aurutatud (mahe) | C28: Kartul, vesi, söögisool | D28: 80 | E28: 59.16 | F28: 13.464 | G28: 0.0816 | H28: 1.5504 | J28: 100 | K28: =J28*E28/D28 -> 73.95 | L28: =K28*F28/E28 -> 16.83 | M28: =L28*G28/F28 -> 0.102 | N28: =M28*H28/G28 -> 1.938
B29: Tatar, aurutatud | C29: Tatar, vesi, söögisool, toiduõli | D29: 80 | E29: 94.6016 | F29: 6.5232 | G29: 6.3136 | H29: 2.9968 | J29: 100 | K29: =J29*E29/D29 -> 118.252 | L29: =K29*F29/E29 -> 8.154 | M29: =L29*G29/F29 -> 7.892 | N29: =M29*H29/G29 -> 3.746
B30: Kõrvits, röstitud | C30: Kõrvits, toiduõli, söögisool | D30: 50 | E30: 21.7 | F30: 1.07 | G30: 1.66 | H30: 0.322 | J30: 100 | K30: =J30*E30/D30 -> 43.4 | L30: =K30*F30/E30 -> 2.14 | M30: =L30*G30/F30 -> 3.32 | N30: =M30*H30/G30 -> 0.644
B31: Valge redisesalat värske kurgiga | C31: Valge redis, värske kurk | D31: 50 | E31: 7.17 | F31: 1.07 | G31: 0.025 | H31: 0.375 | J31: 100 | K31: =J31*E31/D31 -> 14.34 | L31: =K31*F31/E31 -> 2.14 | M31: =L31*G31/F31 -> 0.05 | N31: =M31*H31/G31 -> 0.75
B32: Peet, hernes, kaalikas | C32: Keedetud peet, hernes, kaalikas | D32: 100 | E32: 55.1 | F32: 7.97 | G32: 0.3 | H32: 3.03 | J32: 100 | K32: =J32*E32/D32 -> 55.1 | L32: =K32*F32/E32 -> 7.97 | M32: =L32*G32/F32 -> 0.3 | N32: =M32*H32/G32 -> 3.03
B33: Seemnesegu (mahe) | C33: Kõrvitsaseemned, päevalilleseemned, seesamiseemned | D33: 15 | E33: 91.31505 | F33: 1.92 | G33: 7.73505 | H33: 4.23495 | J33: 15 | K33: =J33*E33/D33 -> 91.31505 | L33: =K33*F33/E33 -> 1.92 | M33: =L33*G33/F33 -> 7.73505 | N33: =M33*H33/G33 -> 4.23495
B34: Mahla-õlikaste | C34: Õunamahl 100% naturaalne, õunaäädikas, sinepipulber, söögisool, petersell, värske, toiduõli | D34: 10 | E34: 64.3788 | F34: 0.1941 | G34: 7.0611 | H34: 0.0271 | J34: 10 | K34: =J34*E34/D34 -> 64.3788 | L34: =K34*F34/E34 -> 0.1941 | M34: =L34*G34/F34 -> 7.0611 | N34: =M34*H34/G34 -> 0.0271
A35: PRIA | B35: Piimatooted (piim, keefir) (L) | D35: 50 | E35: 28.195 | F35: 2.4375 | G35: 1.285 | H35: 1.72 | J35: 50 | K35: =J35*E35/D35 -> 28.195 | L35: =K35*F35/E35 -> 2.4375 | M35: =L35*G35/F35 -> 1.285 | N35: =M35*H35/G35 -> 1.72
B36: Joogijogurt , maitsestatud (L) | C36: Maitsestamata jogurt, naturaalne marjapüree (maasikas, vaarikas, mustad sõstrad, punased sõstrad, mustikas), suhkur | D36: 50 | E36: 37.373 | F36: 6.0615 | G36: 0.75 | H36: 1.6 | J36: 50 | K36: =J36*E36/D36 -> 37.373 | L36: =K36*F36/E36 -> 6.0615 | M36: =L36*G36/F36 -> 0.75 | N36: =M36*H36/G36 -> 1.6
B37: Tee, suhkruta | C37: Teepuru, vesi | D37: 50 | E37: 0.2 | F37: 0 | G37: 0 | H37: 0.05 | J37: 50 | K37: =J37*E37/D37 -> 0.2 | L37: =K37*F37/E37 -> 0 | M37: 0 | N37: 0.05
B38: Rukkileiva (3 sorti) - ja sepikutoodete valik(G) | D38: 30 | E38: 73.86 | F38: 15.69 | G38: 0.6 | H38: 2.145 | J38: 30 | K38: =J38*E38/D38 -> 73.86 | L38: =K38*F38/E38 -> 15.69 | M38: =L38*G38/F38 -> 0.6 | N38: =M38*H38/G38 -> 2.145
B39: Nuikapsas | D39: 50 | E39: 12.1 | F39: 2.1 | G39: 0.1 | H39: 0.25 | J39: 50 | K39: =J39*E39/D39 -> 12.1 | L39: =K39*F39/E39 -> 2.1 | M39: =L39*G39/F39 -> 0.1 | N39: =M39*H39/G39 -> 0.25
B40: Pirn | D40: 50 | E40: 19.988 | F40: 5.97 | G40: 0 | H40: 0.15 | J40: 50 | K40: =J40*E40/D40 -> 19.988 | L40: =K40*F40/E40 -> 5.97 | M40: =L40*G40/F40 -> 0 | N40: 0.15
A41: Kokku: | E41: =SUM(E26,E28:E40) -> 657.74145 | F41: =SUM(F26,F28:F40) -> 70.1503 | G41: =SUM(G26,G28:G40) -> 30.57135 | H41: =SUM(H26,H28:H40) -> 23.89125 | K41: =SUM(K26,K28:K40) -> 740.48518 | L41: =SUM(L26,L28:L40) -> 78.233767 | M41: =SUM(M26,M28:M40) -> 34.631817 | N41: =SUM(N26,N28:N40) -> 26.631717
A42: Kolmapäev | B42: Lõunasöök | C42: Koostisosad | D42: Kogus, g | E42: Energia, kcal | F42: Süsivesikud, g | G42: Rasvad, g | H42: Valgud, g | J42: Kogus, g | K42: Energia, kcal | L42: Süsivesikud, g | M42: Rasvad, g | N42: Valgud, g
B43: Hakklihasupp | C43: Sea-veise segahakkliha, kartul, porgand, mugulsibul, vesi, loorber, petersell, söögisool, must pipar | D43: 200 | E43: 159 | F43: 11.5 | G43: 9.35 | H43: 6.5 | J43: 300 | K43: =J43*E43/D43 -> 238.5 | L43: =K43*F43/E43 -> 17.25 | M43: =L43*G43/F43 -> 14.025 | N43: =M43*H43/G43 -> 9.75
A44: Taimetoit | B44: Tomatine kikerhernesupp | C44: Kikerherned, kartul, porgand, mugulsibul, tomatipasta, küüslauk, vesi, pune, petersell, söögisool, must pipar | D44: 50 | E44: 42.1 | F44: 4.25 | G44: 1.84 | H44: 1.22 | J44: 50 | K44: =J44*E44/D44 -> 42.1 | L44: =K44*F44/E44 -> 4.25 | M44: =L44*G44/F44 -> 1.84 | N44: =M44*H44/G44 -> 1.22
B45: Hapukoor R 20% | D45: 30 | E45: 66.5 | F45: 1.14 | G45: 6.44 | H45: 0.99 | J45: 30 | K45: =J45*E45/D45 -> 66.5 | L45: =K45*F45/E45 -> 1.14 | M45: =L45*G45/F45 -> 6.44 | N45: =M45*H45/G45 -> 0.99
B46: Mustsõstramannavaht piimaga (G, L, VS) | C46: Nisumanna, piim, vesi, mustsõstar, suhkur | D46: 100 | E46: 121.6 | F46: 25.8 | G46: 0.245 | H46: 1.75 | J46: 100 | K46: =J46*E46/D46 -> 121.6 | L46: =K46*F46/E46 -> 25.8 | M46: =L46*G46/F46 -> 0.245 | N46: =M46*H46/G46 -> 1.75
B47: Vanilje panna cotta mustikakastmega (L, VS) | C47: Maitsestamata jogurt, piim, vesi, vahukoor, mustikad, želatiin, sukur, vanillisuhkur | D47: 100 | E47: 109.1144 | F47: 12.888 | G47: 4.996 | H47: 3.2256 | J47: 100 | K47: =J47*E47/D47 -> 109.1144 | L47: =K47*F47/E47 -> 12.888 | M47: =L47*G47/F47 -> 4.996 | N47: =M47*H47/G47 -> 3.2256
A48: PRIA | B48: Piimatooted (piim, keefir) (L) | D48: 50 | E48: 28.195 | F48: 2.4375 | G48: 1.285 | H48: 1.72 | J48: 50 | K48: =J48*E48/D48 -> 28.195 | L48: =K48*F48/E48 -> 2.4375 | M48: =L48*G48/F48 -> 1.285 | N48: =M48*H48/G48 -> 1.72
B49: Mahl (erinevad maitsed) | C49: Rõngu suhkruvaba mahlakonsentraat 100% naturaalne, vesi | D49: 50 | E49: 24.2644 | F49: 5.891 | G49: 0.025 | H49: 0.1815 | J49: 50 | K49: =J49*E49/D49 -> 24.2644 | L49: =K49*F49/E49 -> 5.891 | M49: =L49*G49/F49 -> 0.025 | N49: =M49*H49/G49 -> 0.1815
B50: Joogijogurt , maitsestatud (L) | C50: Maitsestamata jogurt, naturaalne marjapüree (maasikas, vaarikas, mustad sõstrad, punased sõstrad, mustikas), suhkur | D50: 50 | E50: 37.373 | F50: 6.0615 | G50: 0.75 | H50: 1.6 | J50: 50 | K50: =J50*E50/D50 -> 37.373 | L50: =K50*F50/E50 -> 6.0615 | M50: =L50*G50/F50 -> 0.75 | N50: =M50*H50/G50 -> 1.6
B51: Tee, suhkruta | C51: Teepuru, vesi | D51: 50 | E51: 0.2 | F51: 0 | G51: 0 | H51: 0.05 | J51: 50 | K51: =J51*E51/D51 -> 0.2 | L51: =K51*F51/E51 -> 0 | M51: 0 | N51: 0.05
B52: Rukkileiva (3 sorti) - ja sepikutoodete valik(G) | D52: 50 | E52: 123.1 | F52: 26.15 | G52: 1 | H52: 3.575 | J52: 50 | K52: =J52*E52/D52 -> 123.1 | L52: =K52*F52/E52 -> 26.15 | M52: =L52*G52/F52 -> 1 | N52: =M52*H52/G52 -> 3.575
B53: Valge redis | D53: 50 | E53: 9.45 | F53: 1.45 | G53: 0.05 | H53: 0.4 | J53: 50 | K53: =J53*E53/D53 -> 9.45 | L53: =K53*F53/E53 -> 1.45 | M53: =L53*G53/F53 -> 0.05 | N53: =M53*H53/G53 -> 0.4
B54: Õun (mahe) | D54: 50 | E54: 24.038 | F54: 6.74 | G54: 0 | H54: 0 | J54: 50 | K54: =J54*E54/D54 -> 24.038 | L54: =K54*F54/E54 -> 6.74 | M54: =L54*G54/F54 -> 0 | N54: 0
A55: Kokku: | E55: =SUM(E43,E45:E54) -> 702.8348 | F55: =SUM(F43:F54) -> 104.308 | G55: =SUM(G43:G54) -> 25.981 | H55: =SUM(H43:H54) -> 21.2121 | K55: =SUM(K43:K54) -> 824.4348 | L55: =SUM(L43:L54) -> 110.058 | M55: =SUM(M43:M54) -> 30.656 | N55: =SUM(N43:N54) -> 24.4621
A56: Neljapäev | B56: Lõunasöök | C56: Koostisosad | D56: Kogus, g | E56: Energia, kcal | F56: Süsivesikud, g | G56: Rasvad, g | H56: Valgud, g | J56: Kogus, g | K56: Energia, kcal | L56: Süsivesikud, g | M56: Rasvad, g | N56: Valgud, g
B57: Ahjukala juustukattega (G, L, PT) | C57: Valge kala, toiduõli, sidrun, till, juust, hapukoor,porrulauk, söögisool, must pipar | D57: 60 | E57: 92.58 | F57: 0.5172 | G57: 4.8558 | H57: 11.8158 | J57: 70 | K57: =J57*E57/D57 -> 108.01 | L57: =K57*F57/E57 -> 0.6034 | M57: =L57*G57/F57 -> 5.6651 | N57: =M57*H57/G57 -> 13.7851
A58: Taimetoit | B58: Köögivilja-läätse pikkpoiss (G, L, M) | C58: Suvikõrvits, pastinaak, läätsed, kanamuna, küüslauk, söögisool, riivsai, juust,mugulsibul, toiduõli, must pipar, söögisool, Vahemere ürdisegu (pune, basiilik, tüümian, rosmariin, majoraan) | D58: 60 | E58: 78.48 | F58: 10.008 | G58: 1.704 | H58: 4.812 | J58: 70 | K58: =J58*E58/D58 -> 91.56 | L58: =K58*F58/E58 -> 11.676 | M58: =L58*G58/F58 -> 1.988 | N58: =M58*H58/G58 -> 5.614
B59: Kartul, aurutatud (mahe) | D59: 60 | E59: 43.5 | F59: 9.9 | G59: 0.06 | H59: 1.14 | J59: 100 | K59: =J59*E59/D59 -> 72.5 | L59: =K59*F59/E59 -> 16.5 | M59: =L59*G59/F59 -> 0.1 | N59: =M59*H59/G59 -> 1.9
B60: Kuskuss, aurutatud (G) | C60: Kuskuss, vesi, söögisool | D60: 60 | E60: 80.4 | F60: 16.32 | G60: 0 | H60: 2.48 | J60: 100 | K60: =J60*E60/D60 -> 134 | L60: =K60*F60/E60 -> 27.2 | M60: =L60*G60/F60 -> 0 | N60: =J60*H60/D60 -> 4.1333333
B61: Pastinaak, röstitud | C61: Pastinaak, toiduõli, söögisool | D61: 50 | E61: 32.2 | F61: 7.95 | G61: 0.3 | H61: 0.85 | J61: 70 | K61: =J61*E61/D61 -> 45.08 | L61: =K61*F61/E61 -> 11.13 | M61: =L61*G61/F61 -> 0.42 | N61: =M61*H61/G61 -> 1.19
B62: Tartarkaste (L) | C62: Hapukoor, majonees, marineeritud kurk, sidrunimahl, till, petersell, söögisool, must pipar, suhkur | D62: 50 | E62: 102 | F62: 2.05 | G62: 9.94 | H62: 1.04 | J62: 50 | K62: =J62*E62/D62 -> 102 | L62: =K62*F62/E62 -> 2.05 | M62: =L62*G62/F62 -> 9.94 | N62: =M62*H62/G62 -> 1.04
B63: Porgandi-ananassisalat | C63: Porgand, toiduõli, ananass | D63: 50 | E63: 22.6545 | F63: 4.3185 | G63: 0.7715 | H63: 0.287 | J63: 100 | K63: =J63*E63/D63 -> 45.309 | L63: =K63*F63/E63 -> 8.637 | M63: =L63*G63/F63 -> 1.543 | N63: =M63*H63/G63 -> 0.574
B64: Nuikapsas, kikerherned, porrulauk | D64: 100 | E64: 62.3 | F64: 6.83 | G64: 1.1 | H64: 3.47 | J64: 100 | K64: =J64*E64/D64 -> 62.3 | L64: =K64*F64/E64 -> 6.83 | M64: =L64*G64/F64 -> 1.1 | N64: =M64*H64/G64 -> 3.47
B65: Seemnesegu (mahe) | C65: Kõrvitsaseemned, päevalilleseemned, seesamiseemned | D65: 15 | E65: 91.31505 | F65: 1.92 | G65: 7.73505 | H65: 4.23495 | J65: 15 | K65: =J65*E65/D65 -> 91.31505 | L65: =K65*F65/E65 -> 1.92 | M65: =L65*G65/F65 -> 7.73505 | N65: =M65*H65/G65 -> 4.23495
B66: Mahla-õlikaste | C66: Õunamahl 100% naturaalne, õunaäädikas, sinepipulber, söögisool, petersell, värske, toiduõli | D66: 5 | E66: 32.1894 | F66: 0.09705 | G66: 3.53055 | H66: 0.01355 | J66: 5 | K66: =J66*E66/D66 -> 32.1894 | L66: =K66*F66/E66 -> 0.09705 | M66: =L66*G66/F66 -> 3.53055 | N66: =M66*H66/G66 -> 0.01355
A67: PRIA | B67: Piimatooted (piim, keefir) (L) | D67: 50 | E67: 28.195 | F67: 2.4375 | G67: 1.285 | H67: 1.72 | J67: 50 | K67: =J67*E67/D67 -> 28.195 | L67: =K67*F67/E67 -> 2.4375 | M67: =L67*G67/F67 -> 1.285 | N67: =M67*H67/G67 -> 1.72
B68: Joogijogurt, maitsestatud (L) | C68: Maitsestamata jogurt, naturaalne marjapüree (maasikas, vaarikas, mustad sõstrad, punased sõstrad, mustikas), suhkur | D68: 50 | E68: 37.373 | F68: 6.0615 | G68: 0.75 | H68: 1.6 | J68: 50 | K68: =J68*E68/D68 -> 37.373 | L68: =K68*F68/E68 -> 6.0615 | M68: =L68*G68/F68 -> 0.75 | N68: =M68*H68/G68 -> 1.6
B69: Tee, suhkruta | C69: Teepuru, vesi | D69: 50 | E69: 0.2 | F69: 0 | G69: 0 | H69: 0.05 | J69: 50 | K69: =J69*E69/D69 -> 0.2 | L69: =K69*F69/E69 -> 0 | M69: 0 | N69: 0.05
B70: Rukkileiva (3 sorti) - ja sepikutoodete valik(G) | D70: 30 | E70: 73.86 | F70: 15.69 | G70: 0.6 | H70: 2.145 | J70: 30 | K70: =J70*E70/D70 -> 73.86 | L70: =K70*F70/E70 -> 15.69 | M70: =L70*G70/F70 -> 0.6 | N70: =M70*H70/G70 -> 2.145
B71: Valge/punane peakapsas | D71: 50 | E71: 14.9 | F71: 2.29 | G71: 0.075 | H71: 0.675 | J71: 50 | K71: =J71*E71/D71 -> 14.9 | L71: =K71*F71/E71 -> 2.29 | M71: =L71*G71/F71 -> 0.075 | N71: =M71*H71/G71 -> 0.675
B72: Pirn | D72: 50 | E72: 19.988 | F72: 5.97 | G72: 0 | H72: 0.15 | J72: 50 | K72: =J72*E72/D72 -> 19.988 | L72: =K72*F72/E72 -> 5.97 | M72: =L72*G72/F72 -> 0 | N72: 0.15
A73: Kokku: | E73: =SUM(E57,E59:E72) -> 733.65495 | F73: =SUM(F57,F59:F72) -> 82.35175 | G73: =SUM(G57,G59:G72) -> 31.0029 | H73: =SUM(H57,H59:H72) -> 31.6713 | K73: =SUM(K57,K59:K72) -> 867.21945 | L73: =SUM(L57,L59:L72) -> 107.41645 | M73: =SUM(M57,M59:M72) -> 32.7437 | N73: =SUM(N57,N59:N72) -> 36.680933
A74: Reede | B74: Lõunasöök | C74: Koostisosad | D74: Kogus, g | E74: Energia, kcal | F74: Süsivesikud, g | G74: Rasvad, g | H74: Valgud, g | J74: Kogus, g | K74: Energia, kcal | L74: Süsivesikud, g | M74: Rasvad, g | N74: Valgud, g
B75: Pilaff kanalihaga | C75: Riis, vesi, söögisool, kanaliha, porgand, mugulsibul, toiduõli, vesi, küüslauk, söögisool, must pipar, jahvatatud paprika, petersell | D75: 200 | E75: 250 | F75: 35.6 | G75: 7.02 | H75: 10.08 | J75: 300 | K75: =J75*E75/D75 -> 375 | L75: =K75*F75/E75 -> 53.4 | M75: =L75*G75/F75 -> 10.53 | N75: =M75*H75/G75 -> 15.12
A76: Taimetoit | B76: Pilaff porgandi ja punaste ubadega (mahe) | C76: Riis, mugulsibul, küüslauk, toiduõli, porgand, vesi, punased oad, must pipar, jahvatatud paprika, söögisool | D76: 200 | E76: 273.624 | F76: 49.69 | G76: 6.714 | H76: 7.464 | J76: 300 | K76: =J76*E76/D76 -> 410.436 | L76: =K76*F76/E76 -> 74.535 | M76: =L76*G76/F76 -> 10.071 | N76: =M76*H76/G76 -> 11.196
B77: Brokoli, aurutatud | D77: 50 | E77: 19.73 | F77: 3.05 | G77: 0.25 | H77: 2.05 | J77: 100 | K77: =J77*E77/D77 -> 39.46 | L77: =K77*F77/E77 -> 6.1 | M77: =L77*G77/F77 -> 0.5 | N77: =M77*H77/G77 -> 4.1
B78: Soe tomatikaste | C78: Tomat, mugulsibul, porgand, küüslauk, toiduõli, söögisool, basiilik, värske | D78: 50 | E78: 17.5985 | F78: 3.2825 | G78: 0.544 | H78: 0.3895 | J78: 50 | K78: =J78*E78/D78 -> 17.5985 | L78: =K78*F78/E78 -> 3.2825 | M78: =L78*G78/F78 -> 0.544 | N78: =M78*H78/G78 -> 0.3895
B79: Peedi-hapukurgisalat | D79: 50 | E79: 29.1945 | F79: 5.174 | G79: 0.836 | H79: 0.771 | J79: 100 | K79: =J79*E79/D79 -> 58.389 | L79: =K79*F79/E79 -> 10.348 | M79: =L79*G79/F79 -> 1.672 | N79: =M79*H79/G79 -> 1.542
B80: Hiina kapsas, marineeritud punane sibul, mais | C80: Hiina kapsas, marineeritud punane sibul (punane sibul, õunaäädikas, sidrunimahl, must pipar,söögisool, vesi, suhkur) | D80: 100 | E80: 49.5 | F80: 7.43 | G80: 0.667 | H80: 2.01 | J80: 100 | K80: =J80*E80/D80 -> 49.5 | L80: =K80*F80/E80 -> 7.43 | M80: =L80*G80/F80 -> 0.667 | N80: =M80*H80/G80 -> 2.01
B81: Seemnesegu (mahe) | C81: Kõrvitsaseemned, päevalilleseemned, seesamiseemned | D81: 15 | E81: 91.31505 | F81: 1.92 | G81: 7.73505 | H81: 4.23495 | J81: 15 | K81: =J81*E81/D81 -> 91.31505 | L81: =K81*F81/E81 -> 1.92 | M81: =L81*G81/F81 -> 7.73505 | N81: =M81*H81/G81 -> 4.23495
B82: Külm küüslaugu-jogurtikaste (L) | C82: Maitsestamata jogurt, söögisool, suhkur, küüslauk | D82: 10 | E82: 12.7903 | F82: 1.4038 | G82: 0.6862 | H82: 0.2556 | J82: 10 | K82: =J82*E82/D82 -> 12.7903 | L82: =K82*F82/E82 -> 1.4038 | M82: =L82*G82/F82 -> 0.6862 | N82: =M82*H82/G82 -> 0.2556
A83: PRIA | B83: Piimatooted (piim, keefir) (L) | D83: 50 | E83: 28.195 | F83: 2.4375 | G83: 1.285 | H83: 1.72 | J83: 50 | K83: =J83*E83/D83 -> 28.195 | L83: =K83*F83/E83 -> 2.4375 | M83: =L83*G83/F83 -> 1.285 | N83: =M83*H83/G83 -> 1.72
B84: Mahl (erinevad maitsed) | C84: Rõngu suhkruvaba mahlakonsentraat 100% naturaalne, vesi | D84: 50 | E84: 24.2644 | F84: 5.891 | G84: 0.025 | H84: 0.1815 | J84: 50 | K84: =J84*E84/D84 -> 24.2644 | L84: =K84*F84/E84 -> 5.891 | M84: =L84*G84/F84 -> 0.025 | N84: =M84*H84/G84 -> 0.1815
B85: Joogijogurt , maitsestatud (L) | C85: Maitsestamata jogurt, naturaalne marjapüree (maasikas, vaarikas, mustad sõstrad, punased sõstrad, mustikas), suhkur | D85: 50 | E85: 37.373 | F85: 6.0615 | G85: 0.75 | H85: 1.6 | J85: 50 | K85: =J85*E85/D85 -> 37.373 | L85: =K85*F85/E85 -> 6.0615 | M85: =L85*G85/F85 -> 0.75 | N85: =M85*H85/G85 -> 1.6
B86: Tee, suhkruta | C86: Teepuru, vesi | D86: 50 | E86: 0.2 | F86: 0 | G86: 0 | H86: 0.05 | J86: 50 | K86: =J86*E86/D86 -> 0.2 | L86: =K86*F86/E86 -> 0 | M86: 0 | N86: 0.05
B87: Rukkileiva (3 sorti) - ja sepikutoodete valik(G) | D87: 30 | E87: 73.86 | F87: 15.69 | G87: 0.6 | H87: 2.145 | J87: 30 | K87: =J87*E87/D87 -> 73.86 | L87: =K87*F87/E87 -> 15.69 | M87: =L87*G87/F87 -> 0.6 | N87: =M87*H87/G87 -> 2.145
B88: Valge redis | D88: 50 | E88: 9.45 | F88: 1.45 | G88: 0.05 | H88: 0.4 | J88: 50 | K88: =J88*E88/D88 -> 9.45 | L88: =K88*F88/E88 -> 1.45 | M88: =L88*G88/F88 -> 0.05 | N88: =M88*H88/G88 -> 0.4
B89: Õun (mahe) | D89: 50 | E89: 24.038 | F89: 6.74 | G89: 0 | H89: 0 | J89: 50 | K89: =J89*E89/D89 -> 24.038 | L89: =K89*F89/E89 -> 6.74 | M89: =L89*G89/F89 -> 0 | N89: 0
A90: Kokku: | E90: =SUM(E75,E77:E89) -> 667.50875 | F90: =SUM(F75,F77:F89) -> 96.1303 | G90: =SUM(G75,G77:G89) -> 20.44825 | H90: =SUM(H75,H77:H89) -> 25.88755 | K90: =SUM(K75,K77:K89) -> 841.43325 | L90: =SUM(L75,L77:L89) -> 122.1543 | M90: =SUM(M75,M77:M89) -> 25.04425 | N90: =SUM(N75,N77:N89) -> 33.74855
A91: NÄDALA KESKMINE KOKKU: | E91: =AVERAGE(E24,E41,E55,E73,E90) -> 701.34009 | F91: =AVERAGE(F24,F41,F55,F73,F90) -> 89.41217 | G91: =AVERAGE(G24,G41,G55,G73,G90) -> 27.05587 | H91: =AVERAGE(H24,H41,H55,H73,H90) -> 26.82981 | K91: =AVERAGE(K25,K42,K55,K73,K90) -> 844.3625 | L91: =AVERAGE(L25,L42,L55,L73,L90) -> 113.20958 | M91: =AVERAGE(M25,M42,M55,M73,M90) -> 29.481317 | N91: =AVERAGE(N25,N42,N55,N73,N90) -> 31.630528
C92: Põhitoitainetestsaadava energia osakaal koguenergiast (%E) | F92: =(F91*4)/E91*100 -> 50.995043 | G92: =(G91*9)/E91*100 -> 34.719651 | H92: =(H91*4)/E91*100 -> 15.302026 | L92: =(L91*4)/K91*100 -> 53.630796 | M92: =(M91*9)/K91*100 -> 31.423926 | N92: =(N91*4)/K91*100 -> 14.984336
C93: Nõutud vahemik kahe nädala keskmisena | E93: 700-800 kcal | F93: 45-60%E | G93: 25-40%E | H93: 10-20%E | K93: 800-900 kcal | L93: 45-60%E | M93: 25-40%E | N93: 10-20%E
A94: Üldinfo menüü kohta
A95: Taimetoit võib sisaldada muna- ja piimatooteid
A96: Allergiat või toidutalumatust põhjustavate koostisosade kohta küsi lisainfot köögipersonalilt
A97: Joogivesi on igapäevaselt tasuta saadaval kogu päeva jooksul
A98: Menüü muudatused kooskõlastatakse kooliga vastavalt hankelepingule. Erandolukorras, kus muudatus on vältimatu (nt ootamatu tooraine puudus), teavitatakse kooli esimesel võimalusel ning tagatakse toidu toiteväärtuslikkus ja mitmekesisus
A99: Tähised menüüs
A100: G – sisaldab gluteeni | B100: L – sisaldab piimatooteid (sh laktoosi)
A101: M – sisaldab muna | B101: P – sisaldab pähkleid
A102: PT – portsjontoode | B102: VS-vähendatud suhkruga
A103: PRIA toetusprogrammid
A104: Koolipuuvilja ja - köögivilja ning koolipiima toetab osaliselt PRIA
...

Sheet Kontroll-leht
B1: Siga | C1: Oranž
B2: Veis | C2: Punane
B3: Kana | C3: Helekollane | D3: H | E3: hele, selge toit
B4: Kalkun | C4: Kollane | D4: P | E4: punane
B5: Kala | C5: Helesinine | D5: K | E5: koorene
B6: lammas | C6: Lilla
B7: segaliha | C7: Hall
A8: =Nädal_45!A7 -> 45. nädal | B8: Põhitoit/magustoit | C8: Põhiline valguallikas | D8: Värv | E8: Taimetoit | F8: Taimne valguallikas | G8: =Nädal_45!A7 -> 45. nädal | H8: Soojad lisandid/ magustoit | I8: =Nädal_45!A7 -> 45. nädal | J8: Salatid | K8: =Nädal_45!A7 -> 45. nädal | L8: Juur- ja puuvilja amps
A9: E | B9: =Nädal_45!B9 -> Kana-karrikaste (L) | C9: kana | D9: K | E9: =Nädal_45!B10 -> Kikerhernekarri (L) | G9: E | H9: =Nädal_45!B11 -> Täisterapasta/pasta (G) (mahe) | I9: E | J9: =Nädal_45!B15 -> Peedi-küüslaugusalat | K9: E | L9: =Nädal_45!B22 -> Nuikapsas
F10: kikerhernes | H10: =Nädal_45!B12 -> Tatar, aurutatud | J10: =Nädal_45!B16 -> Hiina kapsas, tomat, redis (mahe) | L10: =Nädal_45!B23 -> Pirn
H11: =Nädal_45!B13 -> Porgand, aurutatud
A12: T | B12: =Nädal_45!B26 -> Värskekapsaborš sealihaga | C12: siga | D12: H | E12: =Nädal_45!B27 -> Värskekapsaborš punaste ubadega | G12: T | I12: T | K12: T | L12: =Nädal_45!B36 -> Porgand
B13: =Nädal_45!B29 -> Marja-mannavaht mustsõstra kastmega (G) | F13: hernes | L13: =Nädal_45!B37 -> Õun (mahe)
B14: =Nädal_45!B30 -> Maasika-kohupiimakreem (L)
A15: K | B15: =Nädal_45!B40 -> Lõhetükid koorekastmes (G, L) | C15: kala | E15: =Nädal_45!B41 -> Juurviljastrooganov (G, L) | F15: juurvili | G15: K | H15: =Nädal_45!B42 -> Riis, aurutatud (mahe) | I15: K | J15: =Nädal_45!B47 -> Porgandi-melonisalat | K15: K | L15: =Nädal_45!B54 -> Valge redis
H16: =Nädal_45!B43 -> Kartul, aurutatud (mahe) | J16: =Nädal_45!B48 -> Kapsas (mahe), peet, roheline hernes | L16: =Nädal_45!B55 -> Pirn
B17: =Nädal_45!B45 -> Külm küüslaugu-jogurtikaste (L) | H17: =Nädal_45!B44 -> Ahjuköögiviljad
A18: N | B18: =Nädal_45!B58 -> Kodune seljanka (G) | C18: sega | D18: P | E18: =Nädal_45!B59 -> Seeneseljanka | F18: seened | G18: N | I18: N | K18: N | L18: =Nädal_45!B67 -> Porgand
B19: =Nädal_45!B61 -> Marjasmuuti (L) | L19: =Nädal_45!B68 -> Õun (mahe)
B20: =Nädal_45!B62 -> Pannkook moosiga (G, L, M)
A21: R | B21: =Nädal_45!B71 -> Tex-mex veisehakklihakaste | C21: veis | D21: K | E21: =Nädal_45!B72 -> Tex-mex kaste hakksojaga | F21: hakksoja | G21: R | H21: =Nädal_45!B73 -> Täisterapasta/pasta (G) (mahe) | I21: R | J21: =Nädal_45!B78 -> Porgand, paprika, porrulauk (mahe kapsas) | K21: R | L21: =Nädal_45!B84 -> Valge redis
H22: =Nädal_45!B74 -> Riis, aurutatud | J22: =Nädal_45!B79 -> Seemnesegu (mahe) | L22: =Nädal_45!B85 -> Õun (mahe)
H23: =Nädal_45!B75 -> Peet, röstitud
A24: =Nädal_46!A7 -> 46. nädal | B24: Põhitoit/magustoit | C24: Põhiline valguallikas | D24: Värv | E24: Taimetoit | F24: Taimne valguallikas | G24: =Nädal_46!A7 -> 46. nädal | H24: Soojad lisandid/ magustoit | I24: =Nädal_46!A7 -> 46. nädal | J24: Salatid | K24: =Nädal_46!A7 -> 46. nädal | L24: Juur- ja puuvilja amps
A25: E | B25: =Nädal_46!B9 -> Koorene kanakaste peterselliga (G, L) | C25: kana | E25: =Nädal_46!B10 -> Stoovitud porgandid (G, L) | G25: E | H25: =Nädal_46!B11 -> Tatar, aurutatud | I25: E | J25: =Nädal_46!B16 -> Hiina kapsas, tomat, mais | K25: E | L25: =Nädal_46!B22 -> Porgand
A26: T | F26: köögivili | G26: T | H26: =Nädal_46!B12 -> Kuskuss, aurutatud (G) | I26: T | J26: =Nädal_46!B15 -> Peedi-rohelisesibulasalat (L) (mahe peet) | K26: T | L26: =Nädal_46!B23 -> Pirn
A27: K | G27: K | H27: =Nädal_46!B13 -> Brokoli, aurutatud | I27: K | K27: K
A28: T | B28: =Nädal_46!B26 -> Hakkliha-suvikõrvitsapikkpoiss (M, PT) | C28: sega | D28: K | E28: =Nädal_46!B27 -> Tofukaste tomati ja paprikaga (L) | G28: T | H28: =Nädal_46!B28 -> Riis, aurutatud | I28: T | J28: =Nädal_46!B33 -> Brokoli ja porgand seesamiseemnetega | K28: T | L28: =Nädal_46!B40 -> Nuikapsas
A29: R | F29: tofu | G29: R | H29: =Nädal_46!B29 -> Kartul, aurutatud | I29: R | J29: =Nädal_46!B34 -> Salatisegu, roheline hernes, hapukurk | K29: R | L29: =Nädal_46!B41 -> Õun (mahe)
A30: Nädal 14 | G30: Nädal 14 | H30: =Nädal_46!B34 -> Salatisegu, roheline hernes, hapukurk | I30: Nädal 14 | K30: Nädal 14
A31: K | B31: =Nädal_46!B44 -> Selge kalasupp riisiga | C31: kala | D31: H | E31: =Nädal_46!B45 -> Selge köögiviljasupp riivitud keedumunaga (M) | F31: kinoa | G31: K | I31: K | K31: K | L31: =Nädal_46!B53 -> Valge redis
B32: =Nädal_46!B46 -> Kohupiimakreem mustikakisselliga (L, VS) | L32: =Nädal_46!B54 -> Pirn
A33: K | B33: =Nädal_46!B47 -> Kakaojogurt kirssidega (L) | G33: K | I33: K | K33: K
A34: N | B34: =Nädal_46!B57 -> Raguu köögiviljade ja sealihaga | C34: siga | D34: K | E34: =Nädal_46!B58 -> Koorene metsaseenekaste (G, L) | G34: N | H34: =Nädal_46!B59 -> Kartulipüree (L) | I34: N | J34: =Nädal_46!B63 -> Hiina kapsa salat spinatiga | K34: N | L34: =Nädal_46!B70 -> Valge/punane peakapsas
A35: R | F35: seened | G35: R | H35: =Nädal_46!B60 -> Tatar, aurutatud | I35: R | J35: =Nädal_46!B64 -> Porgand (mahe), mais, kurk | K35: R | L35: =Nädal_46!B71 -> Õun (mahe)
A36: Nädal 15 | G36: Nädal 15 | H36: =Nädal_46!B61 -> Kapsas, röstitud | I36: Nädal 15 | K36: Nädal 15
A37: R | B37: =Nädal_46!B74 -> Kanapada kõrvitsa ja roheliste ubadega (L) | C37: kana | D37: K | E37: =Nädal_46!B75 -> Koorene herne- ja aedviljahautis (L) | G37: R | H37: =Nädal_46!B76 -> Täisterapasta/pasta (G) (mahe) | I37: R | J37: =Nädal_46!B81 -> Hiina kapsa salat pirni ja Kreeka pähklitega (P) | K37: R | L37: =Nädal_46!B88 -> Valge redis
H38: =Nädal_46!B77 -> Kinoa, keedetud | L38: =Nädal_46!B89 -> Pirn
A39: T | F39: hernes | G39: T | H39: =Nädal_46!B78 -> Kõrvits, röstitud | I39: T | J39: =Nädal_46!B82 -> Peet, porgand (mahe), valge redis | K39: T
A40: K | G40: K | I40: K | K40: K
A41: =Nädal_47!A7 -> 47. nädal | B41: Põhitoit/magustoit | C41: Põhiline valguallikas | D41: Värv | E41: Taimetoit | F41: Taimne valguallikas | G41: =Nädal_47!A7 -> 47. nädal | H41: Soojad lisandid | I41: =Nädal_47!A7 -> 47. nädal | J41: Salatid | K41: =Nädal_47!A7 -> 47. nädal | L41: Juur- ja puuvilja amps
A42: E | B42: =Nädal_47!B9 -> Kanakaste sulatatud juustuga (G, L) | C42: kana | D42: K | E42: =Nädal_47!B10 -> Kikerhernekaste sulatatud juustuga ja basiilikuga (G, L) | G42: E | H42: =Nädal_47!B11 -> Kuskuss, aurutatud (G) | I42: E | J42: =Nädal_47!B15 -> Peedi-piprajuuresalat (L) | K42: E | L42: =Nädal_47!B22 -> Porgand
A43: T | F43: kikerhernes | H43: =Nädal_47!B12 -> Riis, aurutatud (mahe) | J43: =Nädal_47!B16 -> Hiina kapsas, roheline hernes, nuikapsas | L43: =Nädal_47!B23 -> Pirn
A44: K | H44: =Nädal_47!B13 -> Lillkapsas, aurutatud
A45: T | B45: =Nädal_47!B26 -> Hartšoo erineva lihaga (G) | C45: sega | D45: P | E45: =Nädal_47!B27 -> Taimne hartšoo punaste ubadega | F45: uba | G45: T | I45: T | K45: T | L45: =Nädal_47!B35 -> Valge redis
B46: =Nädal_47!B28 -> Mustikajogurt (L) | L46: =Nädal_47!B36 -> Õun (mahe)
A47: Nädal 14 | B47: =Nädal_47!B29 -> Õunakook mandlipuruga (G, L, M, P, VS, PT)
A48: K | B48: =Nädal_47!B39 -> Kana-paprikahautis (G, L) | C48: kana | D48: K | E48: =Nädal_47!B40 -> Kartuli-šampinjonivorm Vahemere ürtidega | G48: K | H48: =Nädal_47!B41 -> Täisterapasta/pasta (G) (mahe) | I48: K | J48: =Nädal_47!B46 -> Porgandi-punasesibulasalat hapukoorega (L) | K48: K | L48: =Nädal_47!B53 -> Nuikapsas
A49: T | F49: seened | H49: =Nädal_47!B42 -> Riis, aurutatud (mahe) | J49: =Nädal_47!B47 -> Valge rõigas, mais, kapsas | L49: =Nädal_47!B54 -> Pirn
A50: K | H50: =Nädal_47!B43 -> Juurseller, röstitud
A51: N | B51: =Nädal_47!B57 -> Selge Lõhesupp köögiviljadega | C51: kala | D51: H | E51: =Nädal_47!B58 -> Pastinaagipüreesupp (L) | F51: juurvili | G51: N | I51: N | K51: N | L51: =Nädal_47!B66 -> Porgand
B52: =Nädal_47!B59 -> Kohupiima-kamadessert marjadega (G, L, VS) | L52: =Nädal_47!B67 -> Õun (mahe)
A53: Nädal 15 | B53: =Nädal_47!B60 -> Apelsinitarretis vahukoorega (L, VS)
A54: R | B54: =Nädal_47!B70 -> Laisk kapsarull | C54: siga | D54: H | E54: =Nädal_47!B71 -> Värskekapsa-läätsehautis | F54: läätsed | G54: R | H54: =Nädal_47!B72 -> Kartul, aurutatud | I54: R | J54: =Nädal_47!B77 -> Peedisalat pohladega | K54: R | L54: =Nädal_47!B84 -> Valge redis
B55: =Nädal_47!B75 -> Soe tomatikaste | D55: K | H55: =Nädal_47!B73 -> Tatar, aurutatud (mahe) | J55: =Nädal_47!B78 -> Nuikapsas, porgand, hapukurk | L55: =Nädal_47!B85 -> Pirn
H56: =Nädal_47!B74 -> Aedoad, aurutatu
A57: =Nädal_48!A7 -> 48. nädal | B57: Põhitoit/magustoit | C57: Põhiline valguallikas | D57: Värv | E57: Taimetoit | F57: Taimne valguallikas | G57: =Nädal_48!A7 -> 48. nädal | H57: Soojad lisandid/ magustoit | I57: =Nädal_48!A7 -> 48. nädal | J57: Salatid | K57: =Nädal_48!A7 -> 48. nädal | L57: Juur- ja puuvilja amps
A58: E | B58: =Nädal_48!B9 -> Kodune sealihaguljašš | C58: siga | D58: K | E58: =Nädal_48!B10 -> Läätseguljašš (mahe) | G58: E | H58: =Nädal_48!B11 -> Riis, aurutatud (mahe) | I58: E | J58: =Nädal_48!B15 -> Kapsa-mangosalat | K58: E | L58: =Nädal_48!B22 -> Porgand
A59: T | F59: läätsed | H59: =Nädal_48!B12 -> Kuskuss, aurutatud (G) | J59: =Nädal_48!B16 -> Peet, kaalikas, mais | L59: =Nädal_48!B23 -> Õun (mahe)
A60: K | H60: =Nädal_48!B13 -> Miniporgandid, aurutatud
A61: T | B61: =Nädal_48!B26 -> Pasta hakkliha ja köögiviljadega (G) | C61: sega | D61: H | E61: =Nädal_48!B27 -> Pasta kikerherne ja juustuga (G, L) | G61: T | H61: =Nädal_48!B28 -> Aedoad küüslauguga, ahjus küpsetatud | I61: T | J61: =Nädal_48!B31 -> Kõrvitsa-pastinaagi-virsikusalat | K61: T | L61: =Nädal_48!B38 -> Valge/punane peakapsas
A62: R | B62: =Nädal_48!B29 -> Soe tomatikaste | D62: P | F62: kikerhernes | J62: =Nädal_48!B32 -> Hiina kapsas, tomat, roheline sibul (mahe) | L62: =Nädal_48!B39 -> Pirn
A63: Nädal 14
A64: K | B64: =Nädal_48!B42 -> Kana-kruubisupp (G) | C64: kana | D64: H | E64: =Nädal_48!B43 -> Külasupp roheliste hernestega (G) | G64: K | I64: K | K64: K | L64: =Nädal_48!B52 -> Porgand
B65: =Nädal_48!B44 -> Marjamuffin (G, L, M) | F65: kanamuna | L65: =Nädal_48!B53 -> Õun (mahe)
A66: K | B66: =Nädal_48!B45 -> Pohla-kamavaht (G, L)
A67: N | B67: =Nädal_48!B56 -> Kanamaks hapukoorekastmes (G, L) | C67: siga | D67: K | E67: =Nädal_48!B57 -> Läätsepada brokoli, porgandi ja paprikaga (L) | G67: N | H67: =Nädal_48!B58 -> Kartul, aurutatud (mahe) | I67: N | J67: =Nädal_48!B63 -> Porgandi-ananassisalat | K67: N | L67: =Nädal_48!B70 -> Valge/punane peakapsas
A68: R | F68: läätsed | H68: =Nädal_48!B59 -> Tatar, aurutatud (mahe) | J68: =Nädal_48!B64 -> Nuikapsas, kikerherned, punane redis | L68: =Nädal_48!B71 -> Pirn
A69: Nädal 15 | H69: =Nädal_48!B60 -> Pastinaak, röstitud
