Workbook

Sheet Nädal_45
A1: #VALUE! | C1: #VALUE!
A6: Koolilõuna menüü
A7: 45. nädal | B7: 02.11-06.11.2026 | D7: 4-9.klass | J7: 10-12.klass
A8: Esmaspäev | B8: Lõunasöök | C8: Koostisosad | D8: Kogus, g | E8: Energia, kcal | F8: Süsivesikud, g | G8: Rasvad, g | H8: Valgud, g | J8: Kogus, g | K8: Energia, kcal | L8: Süsivesikud, g | M8: Rasvad, g | N8: Valgud, g
B9: Kana-karrikaste (L) | C9: Kanailiha, mugulsibul, maisitärklis, värske petersell, toidukoor, karripulber (koriander, kurkum, põld-lambalääts, Cayenne`i pipar, apteegitill, vürtsköömen, must pipar), must pipar, söögisool, vesi, toiduõli | D9: 120 | E9: 130 | F9: 3.17 | G9: 8.75 | H9: 9.52 | J9: 140 | K9: =J9*E9/D9 -> 151.66667 | L9: =K9*F9/E9 -> 3.6983333 | M9: =L9*G9/F9 -> 10.208333 | N9: =M9*H9/G9 -> 11.106667
A10: Taimetoit | B10: Kikerhernekarri (L) | C10: Kikerherned, mugulsibul, küüslauk, tšillipipar, tomat, jahvatatud paprika, vürtsköömned, koriandriseemned, must pipar, söögisool, kurkum, kookosjook, vesi, toiduõli | D10: 120 | E10: 95.4 | F10: 7.68 | G10: 4.56 | H10: 3.18 | J10: 140 | K10: =J10*E10/D10 -> 111.3 | L10: =K10*F10/E10 -> 8.96 | M10: =L10*G10/F10 -> 5.32 | N10: =M10*H10/G10 -> 3.71
B11: Täisterapasta/pasta (G) (mahe) | C11: Täisterapasta/pasta (durumnisu jahu, vesi), vesi, söögisool | D11: 60 | E11: 102.939 | F11: 21.3942 | G11: 0.807 | H11: 3.4062 | J11: 100 | K11: =J11*E11/D11 -> 171.565 | L11: =K11*F11/E11 -> 35.657 | M11: =L11*G11/F11 -> 1.345 | N11: =M11*H11/G11 -> 5.677
B12: Tatar, aurutatud | C12: Tatar, vesi, söögisool | D12: 60 | E12: 92.52 | F12: 16.2 | G12: 2.8452 | H12: 1.3662 | J12: 100 | K12: =J12*E12/D12 -> 154.2 | L12: =K12*F12/E12 -> 27 | M12: =L12*G12/F12 -> 4.742 | N12: =M12*H12/G12 -> 2.277
B13: Porgand, aurutatud | D13: 50 | E13: 17.2365 | F13: 4.522 | G13: 0.1065 | H13: 0.319 | J13: 100 | K13: =J13*E13/D13 -> 34.473 | L13: =K13*F13/E13 -> 9.044 | M13: =L13*G13/F13 -> 0.213 | N13: =M13*H13/G13 -> 0.638
B14: Külm jogurtikaste (L) | C14: Maitsestamata jogurt, söögisool, suhkur, till | D14: 10 | E14: 4.1117 | F14: 0.5458 | G14: 0.0491 | H14: 0.38 | J14: 50 | K14: =J14*E14/D14 -> 20.5585 | L14: =K14*F14/E14 -> 2.729 | M14: =L14*G14/F14 -> 0.2455 | N14: =M14*H14/G14 -> 1.9
B15: Peedi-küüslaugusalat | C15: Peet, küüslauk | D15: 50 | E15: 20.9 | F15: 4.7975 | G15: 0.0985 | H15: 0.8555 | J15: 100 | K15: =J15*E15/D15 -> 41.8 | L15: =K15*F15/E15 -> 9.595 | M15: =L15*G15/F15 -> 0.197 | N15: =M15*H15/G15 -> 1.711
B16: Hiina kapsas, tomat, redis (mahe) | D16: 100 | E16: 16.9 | F16: 2.3 | G16: 0.167 | H16: 0.867 | J16: 100 | K16: =J16*E16/D16 -> 16.9 | L16: =K16*F16/E16 -> 2.3 | M16: =L16*G16/F16 -> 0.167 | N16: =M16*H16/G16 -> 0.867
B17: Seemnesegu (mahe) | C17: Kõrvitsaseemned, päevalilleseemned, seesamiseemned | D17: 15 | E17: 91.31505 | F17: 1.92 | G17: 7.73505 | H17: 4.23495 | J17: 10 | K17: =J17*E17/D17 -> 60.8767 | L17: =K17*F17/E17 -> 1.28 | M17: =L17*G17/F17 -> 5.1567 | N17: =M17*H17/G17 -> 2.8233
A18: PRIA | B18: Piimatooted (piim, keefir R 2,5% ) (L) | D18: 50 | E18: 28.195 | F18: 2.4375 | G18: 1.285 | H18: 1.72 | J18: 50 | K18: =J18*E18/D18 -> 28.195 | L18: =K18*F18/E18 -> 2.4375 | M18: =L18*G18/F18 -> 1.285 | N18: =M18*H18/G18 -> 1.72
B19: Joogijogurt, maitsestatud (L) | C19: Maitsestamata jogurt, naturaalne marjapüree (maasikas, vaarikas, mustad sõstrad, punased sõstrad, mustikas), suhkur | D19: 50 | E19: 37.373 | F19: 6.0615 | G19: 0.75 | H19: 1.6 | J19: 50 | K19: =J19*E19/D19 -> 37.373 | L19: =K19*F19/E19 -> 6.0615 | M19: =L19*G19/F19 -> 0.75 | N19: =M19*H19/G19 -> 1.6
B20: Tee, suhkruta | C20: Teepuru, vesi | D20: 50 | E20: 0.2 | F20: 0 | G20: 0 | H20: 0.05 | J20: 50 | K20: =J20*E20/D20 -> 0.2 | L20: =K20*F20/E20 -> 0 | M20: 0 | N20: 0.05
B21: Rukkileiva (3 sorti) - ja sepikutoodete valik (G) | D21: 50 | E21: 123.1 | F21: 26.15 | G21: 1 | H21: 3.575 | J21: 30 | K21: =J21*E21/D21 -> 73.86 | L21: =K21*F21/E21 -> 15.69 | M21: =L21*G21/F21 -> 0.6 | N21: =M21*H21/G21 -> 2.145
B22: Nuikapsas | D22: 50 | E22: 12.1 | F22: 2.1 | G22: 0.1 | H22: 0.25 | J22: 50 | K22: =J22*E22/D22 -> 12.1 | L22: =K22*F22/E22 -> 2.1 | M22: =L22*G22/F22 -> 0.1 | N22: =M22*H22/G22 -> 0.25
B23: Pirn | D23: 50 | E23: 19.988 | F23: 5.97 | G23: 0 | H23: 0.15 | J23: 50 | K23: =J23*E23/D23 -> 19.988 | L23: =K23*F23/E23 -> 5.97 | M23: =L23*G23/F23 -> 0 | N23: 0.15
C24: Kokku: | E24: =SUM(E9,E11:E23) -> 696.87825 | F24: =SUM(F9,F11:F23) -> 97.5685 | G24: =SUM(G9,G11:G23) -> 23.69335 | H24: =SUM(H9,H11:H23) -> 28.29385 | K24: =SUM(K9,K11:K23) -> 823.75587 | L24: =SUM(L9,L11:L23) -> 123.56233 | M24: =SUM(M9,M11:M23) -> 25.009533 | N24: =SUM(N9,N11:N23) -> 32.914967
A25: Teisipäev | B25: Lõunasöök | C25: Koostisosad | D25: Kogus, g | E25: Energia, kcal | F25: Süsivesikud, g | G25: Rasvad, g | H25: Valgud, g | J25: Kogus, g | K25: Energia, kcal | L25: Süsivesikud, g | M25: Rasvad, g | N25: Valgud, g
B26: Värskekapsaborš sealihaga | C26: Peet, kartul, porgand, peakapsas, pastinaak, mugulsibul, tomatipasta, puljong liha kontidest, toiduõli,sealiha, loorber, söögisool, must pipar, sidrunimahl, petersell | D26: 200 | E26: 140 | F26: 9.2 | G26: 8.4 | H26: 5.48 | J26: 300 | K26: =J26*E26/D26 -> 210 | L26: =K26*F26/E26 -> 13.8 | M26: =L26*G26/F26 -> 12.6 | N26: =M26*H26/G26 -> 8.22
A27: Taimetoit | B27: Värskekapsaborš punaste ubadega | C27: Peet, kartul, porgand, peakapsas, pastinaak, punased oad, mugulsibul, tomatipasta, vesi, toiduõli, loorber, söögisool, must pipar, sidrunimahl, petersell | D27: 200 | E27: 103.2 | F27: 16.96 | G27: 0.432 | H27: 5.2 | J27: 300 | K27: =J27*E27/D27 -> 154.8 | L27: =K27*F27/E27 -> 25.44 | M27: =L27*G27/F27 -> 0.648 | N27: =M27*H27/G27 -> 7.8
B28: Hapukoor R 20% (L) | D28: 30 | E28: 66.5 | F28: 1.14 | G28: 6.44 | H28: 0.99 | J28: 30 | K28: =J28*E28/D28 -> 66.5 | L28: =K28*F28/E28 -> 1.14 | M28: =L28*G28/F28 -> 6.44 | N28: =M28*H28/G28 -> 0.99
B29: Marja-mannavaht mustsõstra kastmega (G) | C29: Mustikas, nisumanna, suhkur, vesi, vanillisuhkur, söögisool, mustad sõstrad | D29: 100 | E29: 79.4 | F29: 17.7 | G29: 0.238 | H29: 0.829 | J29: 100 | K29: =J29*E29/D29 -> 79.4 | L29: =K29*F29/E29 -> 17.7 | M29: =L29*G29/F29 -> 0.238 | N29: =M29*H29/G29 -> 0.829
B30: Maasika-kohupiimakreem (L) | C30: Maitsestamata kohupiim, maitsestamata jogurt, vahukoor, suhkur, maasikas | D30: 100 | E30: 144 | F30: 12.2 | G30: 8.34 | H30: 4.9 | J30: 100 | K30: =J30*E30/D30 -> 144 | L30: =K30*F30/E30 -> 12.2 | M30: =L30*G30/F30 -> 8.34 | N30: =M30*H30/G30 -> 4.9
A31: PRIA | B31: Piimatooted (piim, keefir R 2,5% ) (L) | D31: 50 | E31: 28.195 | F31: 2.4375 | G31: 1.285 | H31: 1.72 | J31: 50 | K31: =J31*E31/D31 -> 28.195 | L31: =K31*F31/E31 -> 2.4375 | M31: =L31*G31/F31 -> 1.285 | N31: =M31*H31/G31 -> 1.72
B32: Mahl (erinevad maitsed) | C32: Rõngu suhkruvaba mahlakonsentraat 100% naturaalne, vesi | D32: 50 | E32: 24.2644 | F32: 5.891 | G32: 0.025 | H32: 0.1815 | J32: 50 | K32: =J32*E32/D32 -> 24.2644 | L32: =K32*F32/E32 -> 5.891 | M32: =L32*G32/F32 -> 0.025 | N32: =M32*H32/G32 -> 0.1815
B33: Joogijogurt, maitsestatud (L) | C33: Maitsestamata jogurt, naturaalne marjapüree (maasikas, vaarikas, mustad sõstrad, punased sõstrad, mustikas), suhkur | D33: 50 | E33: 37.373 | F33: 6.0615 | G33: 0.75 | H33: 1.6 | J33: 50 | K33: =J33*E33/D33 -> 37.373 | L33: =K33*F33/E33 -> 6.0615 | M33: =L33*G33/F33 -> 0.75 | N33: =M33*H33/G33 -> 1.6
B34: Tee, suhkruta | C34: Teepuru, vesi | D34: 50 | E34: 0.2 | F34: 0 | G34: 0 | H34: 0.05 | J34: 50 | K34: =J34*E34/D34 -> 0.2 | L34: =K34*F34/E34 -> 0 | M34: 0 | N34: 0.05
B35: Rukkileiva (3 sorti) - ja sepikutoodete valik (G) | D35: 50 | E35: 123.1 | F35: 26.15 | G35: 1 | H35: 3.575 | J35: 30 | K35: =J35*E35/D35 -> 73.86 | L35: =K35*F35/E35 -> 15.69 | M35: =L35*G35/F35 -> 0.6 | N35: =M35*H35/G35 -> 2.145
B36: Porgand | D36: 50 | E36: 16.2 | F36: 2.8 | G36: 0.1 | H36: 0.3 | J36: 50 | K36: =J36*E36/D36 -> 16.2 | L36: =K36*F36/E36 -> 2.8 | M36: =L36*G36/F36 -> 0.1 | N36: =M36*H36/G36 -> 0.3
B37: Õun (mahe) | D37: 50 | E37: 24.038 | F37: 6.74 | G37: 0 | H37: 0 | J37: 50 | K37: =J37*E37/D37 -> 24.038 | L37: =K37*F37/E37 -> 6.74 | M37: =L37*G37/F37 -> 0 | N37: 0
C38: Kokku: | E38: =SUM(E26,E28:E37) -> 683.2704 | F38: =SUM(F26,F28:F37) -> 90.32 | G38: =SUM(G26,G28:G37) -> 26.578 | H38: =SUM(H26,H28:H37) -> 19.6255 | K38: =SUM(K26,K28:K37) -> 704.0304 | L38: =SUM(L26,L28:L37) -> 84.46 | M38: =SUM(M26,M28:M37) -> 30.378 | N38: =SUM(N26,N28:N37) -> 20.9355
A39: Kolmapäev | B39: Lõunasöök | C39: Koostisosad | D39: Kogus, g | E39: Energia, kcal | F39: Süsivesikud, g | G39: Rasvad, g | H39: Valgud, g | J39: Kogus, g | K39: Energia, kcal | L39: Süsivesikud, g | M39: Rasvad, g | N39: Valgud, g
B40: Lõhetükid koorekastmes (G, L) | C40: Lõhe, must pipar, söögisool, värske till, toiduõli, nisujahu, piim, toidukoor | D40: 120 | E40: 231 | F40: 6.43 | G40: 15.9 | H40: 15.6 | J40: 140 | K40: =J40*E40/D40 -> 269.5 | L40: =K40*F40/E40 -> 7.5016667 | M40: =L40*G40/F40 -> 18.55 | N40: =M40*H40/G40 -> 18.2
A41: Taimetoit | B41: Juurviljastrooganov (G, L) | C41: Kaalikas, juurseller, mugulsibul, pastinaak, porgand, nisujahu, tomatipüree, toiduõli, hapukoor , vesi, söögisool | D41: 120 | E41: 131.76 | F41: 9.096 | G41: 9.024 | H41: 2.256 | J41: 140 | K41: =J41*E41/D41 -> 153.72 | L41: =K41*F41/E41 -> 10.612 | M41: =L41*G41/F41 -> 10.528 | N41: =M41*H41/G41 -> 2.632
B42: Riis, aurutatud (mahe) | C42: Riis, vesi, söögisool | D42: 60 | E42: 94.6212 | F42: 16.1256 | G42: 2.8452 | H42: 1.3662 | J42: 100 | K42: =J42*E42/D42 -> 157.702 | L42: =K42*F42/E42 -> 26.876 | M42: =L42*G42/F42 -> 4.742 | N42: =M42*H42/G42 -> 2.277
B43: Kartul, aurutatud (mahe) | D43: 60 | E43: 43.5 | F43: 9.3 | G43: 0 | H43: 1.14 | J43: 100 | K43: =J43*E43/D43 -> 72.5 | L43: =K43*F43/E43 -> 15.5 | M43: =L43*G43/F43 -> 0 | N43: =H43*J43/D43 -> 1.9
B44: Ahjuköögiviljad | C44: Kaalikas, bataat, pastinaak, porgand, paprika, mugulsibul, kuivatatud roosmariin, toiduõli | D44: 50 | E44: 35.3 | F44: 5.53 | G44: 0.73 | H44: 0.72 | J44: 100 | K44: =J44*E44/D44 -> 70.6 | L44: =K44*F44/E44 -> 11.06 | M44: =L44*G44/F44 -> 1.46 | N44: =M44*H44/G44 -> 1.44
...

Sheet Nädal_46
A1: #VALUE! | C1: #VALUE!
A6: Koolilõuna menüü
A7: 46. nädal | B7: 09.11-13.11.2026 | D7: 4-9.klass | J7: 10-12.klass
A8: Esmaspäev | B8: Lõunasöök | C8: Koostisosad | D8: Kogus, g | E8: Energia, kcal | F8: Süsivesikud, g | G8: Rasvad, g | H8: Valgud, g | J8: Kogus, g | K8: Energia, kcal | L8: Süsivesikud, g | M8: Rasvad, g | N8: Valgud, g
B9: Koorene kanakaste peterselliga (G, L) | C9: Kanaliha, piim, toidukoor, nisujahu, toiduõli, söögisool, must pipar, petersell | D9: 120 | E9: 155.4 | F9: 7.488 | G9: 9.132 | H9: 10.704 | J9: 140 | K9: =J9*E9/D9 -> 181.3 | L9: =K9*F9/E9 -> 8.736 | M9: =L9*G9/F9 -> 10.654 | N9: =M9*H9/G9 -> 12.488
A10: Taimetoit | B10: Stoovitud porgandid (G, L) | C10: Porgand, toidukoor, nisujahu, või, sidrunimahl, söögisool, suhkur, vesi | D10: 120 | E10: 82.8 | F10: 6.12 | G10: 5.58 | H10: 1.176 | J10: 140 | K10: =J10*E10/D10 -> 96.6 | L10: =K10*F10/E10 -> 7.14 | M10: =L10*G10/F10 -> 6.51 | N10: =M10*H10/G10 -> 1.372
B11: Tatar, aurutatud | C11: Tatar, vesi, söögisool | D11: 60 | E11: 92.52 | F11: 16.2 | G11: 1.5 | H11: 2.9 | J11: 100 | K11: =J11*E11/D11 -> 154.2 | L11: =K11*F11/E11 -> 27 | M11: =L11*G11/F11 -> 2.5 | N11: =M11*H11/G11 -> 4.8333333
B12: Kuskuss, aurutatud (G) | C12: Kuskuss, vesi, söögisool | D12: 60 | E12: 80.4 | F12: 16.32 | G12: 0 | H12: 2.48 | J12: 100 | K12: =J12*E12/D12 -> 134 | L12: =K12*F12/E12 -> 27.2 | M12: =L12*G12/F12 -> 0 | N12: =J12*H12/D12 -> 4.1333333
B13: Brokoli, aurutatud | D13: 50 | E13: 19.73 | F13: 3.05 | G13: 0.25 | H13: 2.05 | J13: 100 | K13: =J13*E13/D13 -> 39.46 | L13: =K13*F13/E13 -> 6.1 | M13: =L13*G13/F13 -> 0.5 | N13: =M13*H13/G13 -> 4.1
B14: Mahla-õlikaste | C14: Õunamahl 100% naturaalne, õunaäädikas, sinepipulber, söögisool, petersell, toiduõli | D14: 5 | E14: 32.1894 | F14: 0.09705 | G14: 3.53055 | H14: 0.01355 | J14: 10 | K14: =J14*E14/D14 -> 64.3788 | L14: =K14*F14/E14 -> 0.1941 | M14: =L14*G14/F14 -> 7.0611 | N14: =M14*H14/G14 -> 0.0271
B15: Peedi-rohelisesibulasalat (L) (mahe peet) | C15: Peet, rohelinesibul | D15: 50 | E15: 29.8 | F15: 4.14 | G15: 0.84 | H15: 0.92 | J15: 100 | K15: =J15*E15/D15 -> 59.6 | L15: =K15*F15/E15 -> 8.28 | M15: =L15*G15/F15 -> 1.68 | N15: =M15*H15/G15 -> 1.84
B16: Hiina kapsas, tomat, mais | D16: 100 | E16: 40.2 | F16: 5.68 | G16: 0.633 | H16: 1.7 | J16: 100 | K16: =J16*E16/D16 -> 40.2 | L16: =K16*F16/E16 -> 5.68 | M16: =L16*G16/F16 -> 0.633 | N16: =M16*H16/G16 -> 1.7
B17: Seemnesegu (mahe) | C17: Kõrvitsaseemned, päevalilleseemned, seesamiseemned | D17: 15 | E17: 91.31505 | F17: 1.92 | G17: 7.73505 | H17: 4.23495 | J17: 10 | K17: =J17*E17/D17 -> 60.8767 | L17: =K17*F17/E17 -> 1.28 | M17: =L17*G17/F17 -> 5.1567 | N17: =M17*H17/G17 -> 2.8233
A18: PRIA | B18: Piimatooted (piim, keefir R 2,5% ) (L) | D18: 50 | E18: 28.195 | F18: 2.4375 | G18: 1.285 | H18: 1.72 | J18: 50 | K18: =J18*E18/D18 -> 28.195 | L18: =K18*F18/E18 -> 2.4375 | M18: =L18*G18/F18 -> 1.285 | N18: =M18*H18/G18 -> 1.72
B19: Joogijogurt, maitsestatud (L) | C19: Maitsestamata jogurt, naturaalne marjapüree (maasikas, vaarikas, mustad sõstrad, punased sõstrad, mustikas), suhkur | D19: 25 | E19: 18.6865 | F19: 3.03075 | G19: 0.375 | H19: 0.8 | J19: 50 | K19: =J19*E19/D19 -> 37.373 | L19: =K19*F19/E19 -> 6.0615 | M19: =L19*G19/F19 -> 0.75 | N19: =M19*H19/G19 -> 1.6
B20: Tee, suhkruta | C20: Teepuru, vesi | D20: 50 | E20: 0.2 | F20: 0 | G20: 0 | H20: 0.05 | J20: 50 | K20: =J20*E20/D20 -> 0.2 | L20: =K20*F20/E20 -> 0 | M20: 0 | N20: 0.05
B21: Rukkileiva (3 sorti) - ja sepikutoodete valik (G) | D21: 50 | E21: 123.1 | F21: 26.15 | G21: 1 | H21: 3.575 | J21: 30 | K21: =J21*E21/D21 -> 73.86 | L21: =K21*F21/E21 -> 15.69 | M21: =L21*G21/F21 -> 0.6 | N21: =M21*H21/G21 -> 2.145
B22: Porgand | D22: 50 | E22: 16.2 | F22: 2.8 | G22: 0.1 | H22: 0.3 | J22: 50 | K22: =J22*E22/D22 -> 16.2 | L22: =K22*F22/E22 -> 2.8 | M22: =L22*G22/F22 -> 0.1 | N22: =M22*H22/G22 -> 0.3
B23: Pirn | D23: 50 | E23: 19.988 | F23: 5.97 | G23: 0 | H23: 0.15 | J23: 50 | K23: =J23*E23/D23 -> 19.988 | L23: =K23*F23/E23 -> 5.97 | M23: =L23*G23/F23 -> 0 | N23: 0.15
C24: Kokku: | E24: =SUM(E9,E11:E23) -> 747.92395 | F24: =SUM(F9,F11:F23) -> 95.2833 | G24: =SUM(G9,G11:G23) -> 26.3806 | H24: =SUM(H9,H11:H23) -> 31.5975 | K24: =SUM(K9,K11:K23) -> 909.8315 | L24: =SUM(L9,L11:L23) -> 117.4291 | M24: =SUM(M9,M11:M23) -> 30.9198 | N24: =SUM(N9,N11:N23) -> 37.910067
A25: Teisipäev | B25: Lõunasöök | C25: Koostisosad | D25: Kogus, g | E25: Energia, kcal | F25: Süsivesikud, g | G25: Rasvad, g | H25: Valgud, g | J25: Kogus, g | K25: Energia, kcal | L25: Süsivesikud, g | M25: Rasvad, g | N25: Valgud, g
B26: Hakkliha-suvikõrvitsapikkpoiss (M, PT) | C26: Segahakkliha (siga/veis), riivsai, kanamuna, mugulsibul, porgand, suvikõrvits, söögisool, must pipar | D26: 60 | E26: 88.68 | F26: 5.694 | G26: 4.38 | H26: 6.12 | J26: 70 | K26: =J26*E26/D26 -> 103.46 | L26: =K26*F26/E26 -> 6.643 | M26: =L26*G26/F26 -> 5.11 | N26: =M26*H26/G26 -> 7.14
A27: Taimetoit | B27: Tofukaste tomati ja paprikaga (L) | C27: Tofu, porgand, mugulsibul, paprika, tomatipasta, vesi, kohvikoor, toiduõli, söögisool, must pipar, basiilik, vesi, masitärklis, petersell | D27: 120 | E27: 72.6 | F27: 6.12 | G27: 3.63 | H27: 3.186 | J27: 140 | K27: =J27*E27/D27 -> 84.7 | L27: =K27*F27/E27 -> 7.14 | M27: =L27*G27/F27 -> 4.235 | N27: =M27*H27/G27 -> 3.717
B28: Riis, aurutatud | C28: Riis, vesi, söögisool | D28: 60 | E28: 77.25 | F28: 17.18 | G28: 0.16 | H28: 1.5 | J28: 100 | K28: =J28*E28/D28 -> 128.75 | L28: =K28*F28/E28 -> 28.633333 | M28: =L28*G28/F28 -> 0.26666667 | N28: =M28*H28/G28 -> 2.5
B29: Kartul, aurutatud | D29: 60 | E29: 43.5 | F29: 9.3 | G29: 0 | H29: 1.14 | J29: 100 | K29: =J29*E29/D29 -> 72.5 | L29: =K29*F29/E29 -> 15.5 | M29: =L29*G29/F29 -> 0 | N29: =J29*H29/D29 -> 1.9
B30: Rooskapsas, röstitud | C30: Rooskapsas, söögisool, toiduõli | D30: 100 | E30: 59 | F30: 3.36 | G30: 1.6 | H30: 5.4 | J30: 100 | K30: =J30*E30/D30 -> 59 | L30: =K30*F30/E30 -> 3.36 | M30: =L30*G30/F30 -> 1.6 | N30: =M30*H30/G30 -> 5.4
B31: Külm jogurtikaste maitserohelisega (L) | C31: Till, roheline sibul, maitsestamata jogurt | D31: 50 | E31: 28.4 | F31: 2.39 | G31: 1.33 | H31: 1.7 | J31: 50 | K31: =J31*E31/D31 -> 28.4 | L31: =K31*F31/E31 -> 2.39 | M31: =L31*G31/F31 -> 1.33 | N31: =M31*H31/G31 -> 1.7
B32: Mahla-õlikaste | C32: Õunamahl 100% naturaalne, õunaäädikas, sinepipulber, söögisool, petersell, värske, toiduõli | D32: 5 | E32: 32.1894 | F32: 0.09705 | G32: 3.53055 | H32: 0.01355 | J32: 10 | K32: =J32*E32/D32 -> 64.3788 | L32: =K32*F32/E32 -> 0.1941 | M32: =L32*G32/F32 -> 7.0611 | N32: =M32*H32/G32 -> 0.0271
B33: Brokoli ja porgand seesamiseemnetega | C33: Brokoli, porgand, salatikaste (sinep, mesi, toiduõli, õunaäädikas, söögisool, must pipar, suhkur), seesamiseemned | D33: 50 | E33: 52.8 | F33: 2.89 | G33: 3.43 | H33: 1.8 | J33: 50 | K33: =J33*E33/D33 -> 52.8 | L33: =K33*F33/E33 -> 2.89 | M33: =L33*G33/F33 -> 3.43 | N33: =M33*H33/G33 -> 1.8
B34: Salatisegu, roheline hernes, hapukurk | C34: Rooma salat, jääsalat, rukola, spinat, roheline hernes, hapukurk (kurk, söögisool, vesi) | D34: 100 | E34: 39.9 | F34: 4.23 | G34: 0.423 | H34: 3.04 | J34: 100 | K34: =J34*E34/D34 -> 39.9 | L34: =K34*F34/E34 -> 4.23 | M34: =L34*G34/F34 -> 0.423 | N34: =M34*H34/G34 -> 3.04
B35: Seemnesegu (mahe) | C35: Kõrvitsaseemned, päevalilleseemned, seesamiseemned | D35: 15 | E35: 91.31505 | F35: 1.92 | G35: 7.73505 | H35: 4.23495 | J35: 5 | K35: =J35*E35/D35 -> 30.43835 | L35: =K35*F35/E35 -> 0.64 | M35: =L35*G35/F35 -> 2.57835 | N35: =M35*H35/G35 -> 1.41165
B36: Piimatooted (piim, keefir R 2,5% ) (L) | D36: 50 | E36: 28.195 | F36: 2.4375 | G36: 1.285 | H36: 1.72 | J36: 50 | K36: =J36*E36/D36 -> 28.195 | L36: =K36*F36/E36 -> 2.4375 | M36: =L36*G36/F36 -> 1.285 | N36: =M36*H36/G36 -> 1.72
B37: Joogijogurt, maitsestatud (L) | C37: Maitsestamata jogurt, naturaalne marjapüree (maasikas, vaarikas, mustad sõstrad, punased sõstrad, mustikas), suhkur | D37: 25 | E37: 18.6865 | F37: 3.03075 | G37: 0.375 | H37: 0.8 | J37: 50 | K37: =J37*E37/D37 -> 37.373 | L37: =K37*F37/E37 -> 6.0615 | M37: =L37*G37/F37 -> 0.75 | N37: =M37*H37/G37 -> 1.6
B38: Tee, suhkruta | C38: Teepuru, vesi | D38: 50 | E38: 0.2 | F38: 0 | G38: 0 | H38: 0.05 | J38: 100 | K38: =J38*E38/D38 -> 0.4 | L38: =K38*F38/E38 -> 0 | M38: 0 | N38: 0.05
B39: Rukkileiva (3 sorti) - ja sepikutoodete valik (G) | D39: 50 | E39: 123.1 | F39: 26.15 | G39: 1 | H39: 3.575 | J39: 30 | K39: =J39*E39/D39 -> 73.86 | L39: =K39*F39/E39 -> 15.69 | M39: =L39*G39/F39 -> 0.6 | N39: =M39*H39/G39 -> 2.145
B40: Nuikapsas | D40: 50 | E40: 12.1 | F40: 2.1 | G40: 0.1 | H40: 0.25 | J40: 50 | K40: =J40*E40/D40 -> 12.1 | L40: =K40*F40/E40 -> 2.1 | M40: =L40*G40/F40 -> 0.1 | N40: =M40*H40/G40 -> 0.25
B41: Õun (mahe) | D41: 50 | E41: 24.038 | F41: 6.74 | G41: 0 | H41: 0 | J41: 50 | K41: =J41*E41/D41 -> 24.038 | L41: =K41*F41/E41 -> 6.74 | M41: =L41*G41/F41 -> 0 | N41: 0
C42: Kokku: | E42: =SUM(E26,E28:E41) -> 719.35395 | F42: =SUM(F26,F28:F41) -> 87.5193 | G42: =SUM(G26,G28:G41) -> 25.3486 | H42: =SUM(H26,H28:H41) -> 31.3435 | K42: =SUM(K26,K28:K41) -> 755.59315 | L42: =SUM(L26,L28:L41) -> 97.509433 | M42: =SUM(M26,M28:M41) -> 24.534117 | N42: =SUM(N26,N28:N41) -> 30.68375
A43: Kolmapäev | B43: Lõunasöök | C43: Koostisosad | D43: Kogus, g | E43: Energia, kcal | F43: Süsivesikud, g | G43: Rasvad, g | H43: Valgud, g | J43: Kogus, g | K43: Energia, kcal | L43: Süsivesikud, g | M43: Rasvad, g | N43: Valgud, g
B44: Selge kalasupp riisiga | C44: Tilaapia, kartul, porgand, mugulsibul, vesi, riis, toiduõli, söögisool, must pipar, loorber, till | D44: 200 | E44: 153 | F44: 13.3 | G44: 6.76 | H44: 8.76 | J44: 300 | K44: =J44*E44/D44 -> 229.5 | L44: =K44*F44/E44 -> 19.95 | M44: =L44*G44/F44 -> 10.14 | N44: =M44*H44/G44 -> 13.14
...

Sheet Nädal_47
A1: #VALUE! | C1: #VALUE!
A6: Koolilõuna menüü
A7: 47. nädal | B7: 16.11-20.11.2026 | D7: 4-9.klass | J7: 10-12.klass
A8: Esmaspäev | B8: Lõunasöök | C8: Koostisosad | D8: Kogus, g | E8: Energia, kcal | F8: Süsivesikud, g | G8: Rasvad, g | H8: Valgud, g | J8: Kogus, g | K8: Energia, kcal | L8: Süsivesikud, g | M8: Rasvad, g | N8: Valgud, g
B9: Kanakaste sulatatud juustuga (G, L) | C9: Kanaliha, piim, sulatatud juust, nisujahu, söögisool, must pipar, toiduõli, värske petersell | D9: 120 | E9: 160 | F9: 8.67 | G9: 9.79 | H9: 9.24 | J9: 140 | K9: =J9*E9/D9 -> 186.66667 | L9: =K9*F9/E9 -> 10.115 | M9: =L9*G9/F9 -> 11.421667 | N9: =M9*H9/G9 -> 10.78
A10: Taimetoit | B10: Kikerhernekaste sulatatud juustuga ja basiilikuga (G, L) | C10: Kikerherned, piim, toidukoor, sulatatud juust, nisujahu, söögisool, must pipar, toiduõli, värske petersell, värske basiilik | D10: 120 | E10: 175.2 | F10: 12.78 | G10: 9.36 | H10: 7.68 | J10: 140 | K10: =J10*E10/D10 -> 204.4 | L10: =K10*F10/E10 -> 14.91 | M10: =L10*G10/F10 -> 10.92 | N10: =M10*H10/G10 -> 8.96
B11: Kuskuss, aurutatud (G) | C11: Kuskuss, vesi, söögisool | D11: 60 | E11: 80.4 | F11: 16.32 | G11: 0 | H11: 2.48 | J11: 100 | K11: =J11*E11/D11 -> 134 | L11: =K11*F11/E11 -> 27.2 | M11: =L11*G11/F11 -> 0 | N11: =J11*H11/D11 -> 4.1333333
B12: Riis, aurutatud (mahe) | C12: Riis, vesi, söögisool | D12: 60 | E12: 94.6212 | F12: 16.1256 | G12: 2.8452 | H12: 1.3662 | J12: 100 | K12: =J12*E12/D12 -> 157.702 | L12: =K12*F12/E12 -> 26.876 | M12: =L12*G12/F12 -> 4.742 | N12: =M12*H12/G12 -> 2.277
B13: Lillkapsas, aurutatud | C13: Lillkapsas | D13: 50 | E13: 17.2 | F13: 3.07 | G13: 0.103 | H13: 1.03 | J13: 100 | K13: =J13*E13/D13 -> 34.4 | L13: =K13*F13/E13 -> 6.14 | M13: =L13*G13/F13 -> 0.206 | N13: =M13*H13/G13 -> 2.06
B14: Mahla-õlikaste | C14: Õunamahl 100% naturaalne, õunaäädikas, sinepipulber, söögisool, petersell, värske, toiduõli | D14: 5 | E14: 32.1894 | F14: 0.09705 | G14: 3.53055 | H14: 0.01355 | J14: 5 | K14: =J14*E14/D14 -> 32.1894 | L14: =K14*F14/E14 -> 0.09705 | M14: =L14*G14/F14 -> 3.53055 | N14: =M14*H14/G14 -> 0.01355
B15: Peedi-piprajuuresalat (L) | C15: Keedupeet, piprajuur, õun, hapukoor | D15: 50 | E15: 20.9 | F15: 3.5 | G15: 0.099 | H15: 0.856 | J15: 100 | K15: =J15*E15/D15 -> 41.8 | L15: =K15*F15/E15 -> 7 | M15: =L15*G15/F15 -> 0.198 | N15: =M15*H15/G15 -> 1.712
B16: Hiina kapsas, roheline hernes, nuikapsas | D16: 100 | E16: 41.6 | F16: 5.17 | G16: 0.33 | H16: 2.76 | J16: 100 | K16: =J16*E16/D16 -> 41.6 | L16: =K16*F16/E16 -> 5.17 | M16: =L16*G16/F16 -> 0.33 | N16: =M16*H16/G16 -> 2.76
B17: Seemnesegu (mahe) | C17: Kõrvitsaseemned, päevalilleseemned, seesamiseemned | D17: 15 | E17: 91.31505 | F17: 1.92 | G17: 7.73505 | H17: 4.23495 | J17: 150 | K17: =J17*E17/D17 -> 913.1505 | L17: =K17*F17/E17 -> 19.2 | M17: =L17*G17/F17 -> 77.3505 | N17: =M17*H17/G17 -> 42.3495
A18: PRIA | B18: Piimatooted (piim, keefir R 2,5% ) (L) | D18: 50 | E18: 28.195 | F18: 2.4375 | G18: 1.285 | H18: 1.72 | J18: 50 | K18: =J18*E18/D18 -> 28.195 | L18: =K18*F18/E18 -> 2.4375 | M18: =L18*G18/F18 -> 1.285 | N18: =M18*H18/G18 -> 1.72
B19: Joogijogurt, maitsestatud (L) | C19: Maitsestamata jogurt, naturaalne marjapüree (maasikas, vaarikas, mustad sõstrad, punased sõstrad, mustikas), suhkur | D19: 25 | E19: 18.6865 | F19: 3.03075 | G19: 0.375 | H19: 0.8 | J19: 25 | K19: =J19*E19/D19 -> 18.6865 | L19: =K19*F19/E19 -> 3.03075 | M19: =L19*G19/F19 -> 0.375 | N19: =M19*H19/G19 -> 0.8
B20: Tee, suhkruta | C20: Teepuru, vesi | D20: 50 | E20: 0.2 | F20: 0 | G20: 0 | H20: 0.05 | J20: 50 | K20: =J20*E20/D20 -> 0.2 | L20: =K20*F20/E20 -> 0 | M20: 0 | N20: 0.05
B21: Rukkileiva (3 sorti) - ja sepikutoodete valik (G) | D21: 30 | E21: 73.86 | F21: 15.69 | G21: 0.6 | H21: 2.145 | J21: 30 | K21: =J21*E21/D21 -> 73.86 | L21: =K21*F21/E21 -> 15.69 | M21: =L21*G21/F21 -> 0.6 | N21: =M21*H21/G21 -> 2.145
B22: Porgand | D22: 50 | E22: 16.2 | F22: 2.8 | G22: 0.1 | H22: 0.3 | J22: 50 | K22: =J22*E22/D22 -> 16.2 | L22: =K22*F22/E22 -> 2.8 | M22: =L22*G22/F22 -> 0.1 | N22: =M22*H22/G22 -> 0.3
B23: Pirn | D23: 50 | E23: 19.988 | F23: 5.97 | G23: 0 | H23: 0.15 | J23: 50 | K23: =J23*E23/D23 -> 19.988 | L23: =K23*F23/E23 -> 5.97 | M23: =L23*G23/F23 -> 0 | N23: 0.15
C24: Kokku: | E24: =SUM(E9,E11:E23) -> 695.35515 | F24: =SUM(F9,F11:F23) -> 84.8009 | G24: =SUM(G9,G11:G23) -> 26.7928 | H24: =SUM(H9,H11:H23) -> 27.1457 | K24: =SUM(K9,K11:K23) -> 1698.6381 | L24: =SUM(L9,L11:L23) -> 131.7263 | M24: =SUM(M9,M11:M23) -> 100.13872 | N24: =SUM(N9,N11:N23) -> 71.250383
A25: Teisipäev | B25: Lõunasöök | C25: Koostisosad | D25: Kogus, g | E25: Energia, kcal | F25: Süsivesikud, g | G25: Rasvad, g | H25: Valgud, g | J25: Kogus, g | K25: Energia, kcal | L25: Süsivesikud, g | M25: Rasvad, g | N25: Valgud, g
B26: Hartšoo erineva lihaga (G) | C26: Sealiha, kanaliha, veiseliha, riis, mugulsibul, tomatipasta, mugulsibul, küüslauk, loorber, kuivatatud ploom, nisujahu, söögisool, must pipar, toiduõli, vesi, värske petersell | D26: 200 | E26: 166 | F26: 21.6 | G26: 4.56 | H26: 8.74 | J26: 300 | K26: =J26*E26/D26 -> 249 | L26: =K26*F26/E26 -> 32.4 | M26: =L26*G26/F26 -> 6.84 | N26: =M26*H26/G26 -> 13.11
A27: Taimetoit | B27: Taimne hartšoo punaste ubadega | C27: Punased oad, riis, mugulsibul, tomatipasta, mugulsibul, küüslauk, loorber, kuivatatud ploom, nisujahu, söögisool, must pipar, toiduõli, vesi, värske petersell | D27: 50 | E27: 45.2 | F27: 5.92 | G27: 1.6 | H27: 1.35 | J27: 50 | K27: =J27*E27/D27 -> 45.2 | L27: =K27*F27/E27 -> 5.92 | M27: =L27*G27/F27 -> 1.6 | N27: =M27*H27/G27 -> 1.35
B28: Mustikajogurt (L) | C28: Maitsestamata jogurt, suhkur, mustikad | D28: 100 | E28: 88.5 | F28: 14.9 | G28: 1.99 | H28: 2.48 | J28: 100 | K28: =J28*E28/D28 -> 88.5 | L28: =K28*F28/E28 -> 14.9 | M28: =L28*G28/F28 -> 1.99 | N28: =M28*H28/G28 -> 2.48
B29: Õunakook mandlipuruga (G, L, M, P, VS, PT) | C29: Õun, nisujahu, kaerahelbed, suhkur, küpsetuspulber, kanamuna, hapukoor, mandlid, söögisool | D29: 50 | E29: 149 | F29: 20.5 | G29: 5.31 | H29: 3.68 | J29: 50 | K29: =J29*E29/D29 -> 149 | L29: =K29*F29/E29 -> 20.5 | M29: =L29*G29/F29 -> 5.31 | N29: =M29*H29/G29 -> 3.68
A30: PRIA | B30: Piimatooted (piim, keefir R 2,5% ) (L) | D30: 50 | E30: 28.195 | F30: 2.4375 | G30: 1.285 | H30: 1.72 | J30: 50 | K30: =J30*E30/D30 -> 28.195 | L30: =K30*F30/E30 -> 2.4375 | M30: =L30*G30/F30 -> 1.285 | N30: =M30*H30/G30 -> 1.72
B31: Mahl (erinevad maitsed) | C31: Rõngu suhkruvaba mahlakonsentraat 100% naturaalne, vesi | D31: 50 | E31: 24.2644 | F31: 5.891 | G31: 0.025 | H31: 0.1815 | J31: 50 | K31: =J31*E31/D31 -> 24.2644 | L31: =K31*F31/E31 -> 5.891 | M31: =L31*G31/F31 -> 0.025 | N31: =M31*H31/G31 -> 0.1815
B32: Joogijogurt, maitsestatud (L) | C32: Maitsestamata jogurt, naturaalne marjapüree (maasikas, vaarikas, mustad sõstrad, punased sõstrad, mustikas), suhkur | D32: 50 | E32: 37.373 | F32: 6.0615 | G32: 0.75 | H32: 1.6 | J32: 50 | K32: =J32*E32/D32 -> 37.373 | L32: =K32*F32/E32 -> 6.0615 | M32: =L32*G32/F32 -> 0.75 | N32: =M32*H32/G32 -> 1.6
B33: Tee, suhkruta | C33: Teepuru, vesi | D33: 50 | E33: 0.2 | F33: 0 | G33: 0 | H33: 0.05 | J33: 50 | K33: =J33*E33/D33 -> 0.2 | L33: =K33*F33/E33 -> 0 | M33: 0 | N33: 0.05
B34: Rukkileiva (3 sorti) - ja sepikutoodete valik (G) | D34: 30 | E34: 73.86 | F34: 15.69 | G34: 0.6 | H34: 2.145 | J34: 30 | K34: =J34*E34/D34 -> 73.86 | L34: =K34*F34/E34 -> 15.69 | M34: =L34*G34/F34 -> 0.6 | N34: =M34*H34/G34 -> 2.145
B35: Valge redis | D35: 50 | E35: 9.45 | F35: 1.45 | G35: 0.05 | H35: 0.4 | J35: 50 | K35: =J35*E35/D35 -> 9.45 | L35: =K35*F35/E35 -> 1.45 | M35: =L35*G35/F35 -> 0.05 | N35: =M35*H35/G35 -> 0.4
B36: Õun (mahe) | D36: 50 | E36: 24.038 | F36: 6.74 | G36: 0 | H36: 0 | J36: 50 | K36: =J36*E36/D36 -> 24.038 | L36: =K36*F36/E36 -> 6.74 | M36: =L36*G36/F36 -> 0 | N36: 0
C37: Kokku: | E37: =SUM(E26,E28:E36) -> 600.8804 | F37: =SUM(F26,F28:F36) -> 95.27 | G37: =SUM(G26,G28:G36) -> 14.57 | H37: =SUM(H26,H28:H36) -> 20.9965 | K37: =SUM(K26,K28:K36) -> 683.8804 | L37: =SUM(L26,L28:L36) -> 106.07 | M37: =SUM(M26,M28:M36) -> 16.85 | N37: =SUM(N26,N28:N36) -> 25.3665
A38: Kolmapäev | B38: Lõunasöök | C38: Koostisosad | D38: Kogus, g | E38: Energia, kcal | F38: Süsivesikud, g | G38: Rasvad, g | H38: Valgud, g | J38: Kogus, g | K38: Energia, kcal | L38: Süsivesikud, g | M38: Rasvad, g | N38: Valgud, g
B39: Kana-paprikahautis (G, L) | C39: Kanaliha, paprika, mugulsibul, küüslauk, toidukoor, nisujahu, jahvatatud paprika, söögisool, must pipar, jahvatatud tüümian, toiduõli, vesi | D39: 120 | E39: 126 | F39: 4.524 | G39: 7.932 | H39: 8.448 | J39: 140 | K39: =J39*E39/D39 -> 147 | L39: =K39*F39/E39 -> 5.278 | M39: =L39*G39/F39 -> 9.254 | N39: =M39*H39/G39 -> 9.856
A40: Taimetoit | B40: Kartuli-šampinjonivorm Vahemere ürtidega | C40: Kartul, mugulsibul, šampinjonid, toiduõli, pune, petersell, tüümian, söögisool, must pipar | D40: 120 | E40: 109.68 | F40: 15.96 | G40: 3.768 | H40: 2.436 | J40: 140 | K40: =J40*E40/D40 -> 127.96 | L40: =K40*F40/E40 -> 18.62 | M40: =L40*G40/F40 -> 4.396 | N40: =M40*H40/G40 -> 2.842
B41: Täisterapasta/pasta (G) (mahe) | C41: Täisterapasta / pasta ( durumnisujahu, vesi), vesi, söögisool, toiduõli | D41: 60 | E41: 90.8 | F41: 15.8 | G41: 1.55 | H41: 2.74 | J41: 100 | K41: =J41*E41/D41 -> 151.33333 | L41: =K41*F41/E41 -> 26.333333 | M41: =L41*G41/F41 -> 2.5833333 | N41: =M41*H41/G41 -> 4.5666667
B42: Riis, aurutatud (mahe) | C42: Riis, vesi, söögisool | D42: 60 | E42: 94.6212 | F42: 16.1256 | G42: 2.8452 | H42: 1.3662 | J42: 100 | K42: =J42*E42/D42 -> 157.702 | L42: =K42*F42/E42 -> 26.876 | M42: =L42*G42/F42 -> 4.742 | N42: =M42*H42/G42 -> 2.277
B43: Juurseller, röstitud | C43: Juurseller, toiduõli, söögisool | D43: 50 | E43: 17.4875 | F43: 4.875 | G43: 0.0625 | H43: 0.8125 | J43: 50 | K43: =J43*E43/D43 -> 17.4875 | L43: =K43*F43/E43 -> 4.875 | M43: =L43*G43/F43 -> 0.0625 | N43: =M43*H43/G43 -> 0.8125
B44: Tomatikaste ürtidega | C44: Tomatipüree, mugulsibul, küüslauk, fariinsuhkur, kuivatatud basiilik, kuivatatud petersell, pune, toiduõli | D44: 50 | E44: 46 | F44: 7.9 | G44: 1.07 | H44: 0.89 | J44: 50 | K44: =J44*E44/D44 -> 46 | L44: =K44*F44/E44 -> 7.9 | M44: =L44*G44/F44 -> 1.07 | N44: =M44*H44/G44 -> 0.89
...

Sheet Nädal_48
A1: #VALUE! | C1: #VALUE!
A6: Koolilõuna menüü
A7: 48. nädal | B7: 23.11-27.11.2026 | D7: 4-9.klass | J7: 10-12.klass
A8: Esmaspäev | B8: Lõunasöök | C8: Koostisosad | D8: Kogus, g | E8: Energia, kcal | F8: Süsivesikud, g | G8: Rasvad, g | H8: Valgud, g | J8: Kogus, g | K8: Energia, kcal | L8: Süsivesikud, g | M8: Rasvad, g | N8: Valgud, g
B9: Kodune sealihaguljašš | C9: Sealiha, vesi, rohelinepaprika, mugulsibul, tomatipüree, toiduiõli, küüslauk, petersell, jahvatatud paprika, söögisool, loorber, must pipar, vürtsköömen | D9: 120 | E9: 156.9108 | F9: 6.666 | G9: 11.628 | H9: 6.6756 | J9: 140 | K9: =J9*E9/D9 -> 183.0626 | L9: =K9*F9/E9 -> 7.777 | M9: =L9*G9/F9 -> 13.566 | N9: =M9*H9/G9 -> 7.7882
A10: Taimetoit | B10: Läätseguljašš (mahe) | C10: Läätsed ,vesi, roheline paprika, mugulsibul, tomatipüree, toiduiõli, küüslauk, värske petersell, jahvatatud paprika, söögisool, loorber, must pipar, vürtsköömen | D10: 120 | E10: 158.8836 | F10: 21.2076 | G10: 5.5044 | H10: 7.7964 | J10: 140 | K10: =J10*E10/D10 -> 185.3642 | L10: =K10*F10/E10 -> 24.7422 | M10: =L10*G10/F10 -> 6.4218 | N10: =M10*H10/G10 -> 9.0958
B11: Riis, aurutatud (mahe) | C11: Riis, vesi, söögisool | D11: 60 | E11: 94.6212 | F11: 16.1256 | G11: 2.8452 | H11: 1.3662 | J11: 100 | K11: =J11*E11/D11 -> 157.702 | L11: =K11*F11/E11 -> 26.876 | M11: =L11*G11/F11 -> 4.742 | N11: =M11*H11/G11 -> 2.277
B12: Kuskuss, aurutatud (G) | C12: Kuskuss, vesi, söögisool | D12: 60 | E12: 80.4 | F12: 16.32 | G12: 0 | H12: 2.48 | J12: 100 | K12: =J12*E12/D12 -> 134 | L12: =K12*F12/E12 -> 27.2 | M12: =L12*G12/F12 -> 0 | N12: =J12*H12/D12 -> 4.1333333
B13: Miniporgandid, aurutatud | C13: Miniporgand, vesi, söögisool | D13: 50 | E13: 16.2 | F13: 4.25 | G13: 0.1 | H13: 0.3 | J13: 50 | K13: =J13*E13/D13 -> 16.2 | L13: =K13*F13/E13 -> 4.25 | M13: =L13*G13/F13 -> 0.1 | N13: =M13*H13/G13 -> 0.3
B14: Külm jogurtikaste maitserohelisega | C14: Maitsestamata jogurt, roheline sibul, till, värske | D14: 50 | E14: 28.3715 | F14: 2.409 | G14: 1.332 | H14: 1.697 | J14: 50 | K14: =J14*E14/D14 -> 28.3715 | L14: =K14*F14/E14 -> 2.409 | M14: =L14*G14/F14 -> 1.332 | N14: =M14*H14/G14 -> 1.697
B15: Kapsa-mangosalat | C15: Valge peakapsas, mango | D15: 50 | E15: 19.5 | F15: 4.719 | G15: 0.1025 | H15: 0.51 | J15: 50 | K15: =J15*E15/D15 -> 19.5 | L15: =K15*F15/E15 -> 4.719 | M15: =L15*G15/F15 -> 0.1025 | N15: =M15*H15/G15 -> 0.51
B16: Peet, kaalikas, mais | D16: 30 | E16: 16.3508 | F16: 3.687 | G16: 0.17 | H16: 0.58 | J16: 30 | K16: =J16*E16/D16 -> 16.3508 | L16: =K16*F16/E16 -> 3.687 | M16: =L16*G16/F16 -> 0.17 | N16: =M16*H16/G16 -> 0.58
B17: Seemnesegu (mahe) | C17: Kõrvitsaseemned, päevalilleseemned, seesamiseemned | D17: 15 | E17: 91.31505 | F17: 1.92 | G17: 7.73505 | H17: 4.23495 | J17: 15 | K17: =J17*E17/D17 -> 91.31505 | L17: =K17*F17/E17 -> 1.92 | M17: =L17*G17/F17 -> 7.73505 | N17: =M17*H17/G17 -> 4.23495
A18: PRIA | B18: Piimatooted (piim, keefir R 2,5% ) (L) | D18: 50 | E18: 28.195 | F18: 2.4375 | G18: 1.285 | H18: 1.72 | J18: 50 | K18: =J18*E18/D18 -> 28.195 | L18: =K18*F18/E18 -> 2.4375 | M18: =L18*G18/F18 -> 1.285 | N18: =M18*H18/G18 -> 1.72
B19: Joogijogurt, maitsestatud (L) | C19: Maitsestamata jogurt, naturaalne marjapüree (maasikas, vaarikas, mustad sõstrad, punased sõstrad, mustikas), suhkur | D19: 50 | E19: 37.373 | F19: 6.0615 | G19: 0.75 | H19: 1.6 | J19: 50 | K19: =J19*E19/D19 -> 37.373 | L19: =K19*F19/E19 -> 6.0615 | M19: =L19*G19/F19 -> 0.75 | N19: =M19*H19/G19 -> 1.6
B20: Tee, suhkruta | C20: Teepuru, vesi | D20: 50 | E20: 0.2 | F20: 0 | G20: 0 | H20: 0.05 | J20: 50 | K20: =J20*E20/D20 -> 0.2 | L20: =K20*F20/E20 -> 0 | M20: 0 | N20: 0.05
B21: Rukkileiva (3 sorti) - ja sepikutoodete valik (G) | D21: 50 | E21: 123.1 | F21: 26.15 | G21: 1 | H21: 3.575 | J21: 50 | K21: =J21*E21/D21 -> 123.1 | L21: =K21*F21/E21 -> 26.15 | M21: =L21*G21/F21 -> 1 | N21: =M21*H21/G21 -> 3.575
B22: Porgand | D22: 50 | E22: 16.2 | F22: 2.8 | G22: 0.1 | H22: 0.3 | J22: 50 | K22: =J22*E22/D22 -> 16.2 | L22: =K22*F22/E22 -> 2.8 | M22: =L22*G22/F22 -> 0.1 | N22: =M22*H22/G22 -> 0.3
B23: Õun (mahe) | D23: 50 | E23: 24.038 | F23: 6.74 | G23: 0 | H23: 0 | J23: 50 | K23: =J23*E23/D23 -> 24.038 | L23: =K23*F23/E23 -> 6.74 | M23: =L23*G23/F23 -> 0 | N23: 0
C24: Kokku: | E24: =SUM(E9,E11:E23) -> 732.77535 | F24: =SUM(F9,F11:F23) -> 100.2856 | G24: =SUM(G9,G11:G23) -> 27.04775 | H24: =SUM(H9,H11:H23) -> 25.08875 | K24: =SUM(K9,K11:K23) -> 875.60795 | L24: =SUM(L9,L11:L23) -> 123.027 | M24: =SUM(M9,M11:M23) -> 30.88255 | N24: =SUM(N9,N11:N23) -> 28.765483
A25: Teisipäev | B25: Lõunasöök | C25: Koostisosad | D25: Kogus, g | E25: Energia, kcal | F25: Süsivesikud, g | G25: Rasvad, g | H25: Valgud, g | J25: Kogus, g | K25: Energia, kcal | L25: Süsivesikud, g | M25: Rasvad, g | N25: Valgud, g
B26: Pasta hakkliha ja köögiviljadega (G) | C26: Makaronid (durumnisujahu, vesi), veisehakkliha, porgand, mugulsibul, küüslauk, kuivatatud basiilik, pune, purustatud tomat, spinat, söögisool, must pipar, toiduõli | D26: 200 | E26: 361 | F26: 43.7 | G26: 13.3 | H26: 13.4 | J26: 300 | K26: =J26*E26/D26 -> 541.5 | L26: =K26*F26/E26 -> 65.55 | M26: =L26*G26/F26 -> 19.95 | N26: =M26*H26/G26 -> 20.1
A27: Taimetoit | B27: Pasta kikerherne ja juustuga (G, L) | C27: Makaronid (durumnisujahu, vesi),kikerherned, suvikõrvits, paprika, mugulsibul, küüslauk, kuivatatud basiilik, pune, toidukoor, söögisool, must pipar, tšillipipar, värske petersell, toiduõli | D27: 50 | E27: 86 | F27: 10.4 | G27: 3.28 | H27: 2.64 | J27: 50 | K27: =J27*E27/D27 -> 86 | L27: =K27*F27/E27 -> 10.4 | M27: =L27*G27/F27 -> 3.28 | N27: =M27*H27/G27 -> 2.64
B28: Aedoad küüslauguga, ahjus küpsetatud | C28: Aedoad, küüslauk, toiduõli, söögisool | D28: 50 | E28: 23.1077 | F28: 3.349 | G28: 1.0485 | H28: 0.864 | J28: 50 | K28: =J28*E28/D28 -> 23.1077 | L28: =K28*F28/E28 -> 3.349 | M28: =L28*G28/F28 -> 1.0485 | N28: =M28*H28/G28 -> 0.864
B29: Soe tomatikaste | C29: Tomat, mugulsibul, porgand, küüslauk, toiduõli, söögisool, basiilik, värske | D29: 50 | E29: 17.5985 | F29: 3.2825 | G29: 0.544 | H29: 0.3895 | J29: 50 | K29: =J29*E29/D29 -> 17.5985 | L29: =K29*F29/E29 -> 3.2825 | M29: =L29*G29/F29 -> 0.544 | N29: =M29*H29/G29 -> 0.3895
B30: Mahla-õlikaste | C30: Õunamahl 100% naturaalne, õunaäädikas, sinepipulber, söögisool, petersell, värske, toiduõli | D30: 5 | E30: 32.1894 | F30: 0.09705 | G30: 3.53055 | H30: 0.01355 | J30: 5 | K30: =J30*E30/D30 -> 32.1894 | L30: =K30*F30/E30 -> 0.09705 | M30: =L30*G30/F30 -> 3.53055 | N30: =M30*H30/G30 -> 0.01355
B31: Kõrvitsa-pastinaagi-virsikusalat | C31: Pastinaak, kõrvits, virsik | D31: 50 | E31: 18.3765 | F31: 4.4585 | G31: 0.15 | H31: 0.55 | J31: 50 | K31: =J31*E31/D31 -> 18.3765 | L31: =K31*F31/E31 -> 4.4585 | M31: =L31*G31/F31 -> 0.15 | N31: =M31*H31/G31 -> 0.55
B32: Hiina kapsas, tomat, roheline sibul (mahe) | D32: 30 | E32: 7.563 | F32: 1.42 | G32: 0.107 | H32: 0.46 | J32: 30 | K32: =J32*E32/D32 -> 7.563 | L32: =K32*F32/E32 -> 1.42 | M32: =L32*G32/F32 -> 0.107 | N32: =M32*H32/G32 -> 0.46
B33: Seemnesegu (mahe) | C33: Kõrvitsaseemned, päevalilleseemned, seesamiseemned | D33: 15 | E33: 91.31505 | F33: 1.92 | G33: 7.73505 | H33: 4.23495 | J33: 15 | K33: =J33*E33/D33 -> 91.31505 | L33: =K33*F33/E33 -> 1.92 | M33: =L33*G33/F33 -> 7.73505 | N33: =M33*H33/G33 -> 4.23495
A34: PRIA | B34: Piimatooted (piim, keefir R 2,5% ) (L) | D34: 50 | E34: 28.195 | F34: 2.4375 | G34: 1.285 | H34: 1.72 | J34: 50 | K34: =J34*E34/D34 -> 28.195 | L34: =K34*F34/E34 -> 2.4375 | M34: =L34*G34/F34 -> 1.285 | N34: =M34*H34/G34 -> 1.72
B35: Joogijogurt, maitsestatud (L) | C35: Maitsestamata jogurt, naturaalne marjapüree (maasikas, vaarikas, mustad sõstrad, punased sõstrad, mustikas), suhkur | D35: 50 | E35: 37.373 | F35: 6.0615 | G35: 0.75 | H35: 1.6 | J35: 50 | K35: =J35*E35/D35 -> 37.373 | L35: =K35*F35/E35 -> 6.0615 | M35: =L35*G35/F35 -> 0.75 | N35: =M35*H35/G35 -> 1.6
B36: Tee, suhkruta | C36: Teepuru, vesi | D36: 50 | E36: 0.2 | F36: 0 | G36: 0 | H36: 0.05 | J36: 50 | K36: =J36*E36/D36 -> 0.2 | L36: =K36*F36/E36 -> 0 | M36: 0 | N36: 0.05
B37: Rukkileiva (3 sorti) - ja sepikutoodete valik (G) | D37: 50 | E37: 123.1 | F37: 26.15 | G37: 1 | H37: 3.575 | J37: 50 | K37: =J37*E37/D37 -> 123.1 | L37: =K37*F37/E37 -> 26.15 | M37: =L37*G37/F37 -> 1 | N37: =M37*H37/G37 -> 3.575
B38: Valge/punane peakapsas | D38: 50 | E38: 14.9 | F38: 2.29 | G38: 0.075 | H38: 0.675 | J38: 50 | K38: =J38*E38/D38 -> 14.9 | L38: =K38*F38/E38 -> 2.29 | M38: =L38*G38/F38 -> 0.075 | N38: =M38*H38/G38 -> 0.675
B39: Pirn | D39: 50 | E39: 19.988 | F39: 5.97 | G39: 0 | H39: 0.15 | J39: 50 | K39: =J39*E39/D39 -> 19.988 | L39: =K39*F39/E39 -> 5.97 | M39: =L39*G39/F39 -> 0 | N39: 0.15
C40: Kokku: | E40: =SUM(E26,E28:E39) -> 774.90615 | F40: =SUM(F26,F28:F39) -> 101.13605 | G40: =SUM(G26,G28:G39) -> 29.5251 | H40: =SUM(H26,H28:H39) -> 27.682 | K40: =SUM(K26,K28:K39) -> 955.40615 | L40: =SUM(L26,L28:L39) -> 122.98605 | M40: =SUM(M26,M28:M39) -> 36.1751 | N40: =SUM(N26,N28:N39) -> 34.382
A41: Kolmapäev | B41: Lõunasöök | C41: Koostisosad | D41: Kogus, g | E41: Energia, kcal | F41: Süsivesikud, g | G41: Rasvad, g | H41: Valgud, g | J41: Kogus, g | K41: Energia, kcal | L41: Süsivesikud, g | M41: Rasvad, g | N41: Valgud, g
B42: Kana-kruubisupp (G) | C42: Kanaliha, odrakruup, kartul, porgand, mugulsibul, porrulauk, toiduõli, vesi, söögisool, must pipar | D42: 200 | E42: 94.4 | F42: 9.68 | G42: 4.2 | H42: 3.76 | J42: 300 | K42: =J42*E42/D42 -> 141.6 | L42: =K42*F42/E42 -> 14.52 | M42: =L42*G42/F42 -> 6.3 | N42: =M42*H42/G42 -> 5.64
A43: Taimetoit | B43: Külasupp roheliste hernestega (G) | C43: Kartul, valge peakapsas, mugulsibul, porgand, juurseller, kaalikas, odrakruup, vesi, loorber, söögisool, must pipar, toiduõli, herned, | D43: 200 | E43: 106.4 | F43: 15.52 | G43: 2.504 | H43: 3.176 | J43: 300 | K43: =J43*E43/D43 -> 159.6 | L43: =K43*F43/E43 -> 23.28 | M43: =L43*G43/F43 -> 3.756 | N43: =M43*H43/G43 -> 4.764
B44: Marjamuffin (G, L, M) | C44: Nisujahu, marjad, kanamuna, piim, toiduõli, suhkur, vanillisuhkur, küpsetuspulber | D44: 50 | E44: 132 | F44: 15.4 | G44: 6.85 | H44: 1.71 | J44: 50 | K44: =J44*E44/D44 -> 132 | L44: =K44*F44/E44 -> 15.4 | M44: =L44*G44/F44 -> 6.85 | N44: =M44*H44/G44 -> 1.71
...

Sheet Nädal_49
A1: #VALUE! | C1: #VALUE!
A6: KOOLILÕUNA MENÜÜ
A7: 49. nädal | B7: 30.11-04.12.2026 | D7: 4-9.klass | J7: 10-12.klass
A8: Esmaspäev | B8: Lõunasöök | C8: Koostisosad | D8: Kogus, g | E8: Energia, kcal | F8: Süsivesikud, g | G8: Rasvad, g | H8: Valgud, g | J8: Kogus, g | K8: Energia, kcal | L8: Süsivesikud, g | M8: Rasvad, g | N8: Valgud, g
B9: Kanalihatükid magushapus kastmes | C9: Kanaliha, vesi, porgand, mugulsibul, paprika, tomatipasta, ananassimahl, ananass, sidrunimahl, toiduõli, sojakaste (sojauba, vesi, söögisool, nisujahu), maisitärklis, küüslauk, suhkur, ingverijuur, söögisool, must pipar | D9: 120 | E9: 88.4 | F9: 5.66 | G9: 4.66 | H9: 5.48 | J9: 140 | K9: =J9*E9/D9 -> 117.86667 | L9: =K9*F9/E9 -> 7.5466667 | M9: =L9*G9/F9 -> 6.2133333 | N9: =M9*H9/G9 -> 7.3066667
A10: Taimetoit | B10: Magushapu tofupada seesamiseemnetega | C10: Tofu, porgand, paprika, küüslauk, ananass, tomatipasta, vesi, ingver, toiduõli, ananassimahl, maisitärklis, sidrunimahl, suhkur, söögisool, must pipar, petersell, sojakaste, seesamiseemned | D10: 120 | E10: 95.28 | F10: 14.28 | G10: 2.472 | H10: 2.916 | J10: 140 | K10: =J10*E10/D10 -> 127.04 | L10: =K10*F10/E10 -> 19.04 | M10: =L10*G10/F10 -> 3.296 | N10: =M10*H10/G10 -> 3.888
B11: Tatar, aurutatud (mahe) | C11: Tatar, söögisool, vesi | D11: 60 | E11: 48.36 | F11: 10.185 | G11: 0.3 | H11: 1.785 | J11: 100 | K11: =J11*E11/D11 -> 80.6 | L11: =K11*F11/E11 -> 16.975 | M11: =L11*G11/F11 -> 0.5 | N11: =M11*H11/G11 -> 2.975
B12: Kuskuss, aurutatud (G) | C12: Kuskuss, vesi, söögisool | D12: 60 | E12: 80.4 | F12: 16.32 | G12: 0 | H12: 2.48 | J12: 100 | K12: =J12*E12/D12 -> 134 | L12: =K12*F12/E12 -> 27.2 | M12: =L12*G12/F12 -> 0 | N12: =J12*H12/D12 -> 4.1333333
B13: Porgand, aurutatud | D13: 50 | E13: 17.2365 | F13: 4.522 | G13: 0.1065 | H13: 0.319 | J13: 100 | K13: =J13*E13/D13 -> 34.473 | L13: =K13*F13/E13 -> 9.044 | M13: =L13*G13/F13 -> 0.213 | N13: =M13*H13/G13 -> 0.638
B14: Peedi-õunasalat pohladega | C14: Keedupeet, õun, pohlad, suhkur, söögisool | D14: 100 | E14: 41.8 | F14: 5.2751196 | G14: 0.13733714 | H14: 1.6058376 | J14: 100 | K14: =J14*E14/D14 -> 41.8 | L14: =K14*F14/E14 -> 5.2751196 | M14: =L14*G14/F14 -> 0.13733714 | N14: =M14*H14/G14 -> 1.6058376
B15: Kapsas, roheline hernes, redis | D15: 100 | E15: 43.9 | F15: 5.55 | G15: 0.3 | H15: 2.86 | J15: 100 | K15: =J15*E15/D15 -> 43.9 | L15: =K15*F15/E15 -> 5.55 | M15: =L15*G15/F15 -> 0.3 | N15: =M15*H15/G15 -> 2.86
B16: Seemnesegu (mahe) | C16: Kõrvitsaseemned, päevalilleseemned, seesamiseemned | D16: 15 | E16: 91.31505 | F16: 1.92 | G16: 7.73505 | H16: 4.23495 | J16: 15 | K16: =J16*E16/D16 -> 91.31505 | L16: =K16*F16/E16 -> 1.92 | M16: =L16*G16/F16 -> 7.73505 | N16: =M16*H16/G16 -> 4.23495
B17: Külm jogurtikaste (L) | C17: Maitsestamata jogurt, söögisool, suhkur, till | D17: 10 | E17: 4.1117 | F17: 0.5458 | G17: 0.0491 | H17: 0.38 | J17: 10 | K17: =J17*E17/D17 -> 4.1117 | L17: =K17*F17/E17 -> 0.5458 | M17: =L17*G17/F17 -> 0.0491 | N17: =M17*H17/G17 -> 0.38
A18: PRIA | B18: Piimatooted (piim, keefir) (L) | D18: 50 | E18: 28.195 | F18: 2.4375 | G18: 1.285 | H18: 1.72 | J18: 50 | K18: =J18*E18/D18 -> 28.195 | L18: =K18*F18/E18 -> 2.4375 | M18: =L18*G18/F18 -> 1.285 | N18: =M18*H18/G18 -> 1.72
B19: Joogijogurt , maitsestatud (L) | C19: Maitsestamata jogurt, naturaalne marjapüree (maasikas, vaarikas, mustad sõstrad, punased sõstrad, mustikas), suhkur | D19: 50 | E19: 37.373 | F19: 6.0615 | G19: 0.75 | H19: 1.6 | J19: 50 | K19: =J19*E19/D19 -> 37.373 | L19: =K19*F19/E19 -> 6.0615 | M19: =L19*G19/F19 -> 0.75 | N19: =M19*H19/G19 -> 1.6
B20: Tee, suhkruta | C20: Teepuru, vesi | D20: 50 | E20: 0.2 | F20: 0 | G20: 0 | H20: 0.05 | J20: 50 | K20: =J20*E20/D20 -> 0.2 | L20: =K20*F20/E20 -> 0 | M20: 0 | N20: 0.05
B21: Rukkileiva (3 sorti) - ja sepikutoodete valik(G) | D21: 30 | E21: 73.86 | F21: 15.69 | G21: 0.6 | H21: 2.145 | J21: 30 | K21: =J21*E21/D21 -> 73.86 | L21: =K21*F21/E21 -> 15.69 | M21: =L21*G21/F21 -> 0.6 | N21: =M21*H21/G21 -> 2.145
B22: Valge redis | D22: 50 | E22: 9.45 | F22: 1.45 | G22: 0.05 | H22: 0.4 | J22: 50 | K22: =J22*E22/D22 -> 9.45 | L22: =K22*F22/E22 -> 1.45 | M22: =L22*G22/F22 -> 0.05 | N22: =M22*H22/G22 -> 0.4
B23: Pirn | D23: 50 | E23: 19.988 | F23: 5.97 | G23: 0 | H23: 0.15 | J23: 50 | K23: =J23*E23/D23 -> 19.988 | L23: =K23*F23/E23 -> 5.97 | M23: =L23*G23/F23 -> 0 | N23: 0.15
A24: Kokku: | E24: =SUM(E9,E11:E23) -> 659.47908 | F24: =SUM(F9,F11:F23) -> 95.887253 | G24: =SUM(G9,G11:G23) -> 16.956154 | H24: =SUM(H9,H11:H23) -> 27.863788 | K24: =SUM(K9,K11:K23) -> 717.13242 | L24: =SUM(L9,L11:L23) -> 105.66559 | M24: =SUM(M9,M11:M23) -> 17.83282 | N24: =SUM(N9,N11:N23) -> 30.198788
A25: Teisipäev | B25: Lõunasöök | C25: Koostisosad | D25: Kogus, g | E25: Energia, kcal | F25: Süsivesikud, g | G25: Rasvad, g | H25: Valgud, g | J25: Kogus, g | K25: Energia, kcal | L25: Süsivesikud, g | M25: Rasvad, g | N25: Valgud, g
B26: Värskekapsasupp veiselihaga | C26: Veiseliha, kapsas, kartul, porgand, mugulsibul, petersell, loorber, must pipar, toiduõli, söögisool, vesi, sidrunimahl | D26: 200 | E26: 156 | F26: 7.83 | G26: 10.3 | H26: 6.93 | J26: 300 | K26: =J26*E26/D26 -> 234 | L26: =K26*F26/E26 -> 11.745 | M26: =L26*G26/F26 -> 15.45 | N26: =M26*H26/G26 -> 10.395
A27: Taimetoit | B27: Värskekapsasupp kikerhernestega (mahe) | C27: Kikerherned, kapsas, porgand, kartul, mugulsibul, vesi, loorber, must pipar, toiduõli, petersell | D27: 200 | E27: 150.4 | F27: 13.32 | G27: 7.28 | H27: 4.52 | J27: 300 | K27: =J27*E27/D27 -> 225.6 | L27: =K27*F27/E27 -> 19.98 | M27: =L27*G27/F27 -> 10.92 | N27: =M27*H27/G27 -> 6.78
B28: Hapukoor R 10% (L) | D28: 30 | E28: 35.52 | F28: 1.23 | G28: 3 | H28: 0.9 | J28: 30 | K28: =J28*E28/D28 -> 35.52 | L28: =K28*F28/E28 -> 1.23 | M28: =L28*G28/F28 -> 3 | N28: =M28*H28/G28 -> 0.9
B29: Virsiku-kohupiimakreem (L) | C29: Maitsestamata kohupiim, maitsestamata jogurt, vahukoor, suhkur, virsik | D29: 100 | E29: 164 | F29: 14.5 | G29: 9.26 | H29: 5.48 | J29: 100 | K29: =J29*E29/D29 -> 164 | L29: =K29*F29/E29 -> 14.5 | M29: =L29*G29/F29 -> 9.26 | N29: =M29*H29/G29 -> 5.48
B30: Banaani-kakaojogurt (L) | C30: Maitsestamata jogurt, banaan, kakaopulber, suhkur, vanillisuhkur, tšiiaseemned | D30: 100 | E30: 80.4 | F30: 10.7 | G30: 2.54 | H30: 3.14 | J30: 100 | K30: =J30*E30/D30 -> 80.4 | L30: =K30*F30/E30 -> 10.7 | M30: =L30*G30/F30 -> 2.54 | N30: =M30*H30/G30 -> 3.14
A31: PRIA | B31: Piimatooted (piim, keefir) (L) | D31: 50 | E31: 28.195 | F31: 2.4375 | G31: 1.285 | H31: 1.72 | J31: 50 | K31: =J31*E31/D31 -> 28.195 | L31: =K31*F31/E31 -> 2.4375 | M31: =L31*G31/F31 -> 1.285 | N31: =M31*H31/G31 -> 1.72
B32: Mahl (erinevad maitsed) | C32: Rõngu suhkruvaba mahlakonsentraat 100% naturaalne, vesi | D32: 50 | E32: 24.2644 | F32: 5.891 | G32: 0.025 | H32: 0.1815 | J32: 50 | K32: =J32*E32/D32 -> 24.2644 | L32: =K32*F32/E32 -> 5.891 | M32: =L32*G32/F32 -> 0.025 | N32: =M32*H32/G32 -> 0.1815
B33: Joogijogurt , maitsestatud (L) | C33: Maitsestamata jogurt, naturaalne marjapüree (maasikas, vaarikas, mustad sõstrad, punased sõstrad, mustikas), suhkur | D33: 50 | E33: 37.373 | F33: 6.0615 | G33: 0.75 | H33: 1.6 | J33: 50 | K33: =J33*E33/D33 -> 37.373 | L33: =K33*F33/E33 -> 6.0615 | M33: =L33*G33/F33 -> 0.75 | N33: =M33*H33/G33 -> 1.6
B34: Tee, suhkruta | C34: Teepuru, vesi | D34: 50 | E34: 0.2 | F34: 0 | G34: 0 | H34: 0.05 | J34: 50 | K34: =J34*E34/D34 -> 0.2 | L34: =K34*F34/E34 -> 0 | M34: 0 | N34: 0.05
B35: Rukkileiva (3 sorti) - ja sepikutoodete valik(G) | D35: 30 | E35: 73.86 | F35: 15.69 | G35: 0.6 | H35: 2.145 | J35: 30 | K35: =J35*E35/D35 -> 73.86 | L35: =K35*F35/E35 -> 15.69 | M35: =L35*G35/F35 -> 0.6 | N35: =M35*H35/G35 -> 2.145
B36: Porgand | D36: 50 | E36: 16.2 | F36: 2.8 | G36: 0.1 | H36: 0.3 | J36: 50 | K36: =J36*E36/D36 -> 16.2 | L36: =K36*F36/E36 -> 2.8 | M36: =L36*G36/F36 -> 0.1 | N36: =M36*H36/G36 -> 0.3
B37: Õun (mahe) | D37: 50 | E37: 24.038 | F37: 6.74 | G37: 0 | H37: 0 | J37: 50 | K37: =J37*E37/D37 -> 24.038 | L37: =K37*F37/E37 -> 6.74 | M37: =L37*G37/F37 -> 0 | N37: 0
A38: Kokku: | E38: =SUM(E26,E28:E37) -> 640.0504 | F38: =SUM(F26,F28:F37) -> 73.88 | G38: =SUM(G26,G28:G37) -> 27.86 | H38: =SUM(H26,H28:H37) -> 22.4465 | K38: =SUM(K26,K28:K37) -> 718.0504 | L38: =SUM(L26,L28:L37) -> 77.795 | M38: =SUM(M26,M28:M37) -> 33.01 | N38: =SUM(N26,N28:N37) -> 25.9115
A39: Kolmapäev | B39: Lõunasöök | C39: Koostisosad | D39: Kogus, g | E39: Energia, kcal | F39: Süsivesikud, g | G39: Rasvad, g | H39: Valgud, g | J39: Kogus, g | K39: Energia, kcal | L39: Süsivesikud, g | M39: Rasvad, g | N39: Valgud, g
B40: Paneeritud ahjukala (G, PT) | C40: Valge kala, nisujahu, kanamuna, riivsai, sidrunikoor, must pipar, toiduõli, söögisool | D40: 60 | E40: 119.0316 | F40: 7.059 | G40: 4.6464 | H40: 12.5106 | J40: 70 | K40: =J40*E40/D40 -> 138.8702 | L40: =K40*F40/E40 -> 8.2355 | M40: =L40*G40/F40 -> 5.4208 | N40: =M40*H40/G40 -> 14.5957
A41: Taimetoit | B41: Tatra-seenekotletid (G, PT) (mahe) | C41: Tatar, mugulsibul, toiduõli, riivsai, kanamuna, täisteranisujahu, šampinjon, söögisool, must pipar, jahvatatud paprika | D41: 60 | E41: 81.0066 | F41: 12.6918 | G41: 2.331 | H41: 3.1614 | J41: 70 | K41: =J41*E41/D41 -> 94.5077 | L41: =K41*F41/E41 -> 14.8071 | M41: =L41*G41/F41 -> 2.7195 | N41: =M41*H41/G41 -> 3.6883
B42: Külm hapukoorekaste sidruniga (L) | C42: Hapukoor, sidrunimahl, suhkur, söögisool | D42: 50 | E42: 58.889 | F42: 2.4905 | G42: 4.795 | H42: 1.444 | J42: 50 | K42: =J42*E42/D42 -> 58.889 | L42: =K42*F42/E42 -> 2.4905 | M42: =L42*G42/F42 -> 4.795 | N42: =M42*H42/G42 -> 1.444
B43: Kartulipuder (L) | C43: Kartul, või, piim, söögisool, vesi | D43: 60 | E43: 45.9204 | F43: 9.5076 | G43: 0.366 | H43: 1.4178 | J43: 100 | K43: =J43*E43/D43 -> 76.534 | L43: =K43*F43/E43 -> 15.846 | M43: =L43*G43/F43 -> 0.61 | N43: =M43*H43/G43 -> 2.363
B44: Riis, aurutatud | C44: Riis, vesi, söögisool | D44: 60 | E44: 94.6212 | F44: 16.1256 | G44: 2.8452 | H44: 1.3662 | J44: 100 | K44: =J44*E44/D44 -> 157.702 | L44: =K44*F44/E44 -> 26.876 | M44: =L44*G44/F44 -> 4.742 | N44: =M44*H44/G44 -> 2.277
...

Sheet Nädal_50
A1: #VALUE! | C1: #VALUE!
A6: KOOLILÕUNA MENÜÜ
A7: 50. nädal | B7: 07.12-11.12.2026 | D7: 4-9.klass | J7: 10-12.klass
A8: Esmaspäev | B8: Lõunasöök | C8: Koostisosad | D8: Kogus, g | E8: Energia, kcal | F8: Süsivesikud, g | G8: Rasvad, g | H8: Valgud, g | J8: Kogus, g | K8: Energia, kcal | L8: Süsivesikud, g | M8: Rasvad, g | N8: Valgud, g
B9: Böfstrooganov (G, L) (mahe) | C9: Veiseliha, hapukoor, mugulsibul, tomatipüree, nisujahu, vesi, toiduõli, sinepipulber, petersell,söögisool, must pipar | D9: 120 | E9: 144 | F9: 5.69 | G9: 11.3 | H9: 4.79 | J9: 140 | K9: =J9*E9/D9 -> 168 | L9: =K9*F9/E9 -> 6.6383333 | M9: =L9*G9/F9 -> 13.183333 | N9: =M9*H9/G9 -> 5.5883333
A10: Taimetoit | B10: Seenestroogonov (G, L) | C10: Tomatipüree, vesi, hapukoor, nisujahu, mugulsibul, toiduõli, šampinjonid | D10: 120 | E10: 71.88 | F10: 5.004 | G10: 4.944 | H10: 1.04976 | J10: 140 | K10: =J10*E10/D10 -> 83.86 | L10: =K10*F10/E10 -> 5.838 | M10: =L10*G10/F10 -> 5.768 | N10: =M10*H10/G10 -> 1.22472
B11: Tatar, aurutatud (mahe) | C11: Tatar, vesi, söögisool | D11: 60 | E11: 48.36 | F11: 10.185 | G11: 0.3 | H11: 1.785 | J11: 100 | K11: =J11*E11/D11 -> 80.6 | L11: =K11*F11/E11 -> 16.975 | M11: =L11*G11/F11 -> 0.5 | N11: =M11*H11/G11 -> 2.975
B12: Riis, aurutatud | C12: Riis, vesi, söögisool | D12: 60 | E12: 94.6212 | F12: 16.1256 | G12: 2.8452 | H12: 1.3662 | J12: 100 | K12: =J12*E12/D12 -> 157.702 | L12: =K12*F12/E12 -> 26.876 | M12: =L12*G12/F12 -> 4.742 | N12: =M12*H12/G12 -> 2.277
B13: Peet, röstitud | C13: Peet, toiduõli, tüümian, värske | D13: 50 | E13: 30.42 | F13: 6.2535 | G13: 0.5615 | H13: 0.8415 | J13: 100 | K13: =J13*E13/D13 -> 60.84 | L13: =K13*F13/E13 -> 12.507 | M13: =L13*G13/F13 -> 1.123 | N13: =M13*H13/G13 -> 1.683
B14: Kapsa-paprikasalat | C14: Valge peakapsas, paprika | D14: 50 | E14: 14.9 | F14: 2.43 | G14: 0.06 | H14: 0.59 | J14: 100 | K14: =J14*E14/D14 -> 29.8 | L14: =K14*F14/E14 -> 4.86 | M14: =L14*G14/F14 -> 0.12 | N14: =M14*H14/G14 -> 1.18
B15: Porgand, porrulauk, lillkapsas | D15: 100 | E15: 29.9 | F15: 4.65 | G15: 0.2 | H15: 1.47 | J15: 100 | K15: =J15*E15/D15 -> 29.9 | L15: =K15*F15/E15 -> 4.65 | M15: =L15*G15/F15 -> 0.2 | N15: =M15*H15/G15 -> 1.47
B16: Seemnesegu (mahe) | C16: Kõrvitsaseemned, päevalilleseemned, seesamiseemned | D16: 15 | E16: 91.31505 | F16: 1.92 | G16: 7.73505 | H16: 4.23495 | J16: 15 | K16: =J16*E16/D16 -> 91.31505 | L16: =K16*F16/E16 -> 1.92 | M16: =L16*G16/F16 -> 7.73505 | N16: =M16*H16/G16 -> 4.23495
B17: Mahla-õlikaste | C17: Õunamahl 100% naturaalne, õunaäädikas, sinepipulber, söögisool, petersell, värske, toiduõli | D17: 5 | E17: 32.1894 | F17: 0.09705 | G17: 3.53055 | H17: 0.01355 | J17: 10 | K17: =J17*E17/D17 -> 64.3788 | L17: =K17*F17/E17 -> 0.1941 | M17: =L17*G17/F17 -> 7.0611 | N17: =M17*H17/G17 -> 0.0271
A18: PRIA | B18: Piimatooted (piim, keefir) (L) | D18: 50 | E18: 28.195 | F18: 2.4375 | G18: 1.285 | H18: 1.72 | J18: 50 | K18: =J18*E18/D18 -> 28.195 | L18: =K18*F18/E18 -> 2.4375 | M18: =L18*G18/F18 -> 1.285 | N18: =M18*H18/G18 -> 1.72
B19: Joogijogurt , maitsestatud (L) | C19: Maitsestamata jogurt, naturaalne marjapüree (maasikas, vaarikas, mustad sõstrad, punased sõstrad, mustikas), suhkur | D19: 50 | E19: 37.373 | F19: 6.0615 | G19: 0.75 | H19: 1.6 | J19: 50 | K19: =J19*E19/D19 -> 37.373 | L19: =K19*F19/E19 -> 6.0615 | M19: =L19*G19/F19 -> 0.75 | N19: =M19*H19/G19 -> 1.6
B20: Tee, suhkruta | C20: Teepuru, vesi | D20: 50 | E20: 0.2 | F20: 0 | G20: 0 | H20: 0.05 | J20: 50 | K20: =J20*E20/D20 -> 0.2 | L20: =K20*F20/E20 -> 0 | M20: 0 | N20: 0.05
B21: Rukkileiva (3 sorti) - ja sepikutoodete valik(G) | D21: 50 | E21: 123.1 | F21: 26.15 | G21: 1 | H21: 3.575 | J21: 50 | K21: =J21*E21/D21 -> 123.1 | L21: =K21*F21/E21 -> 26.15 | M21: =L21*G21/F21 -> 1 | N21: =M21*H21/G21 -> 3.575
B22: Valge redis | D22: 50 | E22: 9.45 | F22: 1.45 | G22: 0.05 | H22: 0.4 | J22: 50 | K22: =J22*E22/D22 -> 9.45 | L22: =K22*F22/E22 -> 1.45 | M22: =L22*G22/F22 -> 0.05 | N22: =M22*H22/G22 -> 0.4
B23: Õun (mahe) | D23: 50 | E23: 24.038 | F23: 6.74 | G23: 0 | H23: 0 | J23: 50 | K23: =J23*E23/D23 -> 24.038 | L23: =K23*F23/E23 -> 6.74 | M23: =L23*G23/F23 -> 0 | N23: 0
A24: Kokku: | E24: =SUM(E9,E11:E23) -> 708.06165 | F24: =SUM(F9,F11:F23) -> 90.19015 | G24: =SUM(G9,G11:G23) -> 29.6173 | H24: =SUM(H9,H11:H23) -> 22.4362 | K24: =SUM(K9,K11:K23) -> 904.89185 | L24: =SUM(L9,L11:L23) -> 117.45943 | M24: =SUM(M9,M11:M23) -> 37.749483 | N24: =SUM(N9,N11:N23) -> 26.780383
A25: Teisipäev | B25: Lõunasöök | C25: Koostisosad | D25: Kogus, g | E25: Energia, kcal | F25: Süsivesikud, g | G25: Rasvad, g | H25: Valgud, g | J25: Kogus, g | K25: Energia, kcal | L25: Süsivesikud, g | M25: Rasvad, g | N25: Valgud, g
B26: Hakkliha-riisipall (M, PT) | C26: Sea-veise segahakkliha, riis, mugulsibul, kanamuna, toiduõli, vesi, söögisool, must pipar, jahvatatud paprika, petersell, kuivatatud pune, kuivatatud majoraan | D26: 50 | E26: 81.174 | F26: 2.388 | G26: 5.3405 | H26: 6.163 | J26: 60 | K26: =J26*E26/D26 -> 97.4088 | L26: =K26*F26/E26 -> 2.8656 | M26: =L26*G26/F26 -> 6.4086 | N26: =M26*H26/G26 -> 7.3956
A27: Taimetoit | B27: Juurviljakotlet (G, M, PT) (mahe) | C27: Pastinaak, porgand, kartul, kanamuna, täistera speltanisujahu, söögisool, must pipar, purustatud või jahvatatud | D27: 50 | E27: 70.136 | F27: 13.995 | G27: 0.948 | H27: 2.6905 | J27: 60 | K27: =J27*E27/D27 -> 84.1632 | L27: =K27*F27/E27 -> 16.794 | M27: =L27*G27/F27 -> 1.1376 | N27: =M27*H27/G27 -> 3.2286
B28: Kartul, aurutatud (mahe) | D28: 60 | E28: 43.5 | F28: 9.9 | G28: 0.06 | H28: 1.14 | J28: 100 | K28: =J28*E28/D28 -> 72.5 | L28: =K28*F28/E28 -> 16.5 | M28: =L28*G28/F28 -> 0.1 | N28: =M28*H28/G28 -> 1.9
B29: Bulgur, keedetud (G) | C29: Bulgur (Durum nisu), vesi, söögisool | D29: 60 | E29: 70.0788 | F29: 14.9376 | G29: 0.4524 | H29: 2.322 | J29: 100 | K29: =J29*E29/D29 -> 116.798 | L29: =K29*F29/E29 -> 24.896 | M29: =L29*G29/F29 -> 0.754 | N29: =M29*H29/G29 -> 3.87
B30: Porgand, röstitud | C30: Porgand, toiduõli, tüümian, söögisool, mesi | D30: 50 | E30: 30.1 | F30: 3.77 | G30: 1.12 | H30: 0.363 | J30: 100 | K30: =J30*E30/D30 -> 60.2 | L30: =K30*F30/E30 -> 7.54 | M30: =L30*G30/F30 -> 2.24 | N30: =M30*H30/G30 -> 0.726
B31: Soe valge kaste (G, L) | C31: Toiduõli, nisujahu, piim, söögisool, toidukoor | D31: 50 | E31: 59.126 | F31: 4.077 | G31: 3.946 | H31: 1.873 | J31: 100 | K31: =J31*E31/D31 -> 118.252 | L31: =K31*F31/E31 -> 8.154 | M31: =L31*G31/F31 -> 7.892 | N31: =M31*H31/G31 -> 3.746
B32: Peedisalat marineeritud sibulaga | C32: Peet, marineeritud sibul | D32: 50 | E32: 29.8 | F32: 4.14 | G32: 0.836 | H32: 0.916 | J32: 100 | K32: =J32*E32/D32 -> 59.6 | L32: =K32*F32/E32 -> 8.28 | M32: =L32*G32/F32 -> 1.672 | N32: =M32*H32/G32 -> 1.832
B33: Salatisegu, mais, nuikapsas | C33: Salatisegu (Rooma salat, jääsalat, rukola, spinat), mais, nuikapsas | D33: 100 | E33: 42.5 | F33: 5.92 | G33: 0.69 | H33: 1.81 | J33: 100 | K33: =J33*E33/D33 -> 42.5 | L33: =K33*F33/E33 -> 5.92 | M33: =L33*G33/F33 -> 0.69 | N33: =M33*H33/G33 -> 1.81
B34: Seemnesegu (mahe) | C34: Kõrvitsaseemned, päevalilleseemned, seesamiseemned | D34: 15 | E34: 91.31505 | F34: 1.92 | G34: 7.73505 | H34: 4.23495 | J34: 10 | K34: =J34*E34/D34 -> 60.8767 | L34: =K34*F34/E34 -> 1.28 | M34: =L34*G34/F34 -> 5.1567 | N34: =M34*H34/G34 -> 2.8233
B35: Mahla-õlikaste | C35: Õunamahl 100% naturaalne, õunaäädikas, sinepipulber, söögisool, petersell, toiduõli | D35: 5 | E35: 32.1894 | F35: 0.09705 | G35: 3.53055 | H35: 0.01355 | J35: 5 | K35: =J35*E35/D35 -> 32.1894 | L35: =K35*F35/E35 -> 0.09705 | M35: =L35*G35/F35 -> 3.53055 | N35: =M35*H35/G35 -> 0.01355
A36: PRIA | B36: Piimatooted (piim, keefir) (L) | D36: 50 | E36: 28.195 | F36: 2.4375 | G36: 1.285 | H36: 1.72 | J36: 50 | K36: =J36*E36/D36 -> 28.195 | L36: =K36*F36/E36 -> 2.4375 | M36: =L36*G36/F36 -> 1.285 | N36: =M36*H36/G36 -> 1.72
B37: Joogijogurt , maitsestatud (L) | C37: Maitsestamata jogurt, naturaalne marjapüree (maasikas, vaarikas, mustad sõstrad, punased sõstrad, mustikas), suhkur | D37: 50 | E37: 37.373 | F37: 6.0615 | G37: 0.75 | H37: 1.6 | J37: 50 | K37: =J37*E37/D37 -> 37.373 | L37: =K37*F37/E37 -> 6.0615 | M37: =L37*G37/F37 -> 0.75 | N37: =M37*H37/G37 -> 1.6
B38: Tee, suhkruta | C38: Teepuru, vesi | D38: 50 | E38: 0.2 | F38: 0 | G38: 0 | H38: 0.05 | J38: 50 | K38: =J38*E38/D38 -> 0.2 | L38: =K38*F38/E38 -> 0 | M38: 0 | N38: 0.05
B39: Rukkileiva (3 sorti) - ja sepikutoodete valik(G) | D39: 50 | E39: 123.1 | F39: 26.15 | G39: 1 | H39: 3.575 | J39: 30 | K39: =J39*E39/D39 -> 73.86 | L39: =K39*F39/E39 -> 15.69 | M39: =L39*G39/F39 -> 0.6 | N39: =M39*H39/G39 -> 2.145
B40: Porgand | D40: 50 | E40: 16.2 | F40: 2.8 | G40: 0.1 | H40: 0.3 | J40: 50 | K40: =J40*E40/D40 -> 16.2 | L40: =K40*F40/E40 -> 2.8 | M40: =L40*G40/F40 -> 0.1 | N40: =M40*H40/G40 -> 0.3
B41: Pirn | D41: 50 | E41: 19.988 | F41: 5.97 | G41: 0 | H41: 0.15 | J41: 50 | K41: =J41*E41/D41 -> 19.988 | L41: =K41*F41/E41 -> 5.97 | M41: =L41*G41/F41 -> 0 | N41: 0.15
A42: Kokku: | E42: =SUM(E26,E28:E41) -> 704.83925 | F42: =SUM(F26,F28:F41) -> 90.56865 | G42: =SUM(G26,G28:G41) -> 26.8455 | H42: =SUM(H26,H28:H41) -> 26.2305 | K42: =SUM(K26:K41) -> 920.3041 | L42: =SUM(L26:L41) -> 125.28565 | M42: =SUM(M26:M41) -> 32.31645 | N42: =SUM(N26:N41) -> 33.31005
A43: Kolmapäev | B43: Lõunasöök | C43: Koostisosad | D43: Kogus, g | E43: Energia, kcal | F43: Süsivesikud, g | G43: Rasvad, g | H43: Valgud, g | J43: Kogus, g | K43: Energia, kcal | L43: Süsivesikud, g | M43: Rasvad, g | N43: Valgud, g
